BEGIN:VCALENDAR
VERSION:2.0
PRODID:-//IP.Board Calendar 4.0.13.1//EN
METHOD:PUBLISH
CALSCALE:GREGORIAN
X-WR-CALNAME:В этот день в прошлом
BEGIN:VTIMEZONE
TZID:Europe/London
TZURL:http://tzurl.org/zoneinfo/Europe/London
X-LIC-LOCATION:Europe/London
BEGIN:DAYLIGHT
TZOFFSETFROM:+0000
TZOFFSETTO:+0100
TZNAME:BST
DTSTART:20150329T020000Z
RRULE:FREQ=YEARLY;BYMONTH=3;BYDAY=-1SU
END:DAYLIGHT
BEGIN:STANDARD
TZOFFSETFROM:+0100
TZOFFSETTO:+0000
TZNAME:GMT
DTSTART:20151025T020000Z
RRULE:FREQ=YEARLY;BYMONTH=10;BYDAY=-1SU
END:STANDARD
END:VTIMEZONE
BEGIN:VEVENT
SUMMARY:Развилки Дня
DTSTAMP:20150511T175407Z
SEQUENCE:0
UID:5e5cd90baca6fcd4bf15fa318f6a2281@172.17.0.3
ORGANIZER;CN="ясмин джакмич":fai@fai.org.ru
DESCRIPTION:\n\n9 мая53 до н. э
	. — войска Кр
	асса разбиты парфя
	нами в битве при Ка
	ррах. Сам полков
	одец погиб.\n150
	2 — Христофор 
	Колумб с неболь
	шой флотилией из
	 четырёх судов и 
	экипажем в 150 чел
	овек отплыл из
	 Кадиса в своё после
	днее\, четвёртое\, 
	путешествие в А
	мерику.\n1701 —
	 После длив
	шегося почти
	 год расследо
	вания проход
	ивший в течени
	е двух дней су
	д\, признал 
	капитана Уи
	льяма Кидда 
	виновным в п
	иратстве и убийств
	е канонира Мура. 
	Через две недели
	 Кидда повесили.\n1712 —
	 Основан Тульский 
	оружейный завод.\
	n1719 — Пётр I 
	повелел изгна
	ть из Российской
	 империи предст
	авителей ордена
	 иезуитов.\n175
	5 — В ден
	ь праздн
	ования 
	годовщи
	ны коро
	нации и
	мператр
	ицы Ели
	заветы 
	Петров
	ны прошл
	а церемо
	ния тор
	жествен
	ного откры
	тия Москов
	ского униве
	рситета в з
	дании «Аптек
	арского дома»
	. Этот день будет\nу
	ниверситетским пр
	аздником\, пока Никола
	й I в 1835 году не по
	велит перенести его на
	 12 января — день подп
	исания указа.\n1791 —
	 Г. А. Потемкин 
	устроил для 
	Екатерины I
	I грандиозный пра
	здник в только что
	 отстроенном Тавр
	ическом дворце.\n1
	832 — 15 вождей 
	индейцев с
	еминолов п
	одписали дог
	овор о продаж
	е их земли в
	о Флориде правите
	льству США и уходе
	 индейцев за реку
	 Миссисипи.\n1855 — Одно
	 из первых упоминаний
	 о самиздате в России
	.\n1911 — Русский уч
	ёный Б. Л. Розинг п
	ровёл первую в 
	мире телевизионную
	 передачу.\n1913 — Перв
	ый полёт гидроплана С-
	10 «Гидро» И. И. Сико
	рского.\n1913 — 
	На экраны 
	Франции в
	ышел филь
	м «Фантом
	ас» — перв
	ая в длинном ря
	ду экранизация 
	похождений злове
	щего преступника.
	\n1915 — Вторая битва п
	ри Артуа во время
	 Первой мировой войны.\n1
	926 — Американский пилот Ф
	лойд Беннетт (Floyd Ben
	nett) и известный полярный исслед
	ователь Ричард Берд (Richard E
	velyn Byrd) в роли ш
	турмана на трёхмоторн
	ом самолёте конструкции Антона Фоккера 
	(Fokker F.VIIA/3m Josephine Ford) первы
	ми пролетели над С
	еверным полюсом Земли.
	 На это ушло 15 часов 3
	0 минут лётного 
	времени.\n1936 — Мусс
	олини объявил о
	 присоединении 
	Эфиопии к Италии
	.\n1941 — Совет
	ским дипл
	оматам пр
	исвоены ра
	нги\, анал
	огичные западно
	европейским (упо
	треблялись только
	 за пределами СССР
	).\n1941 — Под давл
	ением Японии
	 Режим Виши п
	одписывает м
	ирный договор\, по
	 которому Таиланду 
	отошёл Лаос и част
	ь Камбоджи.\n194
	4 — Войсками 4-го У
	краинского фронта осво
	бождён Севастополь.\n
	1945    8 мая в 22:43 по цент
	ральноевропейскому
	 времени (9 мая в 0
	:43 по москов
	скому врем
	ени) в рай
	оне Берл
	ина Карлс
	хорсте г
	енерал-фе
	льдмаршал
	 Вильгельм К
	ейтель подп
	исал Акт о 
	безоговор
	очной\nкапи
	туляции Германии
	\, который подтверд
	ил время прекращ
	ения огня — 8 мая в 23:01
	 по центральноевроп
	ейскому времени (9 м
	ая в 01:01 по моско
	вскому време
	ни). От герм
	анской сто
	роны акт т
	акже\nподп
	исали: пр
	едставит
	ель люфтв
	аффе — ген
	ерал-полк
	овник Шту
	мпф и кри
	гсмарине
	 — адмирал
	 фон Фридеб
	ург. Безог
	оворочную к
	апитуляцию п
	риняли марш
	ал Жуков (о
	т советск
	ой сторон
	ы) и заме
	ститель\nг
	лавнокома
	ндующего с
	оюзными эк
	спедиционными 
	силами Теддер.
	\n    На Централь
	ном аэродроме имен
	и М. В. Фрунзе призе
	млился Ли-2 с экип
	ажем А. И. Сем
	енкова\, до
	ставивший в
	 Москву Акт о
	 безоговорочн
	ой капитуляц
	ии нацистской
	 Германии.195
	0 — Начал
	ись первы
	е в Велик
	обритани
	и регуляр
	ные пасс
	ажирские
	 рейсы вер
	толётов во
	 время про
	ведения Б
	ританской
	 промышлен
	ной ярмарки.
	 Полёты между 
	Лондоном и Би
	рмингемом выполня
	лись вертолётом\nS-5
	1 производства фирмы «В
	естланд».\n1955 — ФРГ п
	ринята в НАТО.\n1962 — Пе
	рвый полёт в США вертолё
	та-крана S-64 И. И. Сикор
	ского.\n1976 — Ре
	зня Монтехур
	ра в Испании\, нападение ультрапр
	авых на фестиваль левых сил. \n
DTSTART;VALUE=DATE:20150508
END:VEVENT
END:VCALENDAR
