BEGIN:VCALENDAR
VERSION:2.0
PRODID:-//IP.Board Calendar 4.0.13.1//EN
METHOD:PUBLISH
CALSCALE:GREGORIAN
X-WR-CALNAME:Революция. 100 лет. День за днем. 
BEGIN:VTIMEZONE
TZID:Europe/London
TZURL:http://tzurl.org/zoneinfo/Europe/London
X-LIC-LOCATION:Europe/London
BEGIN:DAYLIGHT
TZOFFSETFROM:+0000
TZOFFSETTO:+0100
TZNAME:BST
DTSTART:20170326T020000Z
RRULE:FREQ=YEARLY;BYMONTH=3;BYDAY=-1SU
END:DAYLIGHT
BEGIN:STANDARD
TZOFFSETFROM:+0100
TZOFFSETTO:+0000
TZNAME:GMT
DTSTART:20171029T020000Z
RRULE:FREQ=YEARLY;BYMONTH=10;BYDAY=-1SU
END:STANDARD
END:VTIMEZONE
BEGIN:VEVENT
SUMMARY:22 февраля (7 марта) 1917 г.
DTSTAMP:20170307T115820Z
SEQUENCE:0
UID:f6ba77ef8361df55f3617f3ed41875d1@172.17.0.3
ORGANIZER;CN="Doctor Haider":fai@fai.org.ru
DESCRIPTION:\n22 февраля (7 марта)2
	2 февраля (7 марта)
	 Николай II у
	езжает из 
	Петроград
	а в Могилёв
	 в Ставку 
	Верховно
	го главно
	командующе
	го. Перед отъе
	здом он получи
	л заверения мин
	истра внутренних
	 дел А. Д. Протопо
	пова о том\, чт
	о ситуация в 
	столице полн
	остью под его
	 контролем\;
	 арестовав в
	 конце янва
	ря членов 
	Рабочей г
	руппы Центр
	ального ВП
	К\, занимавши
	хся подготовко
	й массовой демо
	нстрации\, запл
	анированной на 
	14 февраля\, де
	нь открытия но
	вой сессии Гос
	думы\, Протоп
	опов был абсо
	лютно уверен
	\, что ему удало
	сь подавить рево
	люцию в зародыше. Дн
	евник Николая II\,зап
	ись от 22 февраля (7
	 марта)Читал\,
	 укладывался 
	и принял: Мам
	антова\, Куль
	чицкого и До
	бровольского
	. Миша завтрак
	ал. Простился с
	о всем милым сво
	им семейством и пое
	хал с Аликс к Знамен
	ию\, а затем на станц
	ию. В 2 часа уехал н
	а Ставку. День стоя
	л солнечный\, мороз
	ный. Читал\, скучал
	 и отдыхал\; не вы
	ходил из-за ка
	шля. Из \"Зап
	исок корпусн
	ого врача\" Ва
	силия Кравк
	ова:Полнолу
	ние. Разгов
	ор с корне
	том Зайч
	енко (в ми
	ру — моск
	овским промы
	шленником-до
	мовладельцем-
	домостроителем)
	. Убежден он\, чт
	о в России буд
	ет и должна быт
	ь революция\, о
	синое гнездо\,
	 руководящее с
	удьбами России
	\, должно быть из
	ничтожено\, арм
	ии-де для защ
	иты престола 
	теперь нет\, выс
	ший же командн
	ый состав склонит
	ся в ту сторону\,
	 где ему будет л
	ично выгодней\, 
	сам-де он с уд
	овольствие
	м бы из Росси
	и эмигриров
	ал туда\, гд
	е существ
	ует респ
	убликанск
	ий режим.Из г
	азетных отч
	етов о засе
	даниях Гос
	ударственной
	 думы вижу\, чт
	о министр зем
	леделия Риттих — 
	человек деловой\,
	 толковый и ум
	ный\, могущий\
	, пожалуй\, 
	стать геро
	ем нашего в
	ремени…Сл
	ужба «царск
	ая»\; как дик
	о теперь для
	 меня звучит 
	это прилагате
	льное — «царск
	ая»\, отчего не
	 «отечественн
	ая»?! Сам царь-
	то должен быт
	ь прежде всего
	 слугой отечес
	тва! Ох уж эти
	 мне монархи!
	 Хороши они
	 лишь когда я
	вляются не м
	онархами одн
	их лишь вне
	шних привиле
	гий\, а монар
	хами талант
	ов и истинными 
	властителями у
	ма и сердца всег
	о общества и на
	рода! А не в 
	роли лишь
	 штемпеля
	\, контра
	сигниру
	ющего и 
	санкцио
	нирующег
	о преступ
	ные акты
	 бесчест
	ных царед
	ворцев. Си
	туация в П
	етрограде
	:Правление 
	Путиловско
	го завода в 
	ответ на заб
	астовку объявило локаут. Путиловск
	ий завод не функционирует.\n
DTSTART;VALUE=DATE:20170307
END:VEVENT
END:VCALENDAR
