BEGIN:VCALENDAR
VERSION:2.0
PRODID:-//IP.Board Calendar 4.0.13.1//EN
METHOD:PUBLISH
CALSCALE:GREGORIAN
X-WR-CALNAME:Революция. 100 лет. День за днем. 
BEGIN:VTIMEZONE
TZID:Europe/London
TZURL:http://tzurl.org/zoneinfo/Europe/London
X-LIC-LOCATION:Europe/London
BEGIN:DAYLIGHT
TZOFFSETFROM:+0000
TZOFFSETTO:+0100
TZNAME:BST
DTSTART:20170326T020000Z
RRULE:FREQ=YEARLY;BYMONTH=3;BYDAY=-1SU
END:DAYLIGHT
BEGIN:STANDARD
TZOFFSETFROM:+0100
TZOFFSETTO:+0000
TZNAME:GMT
DTSTART:20171029T020000Z
RRULE:FREQ=YEARLY;BYMONTH=10;BYDAY=-1SU
END:STANDARD
END:VTIMEZONE
BEGIN:VEVENT
SUMMARY:23 февраля (8 марта) 1917 г.
DTSTAMP:20170309T080415Z
SEQUENCE:0
UID:464513f6a5733f26e174518ddbadf8b2@172.17.0.3
ORGANIZER;CN="Doctor Haider":fai@fai.org.ru
DESCRIPTION:\n23 февраля (8 марта) 1917 г.23
	 февраля (8 марта) в 
	1500 царский по
	езд прибыл в
	 Могилёв. Те
	м временем в 
	столице анти
	военные мити
	нги\, посвящё
	нные Дню раб
	отницы\, нач
	али стихий
	но перерас
	тать в мас
	совые ста
	чки и де
	монстра
	ции. Остан
	овили про
	изводство
	 работницы
	 ткацкой То
	ршиловской
	 фабрики\, 
	снарядног
	о завода «
	Старый Па
	рвиайнен
	». Участни
	ки совмес
	тного митин
	га с Выборг
	ской набере
	жной направил
	ись в центр П
	етрограда. 
	На Лесном п
	роспекте о
	ни встретил
	и 3-тысячную
	 демонстрац
	ию рабочих з
	авода «Новый
	 Парвиайнен» 
	и вместе с ни
	ми по Литейн
	ому (Алексан
	дровскому) м
	осту прошли в
	 центр город
	а. Прекратили р
	аботу заводы «Ст
	арый Лесснер»\, «Н
	овый Лесснер»\, «
	Айваз»\, «Эриксон
	»\, «Русский Рено»\,
	 «Розенкранц»\, 
	«Феникс»\, «Пр
	омет» и др. К
	 вечеру на
	 Невский пр
	оспект выш
	ли рабочие Вы
	боргской и 
	Петроградск
	ой сторон (ч
	ерез Литейны
	й проспект)\,
	 Рождестве
	нского и Алек
	сандро-Невск
	ого районов (
	со стороны Зн
	аменской площ
	ади)\, Путиловс
	кого завода и Н
	арвского района (
	к Казанскому соб
	ору). Всего забас
	товало 128 тыс.
	 человек. Коло
	нны демонстран
	тов шли с лозунга
	ми «Долой войну!»
	\, «Долой самоде
	ржавие!»\, «Хлеба
	!». Масла в ог
	онь подлил л
	окаут Путил
	овского зав
	ода\, в рез
	ультате к
	оторого бе
	з работы о
	стались т
	ысячи петр
	оградских р
	абочих.В центре
	 города произошли первые
	 стычки с казаками и полиц
	ией (1-й\, 4-й\, 14-й До
	нские казачьи п
	олки\, Гвардейск
	ий сводно-казач
	ий полк\, 9-й 
	запасной 
	кавалерий
	ский полк\
	, запасно
	й батальон
	 Кексгольм
	ского полка
	)Согласно д
	онесениям 
	Охранного 
	отделения\
	, на Корпу
	сной улице 
	рабочие с
	ерьёзно из
	били полиц
	ейского на
	дзирателя 
	Вашева\, на
	 Нижегоро
	дской ули
	це избит 
	коллежск
	ий секрет
	арь Гроти
	ус. Забасто
	вщики широк
	о применяют
	 тактику «сн
	ятия» сосед
	них заводов\
	, силой выну
	ждая их пр
	исоединитьс
	я к забастовк
	е.Русское бю
	ро ЦК и Пет
	ербургски
	й комитет 
	РСДРП(б) 
	дали па
	ртийным 
	организа
	циям дире
	ктиву мак
	симально
	 развиват
	ь начавше
	еся движен
	ие. На сов
	ещании р
	уководств
	а петрогра
	дских больше
	виков\, состо
	явшемся поз
	дно вечером 
	в Выборгско
	м районе\, бы
	ло призна
	но необход
	имым прод
	олжать и ра
	сширять за
	бастовку\, 
	организовыв
	ать новые демо
	нстрации\, ус
	иливать агит
	ацию среди с
	олдат\, при
	нять меры 
	к вооруже
	нию рабочи
	х. Совещан
	ие рекомен
	довало выд
	винуть дв
	а основны
	х лозунга:
	 свержение 
	монархии и п
	рекращение и
	мпериалистич
	еской войны. При
	знаётся\, однак
	о\, что у боль
	шевиков нед
	оставало си
	л\, чтобы 
	в органи
	зационно
	м отношен
	ии охват
	ить весь
	 массовый
	 революци
	онный пот
	ок.Вечеро
	м состоял
	ось сове
	щание во
	енных и 
	полице
	йских в
	ластей
	 Петрог
	рада по
	д предс
	едатель
	ством ко
	мандующе
	го Петрог
	радским 
	военным 
	округом 
	генерала Х
	абалова. С
	огласно д
	окладу град
	оначальника 
	генерала Ба
	лка\, наиболее р
	ешительно дейс
	твовал 9-й запа
	сной кавалери
	йский полк. 1
	-й Донской 
	казачий 
	Ермака пол
	к при разг
	оне демонс
	трантов пр
	оявил стра
	нную пасси
	вность\, к
	оторую к
	омандир 
	полка по
	лковник Т
	роилин об
	ъяснил неу
	мением каз
	аков действ
	овать против
	 толпы в горо
	дских услов
	иях и даже от
	сутствием в по
	лку нагаек. Прик
	азом генерала Х
	абалова в полк вы
	делено по 50 коп.
	 на казака н
	а обзаведен
	ие нагайками
	. В целом по
	 итогам сов
	ещания отве
	тственность
	 за порядок
	 в городе 
	передана
	 в руки в
	оенных.
	 Из вос
	поминан
	ий петрог
	радского 
	градонача
	льника ген
	ерала Балка:Нача
	лся день нормаль
	но. Погода отличн
	ая — солнечная. 
	В 10 ч. утра ста
	л получать 
	по телефону
	 сведения об о
	живленном движ
	ении на Литейном
	 и Троицком моста
	х\, а также по Лите
	йной ул. и Невском
	у проспекту. В пу
	блике много дам
	\, еще больше 
	баб\, учаще
	йся молодеж
	и и сравнит
	ельно с пре
	жними выст
	уплениями м
	ало рабочих. 
	Густая толп
	а медленно и 
	спокойно дви
	галась по трот
	уарам\, оживле
	нно разговар
	ивала\, смеял
	ась и часам к 
	двум стали слы
	шны заунывные п
	одавленные голоса:
	 хлеба\, хлеба...При
	чем лица оживленн
	ые\, веселые и\, по-
	видимому\, дов
	ольные остроум
	ной\, как им каз
	алось\, выдумкой
	 протеста.Доста
	ть можно все. К 
	хвостам привыкли. Хле
	б\, вкусный и питательн
	ый\, выдавался по 11/2 ф
	. на человека\, а р
	абочим и войскам
	 по два. У многи
	х припасена му
	ка\, сухари. Вопр
	ос о наступающем
	 голоде был разд
	ут самой же публи
	кой\, к сожалени
	ю\, не без участ
	ия интеллигенци
	и\, и получилась о
	бщая паника\, вы
	несенная кем-то на
	 улицу\, а затем 
	хождение и вопл
	и «хлеба\, хлеба
	».Ген. Хабалов 
	приказал из с
	умм\, находящихся 
	в его распоряжен
	ии\, отпустить не
	медленно по 50 к
	. на казака на
	 обзаведение
	 нагаек. Реш
	ено на завтра 
	войскам быть готов
	ыми по первому тр
	ебованию стать в
	 3-е положение\, 
	т. е. занять
	 соответс
	твующие г
	ородские
	 районы. Ох
	рана горо
	да остава
	лась на от
	ветственн
	ости градона
	чальника. Я н
	емедленно о
	тдал приказа
	ние на завтра 
	занять\, сог
	ласно давно у
	же выработан
	ному плану\, вс
	е ответственн
	ые пункты горо
	да\, мобилизо
	вав всю поли
	цию\, усили
	в ее каза
	чьими и ка
	валерийск
	ими запасн
	ыми полкам
	и и жандармс
	ким дивизион
	ом. Речная поли
	ция охраняла 
	переходы чере
	з Неву. План 
	охраны столи
	цы\, а также 
	инструкция
	 совместных
	 действий во
	йск и чинов 
	полиции бы
	ли выработан
	ы мною при по
	лном согласи
	и с военным 
	начальством
	 еще в ноябр
	е месяце. Н
	очь прошл
	а соверше
	нно споко
	йно. Из дне
	вника велико
	го князя Миха
	ила Александро
	вича:Утром гуля
	л в саду\, потом
	 пришли собаки 
	с санями и Бэб
	и[цесаревич А
	лексей] на них 
	катался. Сани
	 с пятью собака
	ми приехали из 
	моего бывшего 2-
	го кавалерийско
	го корпуса\, их та
	м обучали\, и он
	и служили там 
	в транспорте.
	 Вечером мы п
	оехали в те
	атр — «Мо
	дерн»\, «Л
	едяное с
	ердце». Из
	 записок п
	редседате
	ля Государ
	ственной 
	Думы Родз
	янко:Царь у
	ехал. Дума 
	продолжае
	т обсуждать п
	родовольстве
	нный вопрос. 
	Но что-то сего
	дня оборвало
	сь\, и государст
	венная машина 
	сошла с рельс. С
	егодня совершило
	сь то\, о чем пред
	упреждали\, г
	розное и ги
	бельное\, ч
	ему во двор
	це не хотел
	и верить… Из д
	невника императо
	ра Николая II:Просну
	лся в Смоленске в 9
	? час. Было холодн
	о\, ясно и ветр
	ено. Читал вс
	е свободное 
	время книгу о за
	воевании Галлии Ю
	лием Цезарем. При
	ехал в Могилев в 3
	 ч. Был встречен 
	ген. Алексеевым
	 и штабом. Провел
	 час времени с н
	им. Пусто пока
	залось в доме 
	без Алексея. О
	бедал со всеми 
	иностранцами и н
	ашими. Вечером писал и 
	пил общий чай. \"Женс
	кий вестник\"\, №1 з
	а 1917 год:Россия
	 переживает тяж
	елые времена\,
	 переживают их 
	и женщины в
	месте с не
	ю. Много 
	невзгод 
	обрушилос
	ь  на них
	 с войной
	…Продов
	ольственн
	ая неуряд
	ица создает
	 у лавок с п
	редметами 
	первой необ
	ходимости бес
	конечные хвосты
	. Женщины и дети м
	ерзнут\, простужаю
	тся\, ожидая в оче
	реди булки\, молок
	о\, мясо. Дома х
	озяйки ломают 
	голову над вопро
	сом\, чем накорм
	ить сегодня се
	мью. И все это в
	 одиночку. В ре
	зультате полож
	ение не улучша
	ется\, а ухудшае
	тся. И конца 
	этому нет.
	 Из воспоми
	наний больш
	евика А.Г. 
	Шляпнико
	ва:Петербу
	ргский ком
	итет и его
	 районные
	 организа
	ции повели
	 агитацию 
	за праздн
	ование в 
	Междунаро
	дный день
	 работниц
	ы. Работн
	ицы откл
	икнулись
	 чрезвыча
	йно живо 
	на предл
	ожение Пе
	тербургск
	ого комите
	та об устро
	йстве спец
	иальных ми
	тингов\, п
	освященны
	х обсуждени
	ю вопросов 
	о положен
	ии наших 
	работниц. 
	Работницы в
	 этот день 
	выступили 
	застрельщика
	ми забастовки\
	, ходили от од
	ного предпри
	ятия к друго
	му и под кри
	ки «Долой во
	йну» и «Хлеб
	а» снимали ра
	ботавших. Мо
	рис Палеолог\,
	 посол Франци
	и в России:В
	есь день П
	етроград во
	лновался. П
	о главным у
	лицам прох
	одили народны
	е шествия. В н
	ескольких ме
	стах толпа кр
	ичала «Хлеба 
	и мира». В д
	ругих мес
	тах она за
	певала «Р
	абочую Мар
	сельезу». Пр
	оизошло нескол
	ько стычек на Н
	евском проспе
	кте. Несмотря н
	а то\, что в во
	здухе столиц
	ы чувствуется 
	восстание\, импе
	ратор\, проведш
	ий только что д
	ва месяца в Ца
	рском Селе\,
	 выехал сег
	одня вечеро
	м в Ставку.
	 Из дневни
	ка министра в
	нутренних де
	л Протопопова
	:Во время мол
	ебна мне сказа
	ли\, что заба­
	стовали рабоч
	ие на многих 
	заводах\, бол
	ьшими толпам
	и ходят по у
	ли­цам и ч
	то команду
	ющий войск 
	под оклад у
	 градоначал
	ьника распо­р
	ядился вызвать 
	и казаков. На мой
	 вопрос по телефон
	у Балк мне сообщил\, 
	что все дело в том\,
	 что к газетным 
	уткам\, будто в г
	ороде нет муки\
	, сегодня выпеч
	ка опоздала\, н
	е успели будт
	о во время вы
	дать муку пекаря
	м\; народ ринулс
	я расхватывать х
	леб на сухари и 
	запас\, и мног
	им совсем хл
	еба не хватило. Это
	 вызвало громадно
	е волнение и забас
	товку — spontee бе
	з сговора и 
	подготовки.
	Пока заведывал 
	градоначальник\
	, опозданий в выдаче
	 муки не было. Вейс ж
	е\, его заменивший\,
	 по отзыву К.\, — 
	бестолков и пут
	аник. Но сделать я н
	ичего не мог: прод
	овольствие было н
	е в м-ве вн. дел\
	, а Риттих и
	скренно в
	ерил в тала
	нты Вейса.
	План преду
	преждения
	 беспорядко
	в существов
	ал. Он был в
	ыработан з
	аранее у г
	радоначальник
	а. Градоначальн
	ик и вся полиц
	ия посему под
	чинена ему\, и
	 я совершенно 
	не касался ут
	вержденных и
	м предположени
	й. В виду этого кн
	. Голицын просил
	 приехать Хабало
	ва\, который и з
	аявил\, что в
	се нужное 
	будет им сдел
	ано. Из дневник
	а Зинаиды Гиппи
	ус:Сегодня беспо
	рядки. Никто\, коне
	чно\, в точности
	 ничего не знает. 
	Общая версия\, ч
	то началось на В
	ыборгской\, из-за 
	хлеба. Кое-где о
	становили трамва
	и (и разбили). Буд
	то бы убили при
	става. Будто бы п
	ошли на Шпалерну
	ю\, высадили воро
	та (сняли с петель
	) и остановили зав
	од. А потом пошли
	 покорно\, куда 
	надо\, под кон
	воем городов
	ых. Если завтра
	 все успокоится
	 и опять мы зат
	ерпим — по-рус
	ски тупо\, безд
	умно и молча
	 — это ровно
	 ничего не
	 изме­нит
	 в будущем.
	Без достои
	нства бунтов
	али — без дос
	тоин­ства поко
	римся. Царь уеха
	л на фронт. Лаф
	а теперь в Цар
	ском Г-ке «пре­
	секать». Хотя 
	они «пресекат
	ь» будут так же
	 бессильно\, к
	ак мы бессил
	ьно будем бун
	товать. Какое
	 из двух бес
	силий побе
	дит?Бедная 
	земля моя. 
	Очнись! И
	з воспомина
	ний Матильды
	 Кшесинской:Ког
	да моя экономк
	а проверяла се
	ребро\, хрусталь
	 и белье\, что де
	лалось всегда
	 после больших
	 приемов\, кто-т
	о из моих слу
	жащих прибеж
	ал взволнова
	нный и сообщи
	л\, что по Бол
	ьшой Дворянск
	ой улице движе
	тся несметная тол
	па. Началось то\
	, чего все бояли
	сь и ожидали\, 
	а именно уличн
	ые выступления
	. Толпа прошла 
	мимо моего до
	ма\, не наруш
	ив порядка
	. Из дневн
	ика Серге
	я Прокофьев
	а:На Аничк
	овом мост
	у замечалось
	 некоторое с
	копление наро
	да\, преимущест
	венно рабочие
	\, в коротких 
	куртках и выс
	оких сапогах. 
	Вот проезжают
	 кавалькады ка
	заков\, человек 
	по десять\, воор
	уженные пикам
	и. Можно ожидать\
	, что начнется стрель
	ба. Но публика беспе
	чно идет\, и дамы\
	, и дети\, и с
	тарые ген
	ералы — в
	се с удивле
	нием рассмат
	ривали необыч
	ную для Невско
	го картину.Баба
	 с тупым лицом\
	, совершенно не
	 понимая идеи 
	момента\, со
	ветовала «б
	ить жидов». 
	Какой-то ра
	бочий очень 
	интеллигентн
	о объяснял ей 
	об иных задача
	х движения\, да
	ром тратя пе
	ред дурой сво
	е красноречие. В
	 это время част
	ь казаков пов
	ернула лошаде
	й к ней\, и она 
	с необычайно
	й стремительн
	остью юркнула
	 в толпу\, убе
	жав на другу
	ю сторону м
	оста. Из ме
	муаров Керенс
	кого:Я сегодня 
	взял на себя о
	бязанность пе
	редать вам то\, 
	что мне вчера с
	казали те пути
	ловские рабочи
	е\, которые у м
	еня были. Он
	и просили мен
	я передать 
	вам следующее
	: «Скажите ваши
	м товарищам\, чл
	енам Государст
	венной думы\, чт
	о мы сделали все
	\, чтобы этого 
	закрытия зав
	ода вчера не
	 последовало\
	; мы сделали
	 все… и даже 
	согласились в
	ернуться на ра
	боту на старых
	 условиях».Но
	 в тот момент
	\, когда таков
	о было наст
	роение руко
	водящих раб
	очих масс з
	авода\, они п
	рочитывают объявлен
	ие о закрытии Путил
	овского завода и о т
	ом\, что 36 000 пе
	тербургско
	го населения
	\, самого обез
	доленного и гол
	одающего\, выбр
	асывается на ул
	ицу. Они прочли
	 это тогда\, 
	когда только
	 что провели
	 по всем мастер
	ским ряд орган
	изованных собра
	ний\, где доказ
	ывали\, по т
	ем или дру
	гим сообр
	ажениям\, не
	своевременн
	ость сегодня 
	развивать это 
	рабочее движение
	\, и они просили ме
	ня вам передат
	ь. Я ответил и
	м: «Я сомневаю
	сь\, чтобы боль
	шинство Госуд
	арственной думы 
	поняло вас\; кажетс
	я\, общего языка 
	между вами и ими 
	нет никакого»\, н
	о я обязанность с
	вою исполняю\, я ва
	м передаю. И если
	 напрасно\, то 
	сделайте то\, 
	что требует от вас гражданский долг на
	стоящего момента.   \n
DTSTART;VALUE=DATE:20170308
END:VEVENT
END:VCALENDAR
