BEGIN:VCALENDAR
VERSION:2.0
PRODID:-//IP.Board Calendar 4.0.13.1//EN
METHOD:PUBLISH
CALSCALE:GREGORIAN
X-WR-CALNAME:Революция. 100 лет. День за днем. 
BEGIN:VTIMEZONE
TZID:Europe/London
TZURL:http://tzurl.org/zoneinfo/Europe/London
X-LIC-LOCATION:Europe/London
BEGIN:DAYLIGHT
TZOFFSETFROM:+0000
TZOFFSETTO:+0100
TZNAME:BST
DTSTART:20170326T020000Z
RRULE:FREQ=YEARLY;BYMONTH=3;BYDAY=-1SU
END:DAYLIGHT
BEGIN:STANDARD
TZOFFSETFROM:+0100
TZOFFSETTO:+0000
TZNAME:GMT
DTSTART:20171029T020000Z
RRULE:FREQ=YEARLY;BYMONTH=10;BYDAY=-1SU
END:STANDARD
END:VTIMEZONE
BEGIN:VEVENT
SUMMARY:24 февраля (9 марта) 1917 г.
DTSTAMP:20170310T085844Z
SEQUENCE:0
UID:9ad30c4e2529c74becd3bea849ad6a6f@172.17.0.3
ORGANIZER;CN="Doctor Haider":fai@fai.org.ru
DESCRIPTION:\n24 февраля (9 мар
	та) 1917 годаВ Петро
	граде началась все
	общая забастовка (св
	ыше 214 тыс. рабоч
	их на 224 пред
	приятиях). 
	Колонны де
	монстрантов
	 прорывались 
	через Литейн
	ый мост на л
	евый берег
	 Невы. Чере
	з Троицкий
	 мост уда
	лось про
	йти участн
	икам демонс
	траций на Бо
	льшом и Кам
	енноостров
	ском проспек
	те\; через Т
	учков мост
	 на Василь
	евский остр
	ов проникла 
	часть рабоч
	их Выборгско
	й и Петрогра
	дской стороны\
	, после чего
	 местные ра
	бочие такж
	е начали з
	абастовку.
	 К ним прис
	оединилис
	ь студенты у
	ниверситета
	 и курсистки 
	Высших женс
	ких (Бестуже
	вских) курс
	ов. Забастов
	ка началась 
	на предприят
	иях Нарвской и Мо
	сковской застав
	\, Невского и др
	угих районов
	.В 1200 петр
	оградс
	кий гра
	доначал
	ьник Балк с
	ообщил коман
	дующему Петрогр
	адского военного 
	округа генералу C
	. C. Хабалову\, 
	что полиция
	 не в состо
	янии «оста
	новить движ
	ение и скоп
	ление наро
	да». Коман
	дующий нап
	равил к цент
	ру города 
	солдат гвар
	дейских запас
	ных полков: Гре
	надёрского\, Ке
	ксгольмского\, Мо
	сковского\, Финл
	яндского\, 3-г
	о стрелковог
	о и др. Были 
	перекрыт
	ы основные
	 городские 
	магистрали\,
	 усилена охран
	а правительств
	енных зданий\, п
	очтамта\, теле
	графа\, всех 
	мостов и пе
	реходов че
	рез Неву.Во
	 второй по
	ловине дня 
	начались н
	епрерывные
	 массовые м
	итинги на 
	Знаменской
	 площади\; 
	здесь ка
	заки отк
	азались 
	разгоня
	ть демон
	странтов. 
	Отмечалис
	ь отдельные
	 случаи нел
	ояльного по
	ведения ка
	заков. Во вр
	емя одного
	 из инциден
	тов казаки 
	прогнали 
	полицейск
	ого\, удар
	ившего женщ
	ину нагайкой
	. Согласно в
	оспоминани
	ям большеви
	ка Каюрова\, 
	один из каза
	чих патрулей
	 «улыбался» 
	рабочим-демонс
	трантам\, а один из 
	казаков даже «хорошо
	 подмигнул».\nВ тече
	ние 23-24 феврал
	я было избит
	о 28 полицейс
	ких. Генера
	л-губернато
	р Петрограда
	 генерал Бал
	к:С утра поч
	ти все фабри
	ки забастова
	ли. Невский 
	стал наполня
	ться густой 
	толпой. Ходят 
	толпы и начал
	ись митинги. Ген
	ерал Хабалов с
	казал: «Сам ви
	жу из своей к
	вартиры\, как
	 с Выборгск
	ой стороны 
	народ свобо
	дно переход
	ит по льду. Делаю
	 распоряжение о н
	емедленном вызове 
	войск».Между 11-12
	 час. дня в г
	радоначал
	ьство ко мн
	е в кабине
	т прибыл П
	реображенско
	го полка полко
	вник Павленко
	 с адъютантом
	 и заявил мне\
	, что ему п
	риказано 
	Командующ
	им войскам
	и округа в
	ступить в 
	распоряже
	ние войскам
	и и полицие
	й для водво
	рения порядк
	а в городе. Н
	есмотря на 
	раннее око
	нчание дви
	жения наро
	да\, прибыв
	ший с веч
	ерним до
	кладом 
	Начальник
	 Охранного
	 отделения 
	сообщил мне м
	алоутешительн
	ые сведения: в
	 левых верхах 
	было решено\,
	 если завтра
	 опять соберут
	ся толпы\, исп
	ользовать по
	ложение в смыс
	ле агитации и
	\, если заметно
	 будет сочув
	ствие улицы\,
	 произвести 
	беспорядки\
	, смотря по 
	обстоятел
	ьствам\, вк
	лючительн
	о до вооруж
	енного выст
	упления. Как
	ие выбросят
	 толпе лозу
	нги — ясно не
	 было — тоже с
	мотря по обсто
	ятельствам. За
	мечалось\, чт
	о верхи сам
	и не могли п
	онять и ра
	зобраться
	 в свалив
	шейся сове
	ршенно неож
	иданно на их
	 голову благ
	оприятной о
	бстановке. Я 
	передал об э
	том генера
	лу Хабалову
	. Военное на
	чальство вс
	е же решило
	 пока возд
	ерживатьс
	я от приме
	нения в д
	ело оруж
	ия. Из во
	споминан
	ий началь
	ника Петр
	оградского
	 охранного
	 отделения 
	К. Глобачева:
	Генерал Ха
	балов бере
	т столицу 
	исключитель
	но в свои ру
	ки. По пред
	варительн
	о разработан
	ному плану\,
	 Петроград
	 разделен 
	на несколько
	 секторов\, 
	управляемых 
	особыми войск
	овыми начальника
	ми\, а полиция по
	чему-то снята 
	с постов. Убрав
	 полицию\, Хабал
	ов решил оперет
	ься на ненадежн
	ые войска\, так 
	сказать\, на т
	ех же фабричн
	о-заводских раб
	очих\, призванн
	ых в войска 
	только две н
	едели тому 
	назад\, дос
	таточно у
	же распроп
	агандирован
	ных и не желаю
	щих отправляться
	 в скором времени
	 на фронт. Отчаст
	и\, конечно\, вин
	а за такое решен
	ие лежит и на град
	оначальнике\, гене
	рале Балке\, кот
	орый\, по-видимо
	му\, чтобы сня
	ть с себя вс
	якую ответ
	ственность
	\, отдал го
	род в ра
	споряже
	ние войс
	кового нач
	альства. И
	з воспомин
	аний директора
	 Департамента полици
	и А.Т. Васильева:Басто
	вало уже почти 200 0
	00 человек\, и 
	полиция бол
	ьше не могл
	а удержива
	ть стремящ
	уюся к цент
	ру толпу. 
	Толпа безж
	алостно за
	брасывала п
	олицейских 
	камнями и ку
	сками металл
	олома\, в ре
	зультате че
	го было серь
	езно ранено не
	мало храбрых 
	полицейских. 
	Мы не имели 
	сведений о 
	том\, наско
	лько револ
	юционные п
	артии конт
	ролируют 
	эти дейст
	вия рабоч
	их. Поэто
	му я пор
	учил на
	чальник
	у Петрог
	радского
	 охранного 
	отделения 
	генералу Г
	лобачеву и
	зучить это
	т вопрос.
	Оказалос
	ь\, что со
	циалисти
	ческие ор
	ганизации
	 стремятся
	 использов
	ать волнен
	ия в Петро
	граде в св
	оих интер
	есах и сис
	тематичес
	кой пропаг
	андой готовят
	 почву для вс
	еобщей стач
	ки и демонс
	траций на 
	улицах. Я от
	дал приказ
	 немедленно
	 арестовать 
	революционн
	ых лидеров\, 
	и генерал 
	Глобачев 
	сумел за
	хватить 
	на частной
	 квартире ве
	сь Петроградс
	кий комитет б
	ольшевистско
	й партии\, так
	 что она была
	 в тот момент
	 совершенно 
	парализована.К
	 сожалению\, Ке
	ренский\, пре
	дставитель
	 партии эсер
	ов\, как член
	 Думы облад
	ал депутатс
	кой неприкос
	новенностью. 
	Во время его
	 поездки в С
	аратов я прис
	тавил к нему дл
	я наблюдения не
	сколько опытных
	 агентов\, и они 
	видели\, как о
	н в ресторан
	е передавал 
	какие-то бу
	маги неизве
	стному. Тог
	о сразу же 
	арестовали
	 и обнаружили
	 спрятанные н
	а нем проклама
	ции с призывам
	и к восстанию\
	, полученные 
	от Керенско
	го. Я обрат
	ился к ми
	нистру 
	юстиции 
	с просьб
	ой лишит
	ь Керенс
	кого деп
	утатской 
	неприкос
	новенност
	и и дать в
	озможно
	сть поли
	ции арес
	товать 
	его. Из
	 воспо
	минаний
	 начальн
	ика импе
	раторско
	й дворцов
	ой охраны
	 генерала 
	Спиридович
	а:На другом
	 конце Невск
	ого также бы
	ли демонстра
	ции. Поют рево
	люционные пе
	сни. Кричат: «Д
	олой правительс
	тво!»\, «Да здра
	вствует республи
	ка!»\, «Долой вой
	ну!». Наряд пол
	иции бросает
	ся на толпу\, е
	го встречают
	 градом ледя
	шек. Казаки б
	ездействуют. 
	Они лишь шаго
	м проходят сквоз
	ь толпу\, некоторы
	е смеются. Толпа
	 в восторге\, крич
	ит: «Ура!» На «у
	ра» казаки ки
	вают головами
	\, кланяются.
	 Полиция н
	егодует. Од
	на фраза пере
	давалась в гр
	уппах расходивши
	хся рабочих: «Ка
	заки за нас\, ка
	заки за наро
	д!»... Из дн
	евника фр
	анцузског
	о посла Мо
	риса Пале
	лога:Волнен
	ия в промыш
	ленных райо
	нах приняли
	 сегодня ут
	ром резкую ф
	орму. Много
	 булочных 
	было разгро
	млено на Вы
	боргской ст
	ороне и на 
	Васильевско
	м острове. В
	 нескольких
	 местах каз
	аки атаков
	али толпу и
	 убили нес
	колько раб
	очих. Из дне
	вника министр
	а внутренних 
	дел Протопопов
	а:С утра мне ска
	зали\, что в г
	ороде неблаго
	получно. Боль
	шие толпы\, 
	разбито нес
	колько магаз
	инов\, что кома
	ндующий войск
	ами приказал стр
	елять. Вскоре я узн
	ал\, что многие гор
	одовые\, пешие и к
	онные\, ранены и
	 убиты\; на Выб
	оргской изу
	вечен полк. Ша
	л­феев. Была ос
	обо стрельба на
	 Знаменской площа
	ди\, но раненых и 
	уби­тых\, как мн
	е сказали\, нем
	ного.Мне был
	о подано донес
	ение охранки\,
	 что завтра бу
	дет повторени
	е беспорядков\
	, с указанием 
	на плохую на
	дежду\, котору
	ю можно возла
	гать на неко
	торые войско­в
	ые части. В этот
	 же день Хабало
	в выпустил воз
	звание\, что м
	ука у города
	 есть и что
	 беспоряд
	ки будут п
	одавлены в
	семи мера
	ми. Минист
	р иностранн
	ых дел Покр
	овский о св
	оем колле
	ге Протоп
	опове:Я прид
	авал бы этим 
	беспорядкам
	 лишь второст
	епенное значе
	ние\, если бы у
	 моего доро
	гого коллеги 
	по внутренним
	 делам был еще 
	хоть проблеск р
	ассудка. Но чег
	о ждать от чел
	овека\, кот
	орый вот у
	же много 
	недель п
	отерял вс
	якое чувс
	тво действ
	ительности и
	 который ежев
	ечерне совещает
	ся с тенью Расп
	утина? Еще в э
	ту ночь он п
	ровел два ч
	аса в вызы
	вании пр
	израка «ст
	арца». Из 
	дневника 
	Зинаиды Гип
	пиус:Беспор
	ядки продол
	жаются. Но 
	довольно пок
	а невинные. П
	о Невскому раз
	ъезжают молоден
	ькие казаки (новые
	\, без казачьих т
	радиций)\, гонят
	 толпу на тротуар
	ы\, случайно подм
	яли бабу\, воен
	ную сборщицу\, и
	 сами смутились
	. Толпа — маль
	чишки и барыш
	ни. Впрочем\, 
	на самом Не
	вском рабоч
	ие останавл
	ивают трамва
	и\, отнимая к
	лючи.Интересе
	н инцидент в Куп
	еческой управе.
	 Было много гос
	тей\, между прочим\, Шеб
	еко. Булочкин сказал о
	фициаль­ную речь. Doume
	rgue (ничего не пон
	ял) отвечал. 
	Этим должно б
	ыло кончиться
	. Но через тол
	пу пробрался
	 Рябушинский
	\, вы­нул из к
	армана запис
	ку и хорошо 
	прочел резкую 
	француз­скую р
	ечь. Нация во вра
	жде с правител
	ьством\, пр-во
	 мешает нац
	ии работать и
	 т.д. Письмо и
	мператрицы А
	лександры Фед
	оровны Никола
	ю II:Бесценный 
	мой! Вчера был
	и беспорядки 
	на Васильевск
	ом острове и н
	а Невском\, п
	отому что 
	бедняки брал
	и приступом б
	улочные. Они 
	вдребезги разн
	если Филиппова
	\, и против них 
	вызывали каза
	ков. Все это я узна
	ла неофициально. Вчера вечеро
	м Бэби был весел — 38\,1 в 9\; в 6 — 
	38\,3. У Ольги оба раза — 37\,7
	. Вид у нее хуже\, изну
	ренный.  В 10 пошла посидет
	ь с Аней (у нее\, вероятн
	о\, корь — 37\,7\, сильны
	й кашель\, болит
	 горло — а може
	т быть\, ангин
	а).Каким страш
	но одиноким 
	должен был ты
	 чувствовать се
	бя первую ночь! Н
	е могу представить 
	тебя без Бэби\, мой 
	бедный\, милый ан
	гел! Я надеюсь\, 
	что Кедринско
	го[т.е. Керенск
	ого] из Думы п
	овесят за его
	 ужасную речь — э
	то необходимо (вое
	нный закон\, военн
	ое время)\, и эт
	о будет прим
	ером. Все жа
	ждут и умоляю
	т тебя прояви
	ть твердость.Б
	лагослови и со
	храни тебя Бог
	! Без конца це
	лую тебя. Не
	жно предан
	ная и горячо 
	любящая твоя 
	старая Женушк
	а. Ответ Никола
	я:Пожалуйста\, н
	е переутомись\, 
	бегая от одного
	 больного к дру
	гому. Кроме того\
	, комнаты в Царско
	м надо дезинфици
	ровать\, а ты\, в
	ероятно\, не з
	ахочешь пере
	ехать в Петерго
	ф — тогда где же ж
	ить? Мы спокойно обд
	умаем все это\, когда
	 я вернусь\, что\, 
	как я надеюсь\, 
	будет скоро!
	Мой мозг отды
	хает здесь —
	 ни министров\, ни х
	лопотливых вопросов\
	, требующих обдумывания
	(sic!). Я считаю\, что э
	то мне полезно\,
	 но только для м
	озга. Сердце ст
	радает от разлук
	и. Я ненавижу эту
	 разлуку\, особ
	енно в такое в
	ремя! Я буду н
	едолго в отсутс
	твии — по возмож
	ности\, направит
	ь все дела зде
	сь\, и тогда
	 мой долг 
	будет исп
	олнен. Из 
	воспоминан
	ий дворцово
	го комендант
	а Воейкова:В
	 пятницу дне
	м я получил и
	з Петрограда
	 от своего н
	ачальника о
	собого отдел
	а известие\, 
	что в Петро
	граде неспо
	койно и про
	исходят уличн
	ые беспорядки\
	, которые мог
	ут принять се
	рьезные разм
	еры\, но что п
	ока власти 
	справляютс
	я. Полученн
	ые сведения
	 навели мен
	я на мысль 
	просить г
	осударя под 
	предлогом б
	олезни насл
	едника вернут
	ься в Царское 
	Село. Я стал у
	беждать Его Ве
	личество уехат
	ь со Ставки. Гос
	ударь на это во
	зражал\, что о
	н должен проб
	ыть дня три-
	четыре и раньше вт
	орника уезжать не хо
	чет. Из дневника Никол
	ая II:В 10? пошел к докл
	аду\, который око
	нчился в 12 час
	. Перед завтр
	аком принес 
	мне от имен
	и бельгийск
	ого короля 
	военный крест
	. Погода была 
	неприятная — м
	етель. Погулял 
	недолго в садике.
	 Читал и писал. 
	Вчера Ольга и
	 Алексей забо
	лели корью\,
	 а сегодня
	 Татьяна п
	оследовал
	а их пример
	у. Из восп
	оминаний г
	енерала Дубе
	нского:К зав
	траку было мно
	го приглашенны
	х: свита государ
	я\, великие кня
	зья\, все иност
	ранцы военных
	 миссий. Его в
	еличество в 
	защитной  руба
	шке\, в погонах
	 одного из пе
	хотных полко
	в обошел всех
	\, здороваясь 
	и разговари
	вая с некотор
	ыми из пригл
	ашенных. Госу
	дарь был в о
	бычном споко
	йном\, привет
	ливом настро
	ении. Тихо спр
	ашивали друг др
	уга: «Какие вес
	ти из Петрогра
	да?»\; передав
	али\, что тол
	ько-что полу
	ченные телегр
	аммы сообщили
	 о волнениях в
	 рабочих квартала
	х\; но в общем 
	высочайший 
	завтрак прош
	ел так же\,
	 как и всегд
	а… Из дневн
	ика великого княз
	я Михаила Александр
	овича:В 12 часов я 
	позавтракал\, а в
	 1 час я поехал в
	ерхом в Царско
	славянский лес\,
	 где охотились на 
	волка. Круг был за
	 железной дорогой\, 
	влево от дороги\, 
	все в тех же мес
	тах\, где и рань
	ше охотились. В
	олк прорвался ск
	возь людей\, его 
	поехали обкладыв
	ать\, но несмотря 
	на то\, что его на
	гоняли верховые
	\, обложить его не пришлось
	 ввиду того\, что он не останавливался. \n
DTSTART;VALUE=DATE:20170309
END:VEVENT
END:VCALENDAR
