BEGIN:VCALENDAR
VERSION:2.0
PRODID:-//IP.Board Calendar 4.0.13.1//EN
METHOD:PUBLISH
CALSCALE:GREGORIAN
X-WR-CALNAME:В этот день в прошлом
BEGIN:VTIMEZONE
TZID:Europe/London
TZURL:http://tzurl.org/zoneinfo/Europe/London
X-LIC-LOCATION:Europe/London
BEGIN:DAYLIGHT
TZOFFSETFROM:+0000
TZOFFSETTO:+0100
TZNAME:BST
DTSTART:20170326T020000Z
RRULE:FREQ=YEARLY;BYMONTH=3;BYDAY=-1SU
END:DAYLIGHT
BEGIN:STANDARD
TZOFFSETFROM:+0100
TZOFFSETTO:+0000
TZNAME:GMT
DTSTART:20171029T020000Z
RRULE:FREQ=YEARLY;BYMONTH=10;BYDAY=-1SU
END:STANDARD
END:VTIMEZONE
BEGIN:VEVENT
SUMMARY:День рождения коллеги звезды с
	ветят
DTSTAMP:20170326T074457Z
SEQUENCE:0
UID:f0e882ab09ac1b9127f8199ff7ab2d15@172.17.0.3
ORGANIZER;CN="daichimaru":fai@fai.org.ru
DESCRIPTION:\nС днем рождения коллега!!!!
	 Творческих успехов!!!!\n
DTSTART;TZID=Europe/London:20170325T200000Z
DTEND;TZID=Europe/London:20170326T195900Z
END:VEVENT
END:VCALENDAR
