BEGIN:VCALENDAR
VERSION:2.0
PRODID:-//IP.Board Calendar 4.0.13.1//EN
METHOD:PUBLISH
CALSCALE:GREGORIAN
X-WR-CALNAME:В этот день в прошлом
BEGIN:VTIMEZONE
TZID:Europe/London
TZURL:http://tzurl.org/zoneinfo/Europe/London
X-LIC-LOCATION:Europe/London
BEGIN:DAYLIGHT
TZOFFSETFROM:+0000
TZOFFSETTO:+0100
TZNAME:BST
DTSTART:20170326T020000Z
RRULE:FREQ=YEARLY;BYMONTH=3;BYDAY=-1SU
END:DAYLIGHT
BEGIN:STANDARD
TZOFFSETFROM:+0100
TZOFFSETTO:+0000
TZNAME:GMT
DTSTART:20171029T020000Z
RRULE:FREQ=YEARLY;BYMONTH=10;BYDAY=-1SU
END:STANDARD
END:VTIMEZONE
BEGIN:VEVENT
SUMMARY:Развилки Дня 3 мая
DTSTAMP:20170502T090057Z
SEQUENCE:0
UID:bf325eb7c0fff30b003adb344624d6a5@172.17.0.3
ORGANIZER;CN="ясмин джакмич":fai@fai.org.ru
DESCRIPTION:\n3 мая \nДо XIX века\n
	    1101 — Князь 
	Владимир Мон
	омах заложил
	 в Смоленске 
	Успенский соб
	ор\, в котором была
	 помещена Смоле
	нская икона Бож
	ией Матери.\n  
	  1494 — испанский 
	мореплаватель Хр
	истофор Колумб отк
	рыл Ямайку.\n    17
	91 — сейм в Ва
	ршаве прин
	ял первую в
	 Европе и 
	вторую после 
	американской писа
	ную — конституцию 
	Речи Посполитой.XIX век\
	n    1802 — открыт ун
	иверситет Дерпта.\n    1
	808 — во время русско-ш
	ведской войны (1808
	—1809 гг.) русские во
	йска заняли шве
	дскую крепость С
	веаборг.\n    18
	15 — образов
	ано Царств
	о Польское
	\, ставшее 
	согласно решени
	ям Венского кон
	гресса частью Р
	оссийской импе
	рии.\n    1841 — Новая 
	Зеландия объявл
	ена британской к
	олонией.\n    1863
	\n        Вт
	орое сражени
	е при Фредериксбе
	рге.\n        Сраж
	ение при Чанселор
	свилле.\n    186
	7 — через тр
	и года пос
	ле принят
	ия первой Ж
	еневской конве
	нции в России основа
	но Общество Красног
	о Креста.XX век\n   
	 1902 — в США с
	озданы компани
	и «Пепси» и «Ми
	ннесота майни
	нг энд мэньюфэ
	кчеринг».\n    1904 — аме
	риканский изобретатель
	 Джордж Паркер (George Pa
	rker) запатентовал св
	ою первую письменную
	 ручку.\n    1906\n   
	     Николай I
	I объявил рус
	ский\, фински
	й и шведский
	 языки офици
	альными язык
	ами в Финлян
	дии.\n       
	 Турция отка
	залась от п
	ретензий на 
	Синайский полуост
	ров\, признав его 
	египетской терр
	иторией.\n    1907 — в 
	России упраздне
	ны военно-полев
	ые суды.\n    
	1919 — послед
	нее заседание 
	правительства 
	Баварской Совет
	ской республики.\n   
	 1932 — первый полёт летаю
	щей лодки МБР-2 Г. М.
	 Бериева.\n    1
	937 — роман
	 Маргарет М
	итчелл «Унесённ
	ые ветром» полу
	чает Пулитцеровс
	кую премию.\n    1943
	 — в Великобритан
	ии для всех женщи
	н в возрасте от 1
	8 до 45 лет уста
	новлена трудовая
	 повинность на неп
	олный рабочий день
	.\n    1947 — в Яп
	онии введена
	 новая констит
	уция\, одобрен
	ная парламент
	ом\, император
	ом и народом\
	, высказавши
	м своё мнение 
	на референдум
	е (впервые же
	нщины имеют
	 равное прав
	о голоса).\nК
	онституц
	ия ограни
	чила власт
	ь император
	а и утверд
	ила отказ о
	т использования в
	оенной силы при ре
	шении международ
	ных споров.\n    1
	957 - Постановление 
	о преобразовани
	и колхозов в со
	вхозы.\n    1
	958 — аме
	рикански
	й презид
	ент Эйзе
	нхауэр п
	редложи
	л демили
	таризацию 
	Антарктики\, в
	последствии пр
	инятую заинтере
	сованными страна
	ми.\n    1960 — 
	вступило в 
	силу Согла
	шение о Евр
	опейской ассоц
	иации свободно
	й торговли. С 
	июля страны-ч
	лены снизили н
	а 20 процентов там
	оженные пошлины
	 на взаимные пос
	тавки.\n    1982 —
	 израильский
	 премьер-мин
	истр Бегин з
	аявил\, что
	 его стра
	на распр
	остранит 
	свой суверенит
	ет на оккупирован
	ные территории на З
	ападном берегу.\n   
	 1988 — в США вышл
	и в свет мем
	уары Дональда
	 Ригана\, бывш
	его главы аппара
	та президента Ре
	йгана\, в которы
	х он сообщил о т
	ом\, что Рейга
	н назначал д
	аты важных вс
	треч и принят
	ия\nрешений в
	 соответствии 
	с информацией\, ко
	торую получал от
	 астролога своей
	 жены.\n    1999
	 — разруш
	ительный у
	раган опус
	тошил юго-в
	осточную част
	ь города Оклах
	ома-Сити и мно
	жество пригор
	одов. Погибли 
	36 человек. Матер
	иальный ущерб со
	ставил более ми
	ллиарда\nдолларо
	в\n    2000 — Ло
	ндонская и 
	Франкфуртск
	ая биржи объя
	вили о слияни
	и и создании к
	рупнейшей в мире 
	биржи с акциями на сумму около 4 тр
	иллионов долларов. \n
DTSTART;VALUE=DATE:20170503
END:VEVENT
END:VCALENDAR
