BEGIN:VCALENDAR
VERSION:2.0
PRODID:-//IP.Board Calendar 4.0.13.1//EN
METHOD:PUBLISH
CALSCALE:GREGORIAN
X-WR-CALNAME:В этот день в прошлом
BEGIN:VTIMEZONE
TZID:Europe/London
TZURL:http://tzurl.org/zoneinfo/Europe/London
X-LIC-LOCATION:Europe/London
BEGIN:DAYLIGHT
TZOFFSETFROM:+0000
TZOFFSETTO:+0100
TZNAME:BST
DTSTART:20170326T020000Z
RRULE:FREQ=YEARLY;BYMONTH=3;BYDAY=-1SU
END:DAYLIGHT
BEGIN:STANDARD
TZOFFSETFROM:+0100
TZOFFSETTO:+0000
TZNAME:GMT
DTSTART:20171029T020000Z
RRULE:FREQ=YEARLY;BYMONTH=10;BYDAY=-1SU
END:STANDARD
END:VTIMEZONE
BEGIN:VEVENT
SUMMARY:Развилки Дня 4 мая
DTSTAMP:20170502T090554Z
SEQUENCE:0
UID:21d9ed7f9c02fd72a76340d32ab16372@172.17.0.3
ORGANIZER;CN="ясмин джакмич":fai@fai.org.ru
DESCRIPTION:\n4 маяДо XIX века\n 
	   1410 — В Б
	олонье при
	 загадочных о
	бстоятельства
	х умер антипапа
	 Александр V (п
	редполагают\, что он б
	ыл отравлен своим пре
	емником Иоанном XXIII
	).\n    1415 — К
	онстанцс
	кий собор п
	остановил сжеч
	ь тело английского
	 теолога Джона Уайклифа
	\, умершего за 21 год до 
	этого.\n    1493 — Пап
	а римский Александр VI опу
	бликовал первую буллу Int
	er caetera\, делящую Новый С
	вет между Испание
	й и Португалией.\n 
	   1715 — В Париже п
	роизведён перв
	ый складной зон
	тик.\n    1776 —
	 Провозглашена нез
	ависимость острова
	 Род-Айленд (ныне ш
	тат США).\n    178
	3 — Английский
	 астроном Уильям Гер
	шель заметил на Луне 
	красную вспышку.XIX
	 век\n    1807 
	— Между Фр
	анцией и П
	ерсией за
	ключён Фи
	нкенштейн
	ский догов
	ор\, положи
	вший начало Фран
	ко-Персидскому а
	льянсу против Бри
	тании и России.\
	n    1838 — Де
	ятели кул
	ьтуры выкуп
	или из крепостной
	 неволи украинско
	го поэта Тараса 
	Шевченко.\n    18
	44 — В доме 
	Аксаковых
	 прошёл то
	ржественный
	 обед в честь при
	мирения русски
	х западников и 
	славянофилов.\n  
	  1848 — Открытие Уч
	редительного соб
	рания Франции.\n   
	 1852 — один из на
	ибов имама Ша
	миля — Хаджи-М
	урат\, перешедш
	ий со своим отря
	дом на сторону 
	русских\, пере
	бил охрану и у
	шёл в горы. Г
	олова Хаджи-
	Мурата до сег
	одняшнего дня\nхра
	нится в «Кунсткам
	ере» в Санкт-Петер
	бурге.\n    1878 
	— В здани
	и оперно
	го театра
	 Томас Алва
	 Эдисон впервые 
	продемонстриров
	ал изобретённый и
	м фонограф.\n    1896 — В 
	Лондоне вышел первый выпуск 
	таблоида «Daily Mail».XX ве
	к\n    1904\n     
	   Началось 
	строительств
	о Панамского к
	анала.\n     
	   В Англии 
	Генри Ройс
	 и Чарльз 
	Роллс начали п
	роизводство автом
	обилей под названи
	ем «Роллс-Ройс».\n    1
	910 - Создан Канадский в
	оенно-морской флот.
	\n   \n    1919\n   
	     Основа
	на Латвийск
	ая Академи
	я художест
	в.\n        
	В Пекине п
	роходит сту
	денческая демон
	страция протеста\, по
	ложившая начало Движению
	 4 мая.\n    1924\n       
	 В Париже начались
	 VIII Олимпийские 
	игры.\n      
	  Вертолёт Э. Э
	мишена первым пролете
	л по замкнутому маршру
	ту в 1 км (Франция).\n 
	   1927 — В США 
	создана А
	кадемия киноис
	кусства\, которая
	 вскоре учредит 
	кинопремию «Оск
	ар».\n    1931 
	— На се
	кретари
	ате РАПП
	 принято
	 решение «
	немедленно зан
	яться художест
	венным показом 
	героев пятилеток
	».\n    1934 — Откр
	ытие Московского Д
	ома кино (ныне Цент
	ральный Дом кино)
	.\n    1935 — Ста
	лин на выпу
	ске красных о
	фицеров произнёс с
	вою знаменитую фраз
	у: «Кадры решают вс
	ё!».\n    1944 — В США о
	тменены ограничени
	я на торговлю мясо
	м.\n    1946 — Пол
	итбюро ЦК 
	ВКП(б) пр
	иняло 
	постан
	овлени
	е об орг
	анизац
	ии Госу
	дарстве
	нного и
	здательст
	ва иностранной
	 литературы и Би
	блиотеки иност
	ранной литерату
	ры.\n    1947 — В 
	Калифорнии возн
	икла моторизован
	ная банда «Ангел
	ы ада».\n    196
	0 — Совет М
	инистров С
	ССР принял
	 постановл
	ение «Об из
	менении масш
	таба цен и з
	амене ныне о
	бращающихся ден
	ег новыми деньгами»\
	, в соответствии с кот
	орым с 1 января 1961
	\nбыло проведено
	 10-кратное ум
	еньшение цен 
	(деноминация)
	 и заработко
	в с введением «ново
	го» рубля\, приравн
	енного к десяти «с
	тарым».\n    1961 — 
	В СССР принят указ 
	об усилении борьб
	ы с тунеядством.\
	n    1966 — В Т
	урине подп
	исан прот
	окол об у
	частии ит
	альянско
	й фирмы «
	Фиат» в 
	сооружен
	ии промы
	шленного ком
	плекса по произ
	водству легковых 
	автомобилей в То
	льятти.\n    19
	70 — Кентск
	ая трагед
	ия. В унив
	ерситете 
	американ
	ского гор
	ода Кент 
	Национал
	ьная гвар
	дия открыл
	а огонь по сту
	денческой де
	монстрации против в
	торжения США в Камбо
	джу (4\nстудента пог
	ибли).\n    197
	9 — Марга
	рет Тэтч
	ер стан
	овится 
	премье
	р-министр
	ом Великобрита
	нии — первой ж
	енщиной-премье
	ром Великобрита
	нии.\n    1986 — З
	она эвакуации вокр
	уг Чернобыля увели
	чена до 30 километр
	ов.\n    1987 —
	 Принято 
	решение 
	исполком
	а Ленсовет
	а «О строительст
	ве сооружений защиты
	 Ленинграда от наводнен
	ий».\n    1988 — Компания
	 PepsiCo стала перв
	ой западной
	 фирмой\, куп
	ившей рекламное
	 время на Центра
	льном советском
	 телевидении.\n 
	   1990 — Верхо
	вный Совет
	 Латвийской 
	ССР резко ос
	удил включ
	ение Латви
	и в состав
	 Советско
	го Союза и 
	объявил о восс
	тановлении не
	зависимости Л
	атвийской Республики.
	\n    1993 — Принята
	 конституция К
	иргизии.\n    
	1994 — Депу
	таты Ев
	ропейског
	о парламент
	а проголосова
	ли за полнопра
	вное членство 
	Финляндии\, Норвеги
	и\, Австрии и Швеции в Евро
	пейском союзе с 1 январ
	я 1995.\n    1995 — 
	в авиака
	тастрофе
	 в Эквадо
	ре погиб пре
	зидент крупн
	ейшей нефтедобыва
	ющей компании Арге
	нтины YPF Хосе Эст
	енссоро\n    199
	8 — спустя н
	есколько ч
	асов посл
	е вступлен
	ия в должност
	ь в Ватикане 
	при загадоч
	ных обстоят
	ельствах был 
	застрелен 31-
	й командир Папско
	й Швейцарской Гварди
	и Алоиз\nЭстерманн с жено
	й.\n    2000 - Предметы
	 с затонувшего в 1912 «Т
	итаника» проданы на аукционе «Сотбис» з
	а $60 000.\n
DTSTART;VALUE=DATE:20170504
END:VEVENT
END:VCALENDAR
