BEGIN:VCALENDAR
VERSION:2.0
PRODID:-//IP.Board Calendar 4.0.13.1//EN
METHOD:PUBLISH
CALSCALE:GREGORIAN
X-WR-CALNAME:В этот день в прошлом
BEGIN:VTIMEZONE
TZID:Europe/London
TZURL:http://tzurl.org/zoneinfo/Europe/London
X-LIC-LOCATION:Europe/London
BEGIN:DAYLIGHT
TZOFFSETFROM:+0000
TZOFFSETTO:+0100
TZNAME:BST
DTSTART:20170326T020000Z
RRULE:FREQ=YEARLY;BYMONTH=3;BYDAY=-1SU
END:DAYLIGHT
BEGIN:STANDARD
TZOFFSETFROM:+0100
TZOFFSETTO:+0000
TZNAME:GMT
DTSTART:20171029T020000Z
RRULE:FREQ=YEARLY;BYMONTH=10;BYDAY=-1SU
END:STANDARD
END:VTIMEZONE
BEGIN:VEVENT
SUMMARY:Развилки Дня 5 мая
DTSTAMP:20170502T091144Z
SEQUENCE:0
UID:c44526e924be6ba3090372898fa5add4@172.17.0.3
ORGANIZER;CN="ясмин джакмич":fai@fai.org.ru
DESCRIPTION:\n5 маяДо XIX века
	\n     553 — открыл
	ся Второй Конс
	тантинопольски
	й собор.\n    12
	60 — Хубилай стан
	овится Великим 
	ханом монгольск
	ой империи.\n    1494 
	— Христофор Колу
	мб высаживается н
	а Ямайке.\n    1581
	 — В городе О
	строге выше
	л календарь
	 Ивана Фёдо
	рова. К каж
	дому месяцу бы
	ли напечатаны с
	тихи белорусско
	го поэта Андрея 
	Рымши.\n    175
	1 — Португ
	альский 
	министр и
	ностранных 
	дел Себастьян
	 Помбал обуздал
	 власть инквизи
	ции в Португал
	ии\, издав указ
	\, по которо
	му аутодафе 
	не должно проис
	ходить без\nпр
	авительственн
	ого одобрения.\n    
	1762 — Подписан Пет
	ербургский мирны
	й договор.\n    17
	64 — В Санкт-П
	етербурге 
	по указу и
	мператриц
	ы Екатерины 
	II основано 
	Воспитател
	ьное обществ
	о благородны
	х девиц и при 
	нём училище д
	ля мещанских
	 девушек (См
	ольный инс
	титут) —\
	nпервое в Рос
	сии женское в
	оспитательно
	-образовательн
	ое учреждение.\n    1788 — 
	Испанский мореплаватель Мар
	тинес Esteb?n Jos? Martinez
	 объявил остров
	 Ванкувер собственн
	остью Испании.\n    
	1789 — король Людовик X
	VI созывает Генерал
	ьные штаты\, вперв
	ые с 1614 года. Не
	способность 
	прийти к комп
	ромиссу в ход
	е заседаний\, с
	тали толчком для со
	бытий Великой\nфран
	цузской революции.
	XIX век    1816\n 
	       Ка
	рл Авгус
	т Саксен-В
	еймар-Эйз
	енахский 
	представил
	 первую не
	мецкую кон
	ституцию.\n
	        Опубликован
	 первый сонет английского по
	эта Джона Китса (John Keats).\
	n    1821 — смерть Напол
	еона I на острове Св
	ятой Елены.\n    
	1836 — В Бельги
	и введена в стр
	ой первая в конт
	инентальной Евр
	опе железная дор
	ога.\n    1849 
	— Фёдор 
	Достоевск
	ий вместе 
	с другими
	 членами
	 революц
	ионного к
	ружка петр
	ашевцев п
	о доносу 
	провокато
	ра Антонелли
	 арестован и за
	ключён в Петр
	опавловскую кре
	пость. Позже\nбыл вы
	несен 21 смертный пр
	иговор (в том числ
	е и Ф. М. Достое
	вскому\, но перед са
	мым приведением он
	 был заменён ссылк
	ой).\n    1862 — в
	 ходе Француз
	ской интерве
	нции в Мексик
	у произошла 
	Битва при Пу
	эбле\, в кот
	орой фран
	цузские в
	ойска под 
	командован
	ием Шарля 
	де Лорансь
	е были побе
	ждены мекси
	канской\nарм
	ией под коман
	дованием Игна
	сио Сарагосы. В
	 честь этого с
	обытия в Мексик
	е и США ежегодно отм
	ечается 5 мая (мек
	сиканский празд
	ник).\n    1873 —
	 заключён Скандин
	авский валютный со
	юз между Данией и 
	Швецией.\n    1891 — в Нью-
	Йорке открылся концерт
	ный зал Music Hall (сейч
	ас Карнеги-холл)
	\; дирижёром первог
	о концерта на открыти
	и был П. И. Чайковский.XX
	 век    1912\n      
	  Начало V Олимпи
	йских игр\, пров
	одимых в Стокг
	ольме (Швеция
	)\, где впер
	вые были
	 проведен
	ы ставшие
	 потом тр
	адиционным
	и торжестве
	нные церемо
	нии открытия
	 и закрытия\n
	Олимпийских
	 игр. Сами соре
	внования про
	ходили в теч
	ение двух с п
	оловиной мес
	яцев\, и наилучш
	их результатов
	 добились хозяев
	а\, которые завоевал
	и по 24 золотые и с
	еребряные меда
	ли и 17 бронзовых.\n  
	      Вышел первый 
	номер газеты «Прав
	да».\n    1919\n   
	     В Кие
	в с польск
	ими войск
	ами верну
	лись пет
	люровцы. Г
	руппа пре
	дставителей
	 Рады Украинс
	кой Народной р
	еспублики\, бывши
	х священников\, 
	запрещенных в 
	служении\, зая
	вила\, что\n
	все правосла
	вные епископы
	 на Украине — 
	враги украин
	ского народа
	\, так как пр
	ебывают в о
	бщении с п
	атриархом М
	осковским 
	святителем 
	Тихоном. Ра
	да на свое
	м заседан
	ии вынес
	ла\nпостан
	овление о
	б организа
	ции Украинск
	ой Церкви — са
	мостоятельной\
	, независимой ни
	 от какой Церкви
	\, в том числе М
	осковского Па
	триархата.\n   
	     В Париже 
	Американским
	\, Итальянским
	\, Японским\,
	 Английским
	 и Французс
	ким обществ
	ами Красног
	о Креста был 
	подписан акт о со
	здании «Лиги общ
	еств Красного Кре
	ста» (В октябре\n1
	983 года пере
	именована в Л
	игу обществ Красн
	ого Креста и Кра
	сного Полумесяц
	а\, с ноября 199
	1 года — «
	Международн
	ая Федерация
	 обществ Кра
	сного Креста и 
	Красного Полумесяца»
	\,\nштаб-квартира нах
	одится в Женеве).\n    
	1921 — Во Франции впервые предст
	авлены духи «Chanel No. 5».\
	n    1925\n     
	   В «Комс
	омольской 
	правде» на
	печатано 
	первое в 
	этой газет
	е стихотвор
	ение В. Мая
	ковского «
	Четырёхэтажн
	ая халтура».\n
	        В амери
	канском городк
	е Дейтон (шт. Тен
	несси) арестован 24-летний 
	школьный учитель Джон 
	Скоупс (John Scopes)\
	, осмелив
	шийся пре
	подавать з
	апрещённую
	 законами шта
	та\nэволюцио
	нную теорию Ч
	арльза Дарвина.
	 Судебный проц
	есс\, который 
	начался чере
	з два месяца\, 
	был окрещён «Обез
	ьяньим» и привлёк в
	нимание всего мира
	.\n    1926 — В свя
	зи с Днём пе
	чати на Твер
	ском бульва
	ре в Москве откры
	лся первый книжны
	й базар\, ставший т
	радиционным.\n  
	  1927 — На Волх
	овской ГЭС прошё
	л пуск первого 
	советского ге
	нератора.\n  
	  1929 — П
	ервый 
	полёт це
	льнометаллич
	еского трёхдвига
	тельного пассажи
	рского самолёта А
	НТ-9.\n    1936 —
	 Захват и
	тальянски
	ми войскам
	и столицы Эфио
	пии под командовани
	ем Пьетро Бадольо (
	Марш железной воли).\n  
	  1942 — В США введен
	ы карточки на са
	хар.\n    1944
	 — Оконч
	ено стро
	ительств
	о крупно
	го завод
	а цветной
	 металлурги
	и СССР — Каменск-
	Уральского метал
	лургического заво
	да (КУМЗ)\n    1945\
	n        Ка
	питуляция н
	емецких войс
	к в Голландии.\
	n        Нача
	ло Пражского вос
	стания\, поддержанно
	е 1-й пехотной диви
	зией ВС КОНР.\n 
	   1946 — Фра
	нцузы на рефе
	рендуме высказа
	лись против прое
	кта новой констит
	уции.\n    1947 — В
	 Ленинграде
	 открыт пер
	вый в стране
	 Дом обороны 
	ДОСААФ (Добровол
	ьного общества соде
	йствия армии\, авиа
	ции и флоту).\n   
	 1949 — Устав Со
	вета Европы под
	писали в Лондо
	не представители 
	Бельгии\, Дании\, 
	Франции\, Великоб
	ритании\, Ирланди
	и\, Италии\, Люксе
	мбурга\, Нидер
	ландов\, Норвег
	ии и Швеции\n(
	впоследствии 
	к Совету присо
	единятся Греци
	я\, Исландия и
	 Турция). Чле
	ны Совета 
	заявили о 
	своей при
	верженност
	и свободе и
	 принципу 
	главенств
	а законов. 
	Местом пре
	бывания\n
	централь
	ных учреж
	дений Сов
	ета выбр
	ан город
	 Страсбург
	. Централь
	ные учрежд
	ения Совет
	а — Консуль
	тативная ас
	самблея\, Ком
	итет министро
	в и Европейский 
	суд по правам челов
	ека.\nОтмечается к
	ак День Европы.\n 
	   1951 — В Ве
	ликобритании
	 показан первый ком
	пьютер\, созданный
	 специально для и
	гры.\n    1954 — 
	в результа
	те военного 
	переворота в Пара
	гвае к власти при
	шёл Альфредо Стре
	сснер.\n    1956 — В Т
	окио начался пер
	вый чемпионат м
	ира по дзюдо.\n 
	   1961 — Пер
	вый амери
	канский субо
	рбитальный полё
	т на космическом кор
	абле «Меркурий» (МР
	-3) Алана Шепарда.
	\n    1971 — Е
	вропейск
	ие валютны
	е рынки закры
	ваются после нача
	ла массового обмена д
	олларов США на марки.\n 
	   1972 — катастрофа DC-8 
	под Палермо (Сицилия).
	 Погибли 115 челов
	ек.\n    1975 
	— с ко
	нвейер
	а Ленин
	градского 
	производств
	енного объедин
	ения «Кировский завод» с
	ошли первые 300-сильные
	 тракторы К-701.\n  
	  1987 — Американ
	ский Конгресс на
	чал слушание по
	 скандалу Иранг
	ейт.\n    1990
	 — учреждена С
	оциал-демократ
	ическая партия
	 Российской Фе
	дерации.\n    
	1992 — Крымск
	ий парлам
	ент провоз
	гласил не
	зависимост
	ь Крыма и наз
	начил на август р
	еферендум о подт
	верждении этого
	 статуса.\n    1994
	\n        П
	арламентс
	кие структ
	уры Армени
	и\, Карабах
	а и Азербай
	джана подп
	исали Бишк
	екский пр
	отокол пр
	изывающий 
	к перемири
	ю.\n       
	 Французс
	кое прави
	тельство од
	обрило Зако
	н о желател
	ьной замен
	е в общест
	венных док
	ументах\, кон
	трактах и пр
	оизведениях 
	художественн
	ой литературы 
	3500 иностран
	ных\nвыражений
	 и технических те
	рминов на национ
	альные эквивалент
	ы.\n    1999\n   
	     Македон
	ия закрыла с
	вои границы д
	ля албански
	х беженцев 
	из Косово.\
	n        
	Впервые в
	 истории Великобритании с
	остоялись выборы парламента Шотландии. 
	\n
DTSTART;VALUE=DATE:20170505
END:VEVENT
END:VCALENDAR
