BEGIN:VCALENDAR
VERSION:2.0
PRODID:-//IP.Board Calendar 4.0.13.1//EN
METHOD:PUBLISH
CALSCALE:GREGORIAN
X-WR-CALNAME:В этот день в прошлом
BEGIN:VTIMEZONE
TZID:Europe/London
TZURL:http://tzurl.org/zoneinfo/Europe/London
X-LIC-LOCATION:Europe/London
BEGIN:DAYLIGHT
TZOFFSETFROM:+0000
TZOFFSETTO:+0100
TZNAME:BST
DTSTART:20170326T020000Z
RRULE:FREQ=YEARLY;BYMONTH=3;BYDAY=-1SU
END:DAYLIGHT
BEGIN:STANDARD
TZOFFSETFROM:+0100
TZOFFSETTO:+0000
TZNAME:GMT
DTSTART:20171029T020000Z
RRULE:FREQ=YEARLY;BYMONTH=10;BYDAY=-1SU
END:STANDARD
END:VTIMEZONE
BEGIN:VEVENT
SUMMARY:События Дня 6 мая
DTSTAMP:20170502T091554Z
SEQUENCE:0
UID:96d96ff690adb78cff05ce96d2092e4b@172.17.0.3
ORGANIZER;CN="ясмин джакмич":fai@fai.org.ru
DESCRIPTION:\n6 мая\nДо XIX века\n
	    1312 — Ве
	нский собор
	 одобрил намерен
	ие папы римског
	о объявить крест
	овый поход.\n   
	 1527 — Немец
	кие ландс
	кнехты\, вз
	бунтовавши
	еся вследст
	вие долгого о
	тсутствия жалова
	ния\, взяли штурмо
	м и разграбили Рим. П
	апе Клименту VII уд
	алось спастись.\n    1626 
	— Голландский колонист
	 Петер Минёйт (Peter Min
	uit) приобрёл у 
	индейцев Манхэтте
	н за горсть бижутер
	ии стоимостью 25 долл
	аров. В 1664 году в
	ласть перешла
	 к англичанам\,\
	nкоторые создали 
	из поселений остр
	ова город Нью-Йорк
	.\n    1686 — заклю
	чён «Вечный мир» 
	между Россией и 
	Речью Посполито
	й.\n    1715 — И
	здан Арти
	кул воинс
	кий — первы
	й военно-уголовн
	ый и уголовно-проц
	ессуальный кодекс России
	.\n    1757 — Битва под Пр
	агой.\n    1782 - Открыта п
	ервая дорога из Росс
	ии в Грузию.XIX век   
	 1833 — В США произвед
	ён первый стальн
	ой плуг.\n    183
	5 — Вышел первый 
	номер американс
	кой газеты «Нью-Й
	орк геральд».\n 
	   1840 — Офици
	альная дата вы
	пуска в обращение 
	первой почтовой марк
	и («Чёрный пенни»).\n 
	   1861 — Арканзас стал 9-
	м штатом\, отделивш
	имся от США.\n    1
	881 — К России пр
	исоединена Ахал-Т
	екинская земля (ны
	не часть Туркмении).\
	n    1889 — Всемирная выс
	тавка в Париже (по 6 
	ноября).\n    1890
	 — Церковь мормон
	ов отказалась от
	 многожёнства.XX ве
	к    1902 — одно 
	из крупнейши
	х кораблекруш
	ений XX века: 
	в Бенгальс
	ком заливе
	 было заст
	игнуто цикло
	ном близ Рангуна и по
	терпело крушение су
	дно «Каморта» (англ. 
	«Camorta»)\nпод флагом
	 Великобритании\; чис
	ло погибших составило 
	655 человек.\n    1904 
	— На станции 
	Кучино\, под Мос
	квой\, открыт
	 Аэродинамич
	еский институ
	т (будущий ЦАГИ
	)\, основателем котор
	ого является проф
	ессор Н. Е. Жуков
	ский.\n    19
	06 — Опубли
	кованы «Основн
	ые государствен
	ные законы Росс
	ийской империи»
	.\n    1908 — Брат
	ья Райт возобнови
	ли полёты после т
	рёхлетнего перер
	ыва.\n    1910 —
	 Георг V с
	тановитс
	я королё
	м Соедин
	ённого К
	оролевс
	тва Велик
	обритании
	 и Ирланди
	и и Соединённог
	о Королевства В
	еликобритании и
	 Северной Ирланд
	ии.\n    1914 —
	 В британ
	ском пар
	ламенте 
	палатой 
	лордов о
	тклонён зак
	онопроект о пре
	доставлении же
	нщинам равного 
	права голоса.\
	n    1919 — Провоз
	глашено создан
	ие Крымской со
	ветской республ
	ики.\n    1921 — З
	аключено торгово
	е соглашение межд
	у РСФСР и Германией.
	\n    1927 — По иниц
	иативе Жюля Ро
	мена\, Жан-Р
	ишара Блок
	а и Жоржа
	 Дюамеля
	 в Париж
	е состо
	ялось ор
	ганизацион
	ное собрание фран
	цузского общества
	 культурной связи 
	с СССР.\n    193
	7\n       
	 Открыто
	 регуля
	рное воз
	душное па
	ссажирско
	е сообщение
	 по маршрут
	у Ленингра
	д—Москва.\
	n        В
	 Лейкхорс
	те под Нью-
	Йорком потерпел 
	катастрофу герман
	ский дирижабль «Ги
	нденбург».\n    1940 - В
	 Англию прибыл золо
	той запас Норвегии
	.\n    1941 — И. В. Стали
	н становится пре
	дседателем Совн
	аркома.\n    194
	2 — На стадио
	не «Динамо» в ос
	аждённом Ленинг
	раде прошёл футб
	ольный матч.\n    1946 — 
	Первый полёт учебног
	о самолёта Як-18.\n 
	   1953 — Хиру
	рг Джон Г
	иббон из
	 Филадел
	ьфии впер
	вые успеш
	но примени
	л аппарат 
	«искусственное
	 сердце-лёгкие» во в
	ремя операции на 
	открытом сердце[8
	].\n    1955 — Ве
	ликобрита
	ния обратила
	сь в Междуна
	родный суд 
	для решени
	я спора с Арге
	нтиной и Чили о п
	ринадлежности Фо
	лклендских остров
	ов.\n    1968 — В 
	связи с ул
	ичными боям
	и в Париже франц
	узские власти з
	акрыли Парижский
	 университет.\n   
	 1970 — Подписани
	е в Праге Дого
	вора о дружб
	е\, сотрудничестве
	 и взаимной помощи
	 между СССР и Чехословакие
	й.\n    1974 — Отставка Вилли 
	Брандта (Willy Brandt) с пост
	а федерального к
	анцлера ФРГ.\n  
	  1985 — Мурманс
	ку и Смоленску пр
	исвоено почётно
	е звание «Город-г
	ерой».\n    1986
	 — Было офиц
	иально объявлено
	 известие об ава
	рии на Чернобыльс
	кой АЭС.\n    1994
	 — Королева
	 Великобрит
	ании Елизав
	ета II и пре
	зидент Фр
	анции Фран
	суа Миттеран торжественно о
	ткрыли тоннель под проливом Ла-Манш. \n
DTSTART;TZID=Europe/London:20170505T210000Z
DTEND;TZID=Europe/London:20170505T210000Z
END:VEVENT
END:VCALENDAR
