BEGIN:VCALENDAR
VERSION:2.0
PRODID:-//IP.Board Calendar 4.0.13.1//EN
METHOD:PUBLISH
CALSCALE:GREGORIAN
X-WR-CALNAME:В этот день в прошлом
BEGIN:VTIMEZONE
TZID:Europe/London
TZURL:http://tzurl.org/zoneinfo/Europe/London
X-LIC-LOCATION:Europe/London
BEGIN:DAYLIGHT
TZOFFSETFROM:+0000
TZOFFSETTO:+0100
TZNAME:BST
DTSTART:20170326T020000Z
RRULE:FREQ=YEARLY;BYMONTH=3;BYDAY=-1SU
END:DAYLIGHT
BEGIN:STANDARD
TZOFFSETFROM:+0100
TZOFFSETTO:+0000
TZNAME:GMT
DTSTART:20171029T020000Z
RRULE:FREQ=YEARLY;BYMONTH=10;BYDAY=-1SU
END:STANDARD
END:VTIMEZONE
BEGIN:VEVENT
SUMMARY:События Дня 7 мая
DTSTAMP:20170502T092159Z
SEQUENCE:0
UID:6adc88e4e0fe31faf4816f4b3ed9c2b8@172.17.0.3
ORGANIZER;CN="ясмин джакмич":fai@fai.org.ru
DESCRIPTION:\n7 маяДо XIX века\
	n    1104 — Крестонос
	цы потерпели пор
	ажение в битве пр
	и Харране.\n   
	 1253 — Из Ко
	нстантин
	ополя к 
	монгола
	м отправ
	илось франц
	узское посольство с м
	онахом-францисканцем Виллемом Ру
	бруком (Guillaume de Rubrouck) во глав
	е.\n    1663 — В ц
	ентре Лондона 
	открылся Корол
	евский театр. Че
	рез девять лет 
	он сгорел\, но б
	ыл вновь возв
	едён на своём
	 нынешнем месте на Д
	рури-лейн. Ныне эт
	о старейший театр 
	Англии.\n    1744 
	— Указ Елизав
	еты Петровны об 
	отмене (фактически -
	 моратории) в Росс
	ии смертной казни
	.\n    1755 — в зд
	ании Апте
	карского 
	дома у Вос
	кресенски
	х ворот на
	 месте ны
	нешнего 
	Историческо
	го музея на Красн
	ой площади открылся Мо
	сковский университет[
	4].XIX век\n    1824 
	— В Вене 
	состоялось пер
	вое исполнение Девятой симф
	онии Людвига Ван Бетховена (Lu
	dwig van Beethoven). Посвящённая
	 королю Пруссии Фридриху Вильгельму I
	II\n(Friedrich Wilhelm III)\, она была в
	стречена публикой ов
	ацией.\n    1826 — начал
	о работ по составл
	ению (1826—1830) п
	ервого Полно
	го собрания 
	законов Российско
	й империи под руков
	одством М. М. Спе
	ранского.\n    1832 —
	 Греция стала не
	зависимым корол
	евством.\n    1861 
	— Штат Теннесси 
	принял решение о
	б отделении от СШ
	А.\n    1875 — 
	Подписание 
	русско-япон
	ского догов
	ора об обме
	не террито
	риями\, по к
	оторому Ку
	рильские ост
	рова уступались Р
	оссией Японии в о
	бмен на остров Сахалин.\n   
	 1887 — Американец Томас Сти
	венс (Thomas Stevens) з
	авершил первое 
	кругосветное путе
	шествие на велосипед
	е\, проехав 13500 миль и пр
	обыв в пути более трёх 
	лет.\n    1890 — В России пе
	ресмотрены законы 188
	2 и 1885 гг. о работе
	 малолетних
	 и подростк
	ов в сторо
	ну их ухудше
	ния: для малол
	етних допуска
	лась девятича
	совая работа\, 
	а также\nрабо
	та в праздни
	ки с разреше
	ния инспекци
	и\; допущена 
	ночная раб
	ота подрост
	ков\; фабрик
	анты также 
	получили пра
	во увольнять раб
	очего при неявке на раб
	оту более шести дней в
	 месяц\nи т. д.\n    
	1895 — В Пете
	рбурге р
	усский 
	физик и э
	лектроте
	хник Алек
	сандр Попов 
	продемонстрировал 
	изобретение\, ставше
	е прототипом радио.XX ве
	к\n    1915 - Герман
	ская подводн
	ая лодка «U-20
	» атаковала ан
	глийский пассажи
	рский корабль «Лузит
	ания»\; погибло 1198
	 пассажиров.\n  
	  1918 — Восст
	авшие про
	тив больш
	евиков д
	онские ка
	заки и пр
	ибывший
	 отряд по
	лковника
	 Дроздовс
	кого осво
	бождают от
	 большевик
	ов Новочер
	касск. Окон
	чание поход
	а Первой Отде
	льной\nбригад
	ы Русских до
	бровольцев из Ру
	мынии на Дон\, изве
	стного как «Дрозд
	овский поход».\n   
	 1920\n        Под
	писан договор 
	о мире между 
	РСФСР и неза
	висимой Грузие
	й.\n        В Киев 
	вступили украинс
	кие и польские во
	йска.\n    1934 
	— Создание 
	на Амуре Еврейск
	ой автономной обл
	асти с центром в Биробидж
	ане.\n    1941 — Оркестр Гленн
	а Миллера (Glenn Miller) 
	записал одну из самых популярны
	х своих мелодий «Chattanooga Choo Choo».\n  
	  1945 — 7 мая в 2:41 н
	очи в Реймсе 
	был подписан ак
	т о безоговороч
	ной капитуляции
	 Германии\n    19
	46 — В Токио 
	основана ком
	пания «Токио
	 цусин когё» («
	Токийская компан
	ия телесвязи»)\,
	 впоследствии 
	«Сони».\n    1
	951 — Междун
	ародный о
	лимпийский ко
	митет пригласил СС
	СР принять участие в Оли
	мпийских играх 1952 года
	.\n    1954\n       
	 США\, Франция
	 и Англия отве
	тили отказом
	 на предложе
	ние СССР во
	йти в сост
	ав НАТО.\
	n       
	 Капитуля
	цией фран
	цузского 
	гарнизона 
	завершило
	сь сражение
	 при Дьенбьенфу\, 
	решающее сраже
	ние Первой Инд
	окитайской во
	йны.\n    1956
	 — Минис
	тр здраво
	охранения В
	еликобритании
	 отказался начат
	ь кампанию по борь
	бе с курением\, заявив\,
	 что он лично не убе
	ждён в его вреде.
	\n    1958 — первая ав
	иакатастрофа в истории 
	самолётов Ил-18. Погибли
	 10 человек.\n    196
	0\n        В 
	СССР приняти
	е закона о пос
	тепенной отмен
	е налога с зар
	аботной платы.\n   
	     Закон о введении
	 7-часового рабочего дн
	я.\n    1971\n       
	 В США объявлен
	о\, что в сентябре п
	ройдут гастроли Д
	юка Эллингтона в
	 СССР.\n    1985 — С
	овет Министро
	в СССР принял 
	постановление 
	№ 410 «О мерах
	 по преодолени
	ю пьянства и алкого
	лизма\, искоренен
	ию самогоноварен
	ия»[5].\n    198
	8 — Начало
	 учредите
	льного со
	брания «Д
	емократичес
	кого союза»\, перв
	ой оппозиционно
	й КПСС политичес
	кой партии.\n  
	  1992\n     
	   Соотв
	етствующ
	ими указ
	ами през
	идентов Ро
	ссийской Ф
	едерации и
	 Казахстан
	а созданы Во
	оружённые Си
	лы РФ и Вооруж
	ённые силы Ре
	спублики Каз
	ахстан.\n    
	    В Росси
	и водка и спирт
	 впервые начали р
	еализовываться по сво
	бодным ценам.\n    19
	97\n        Компания Int
	el официально представ
	ила микропроцессор P
	entium II.\n        
	На Каннском кинофест
	ивале прошла премьера ф
	ильма Люка Бессона (Luc Bess
	on) «Пятый элемент».\
	n    1999 — Впервые 
	с раскола хрис
	тианской церкви
	 в 1054 году Папа римский посети
	л православную страну (Румынию). \n
DTSTART;VALUE=DATE:20170507
END:VEVENT
END:VCALENDAR
