BEGIN:VCALENDAR
VERSION:2.0
PRODID:-//IP.Board Calendar 4.0.13.1//EN
METHOD:PUBLISH
CALSCALE:GREGORIAN
X-WR-CALNAME:В этот день в прошлом
BEGIN:VTIMEZONE
TZID:Europe/London
TZURL:http://tzurl.org/zoneinfo/Europe/London
X-LIC-LOCATION:Europe/London
BEGIN:DAYLIGHT
TZOFFSETFROM:+0000
TZOFFSETTO:+0100
TZNAME:BST
DTSTART:20150329T020000Z
RRULE:FREQ=YEARLY;BYMONTH=3;BYDAY=-1SU
END:DAYLIGHT
BEGIN:STANDARD
TZOFFSETFROM:+0100
TZOFFSETTO:+0000
TZNAME:GMT
DTSTART:20151025T020000Z
RRULE:FREQ=YEARLY;BYMONTH=10;BYDAY=-1SU
END:STANDARD
END:VTIMEZONE
BEGIN:VEVENT
SUMMARY:Развилки Дня
DTSTAMP:20150511T180539Z
SEQUENCE:0
UID:b8a84e0ad4bbb8227126a3fbbce94ba4@172.17.0.3
ORGANIZER;CN="ясмин джакмич":fai@fai.org.ru
DESCRIPTION:\n\n10 маяДо XIX века\n 
	   1310 — Отк
	рылся Сан
	ский собо
	р в Париже п
	од предсе
	дательств
	ом архиепи
	скопа Филипп
	а де Мартинь
	е\, брата коро
	левского министр
	а Энгеррана\, дов
	еренного челове
	ка короля.\n    
	1497 — Началось вто
	рое путешествие 
	Америго Веспуччи
	 в Новый Свет.\n   
	 1503 — Христофор К
	олумб открыл Ка
	ймановы остров
	а.\n    1534 — 
	Мореплават
	ель Жак Картье 
	объявил Ньюфаун
	дленд французски
	м владением.\n    
	1706 — Спущен н
	а воду первы
	й военный корабль
	\, построенный в А
	дмиралтействе в П
	етербурге.\n    
	1775 — В Филад
	ельфии от
	крылся 2-
	й Конти
	нентальный
	 конгресс восс
	тавших американски
	х колоний Великобритани
	и.\n    1796 — Битва по
	д ЛодиXIX век   
	 1871 — Подпи
	сание Франкфу
	ртского мира пол
	ожившего конец 
	Франко-прусской 
	войне.\n    1881 — Ру
	мыния провозглашен
	а королевством.\n 
	   1883 — В Москве 
	зажглись первые 2
	2 электрических 
	дуговых фонаря.XX
	 век    1906 — О
	ткрылось первое зас
	едание 1-й Государс
	твенной Думы Росси
	и.\n    1907 — П. С
	толыпин на 
	заседании Д
	умы произне
	с одно из част
	о цитируемых 
	выражений: «Ва
	м нужны великие по
	трясения\, нам нужн
	а великая Россия».\
	n    1913 — Первый 
	полёт самолёт
	а С-9 («Большой
	 Балтийский» или 
	«Гранд») конструк
	тора Игоря Сикорског
	о.\n    1924\n      
	  Главой ФБР ст
	ал Эдгар Гувер\,
	 который будет занимать 
	этот пост до конца своих д
	ней (ум. 1972 г).\n    1
	932 — В Ленинг
	раде завод «Комин
	терн» выпустил п
	ервые 20 советски
	х телевизоров.
	\n    1933 — 
	Демонст
	ративное с
	ожжение кн
	иг национа
	л-социалис
	тическими 
	студентами в
	 Берлине\, п
	оложившее на
	чало массовому уни
	чтожению книг\, проти
	вных немецкому духу.\n 
	   1940\n        Ге
	орг VI официаль
	но\, в связи 
	с чрезвычай
	ными обстоя
	тельствами\
	, назначил Ч
	ерчилля пре
	мьер-минист
	ром.\n     
	   Немецки
	е войска н
	а Западно
	м фронте н
	ачали Весен
	нее наступле
	ние на объед
	инённые силы
	 союзников (англ
	ийские\, французские
	\, голландские и б
	ельгийские части).\n
	    1941 — На реакт
	ивном истребителе Мес
	сершмитт Me.163 вперв
	ые преодолён рубеж 1000
	 км/ч. Точная скорос
	ть самолёта составила 1003
	\,9 км/ч. Рекорд продержа
	лся до 1947 года.\n   
	 1946 — Начало 
	исследований в
	 США верхних слоёв ат
	мосферы с помощью троф
	ейных ракет А-4 (Фау-2
	).\n    1960 — А
	мерикан
	ская ато
	мная лодка
	 «Тритон» 
	завершила пер
	вое подводное круго
	светное путешествие
	\, длившееся 84 дня\n
	    1978 — В О
	дессе начались съёмки фильма «
	Место встречи изменить нельзя». \n
DTSTART;VALUE=DATE:20150509
END:VEVENT
END:VCALENDAR
