BEGIN:VCALENDAR
VERSION:2.0
PRODID:-//IP.Board Calendar 4.0.13.1//EN
METHOD:PUBLISH
CALSCALE:GREGORIAN
X-WR-CALNAME:В этот день в прошлом
BEGIN:VTIMEZONE
TZID:Europe/London
TZURL:http://tzurl.org/zoneinfo/Europe/London
X-LIC-LOCATION:Europe/London
BEGIN:DAYLIGHT
TZOFFSETFROM:+0000
TZOFFSETTO:+0100
TZNAME:BST
DTSTART:20190331T020000Z
RRULE:FREQ=YEARLY;BYMONTH=3;BYDAY=-1SU
END:DAYLIGHT
BEGIN:STANDARD
TZOFFSETFROM:+0100
TZOFFSETTO:+0000
TZNAME:GMT
DTSTART:20191027T020000Z
RRULE:FREQ=YEARLY;BYMONTH=10;BYDAY=-1SU
END:STANDARD
END:VTIMEZONE
BEGIN:VEVENT
SUMMARY:19 мая 2019 го
	да в Есс
	ентуках
	 состоя
	лась торжественно
	е открытие мемориала трагедии
	 Понтийского эллинизма.
DTSTAMP:20190519T151310Z
SEQUENCE:0
UID:9236008fb4cfb9de505390df749d667b@172.17.0.3
ORGANIZER;CN="daichimaru":fai@fai.org.ru
DESCRIPTION:\nГранди
	озный мемориал тр
	агедии греков Пон
	та в Османской Т
	урции в 1916—192
	3 гг. будет 
	воздвигну
	т на террито
	рии храма Святых 
	апостолов Петра и Павл
	а. На его открытии 19 
	мая 2019 года\, в д
	ень 100-летия со
	временной греч
	еской трагедии в
	 первой четверти
	 20-го века\, в д
	ень Памяти и 
	Скорби\, соб
	ерутся тыся
	чи греков 
	со всей Рос
	сии\, котор
	ые возне
	сут их м
	олитву о
	 наших с
	оотечест
	венниках\,
	 дедах и 
	прадеда
	х — жертва
	х трагедии.
	Пепел невин
	но убиенных
	 душ наших с
	оотечествен
	ников\, предк
	ов все стуч
	ит в наших
	 сердцах. 
	Мы не мож
	ем этого 
	забыть! 
	Память 
	— это сп
	асение и
	 причащ
	ение наш
	их душ.Т
	оржест
	венная цер
	емония освящени
	я начала строит
	ельства мемориа
	ла состоялась 10
	 ноября 2018 го
	да на тер
	ритории хра
	ма апостоло
	в Петра и П
	авла (будущей
	 Петропавло
	вской Лавры)
	. На ней со
	брались с
	лужители це
	ркви\, пред
	ставители
	 греческой
	 общины Став
	ропольского 
	края\, власт
	и и обществ
	енности г.
	 Ессентук
	и\, Кавмин
	вод. Литур
	гию отслу
	жил митр
	ополит П
	ятигорск
	ий и Чер
	кесский 
	Феофила
	кт\, прозв
	учали вы
	ступлени
	я извест
	ных и за
	служенны
	х соотече
	ственнико
	в\, была пр
	едставле
	на культ
	урная пр
	ограмма 
	«Памяти
	 геноцид
	а греков
	 Понта».
	Собрание
	 Оргкомите
	та строител
	ьства Мемор
	иала провод
	ится каждую н
	еделю (в пят
	ницу). На нем
	 обсуждаются
	 этапы строите
	льства\, фина
	нсовые вопр
	осы\, различн
	ые вопросы\
	, связанны
	е с ходом
	 строител
	ьства Мем
	ориала\, а
	 так же 
	по сцен
	арию цер
	емонии о
	ткрытия 
	мемориал
	ьного комп
	лекса. Зас
	едания Ор
	гкомитета
	 проходят 
	в храме Пет
	ра и Павла
	. На нем при
	сутствуют 
	абсолютно все
	 желающие: гр
	еки и эллинофи
	лы. Достоин уп
	оминания фак
	т\, что в чи
	сле люде
	й\, внес
	ших фина
	нсовое 
	доброво
	льное п
	ожертвова
	ние на стр
	оительство 
	мемориала\,
	 многочисле
	нные эллино
	филы. Это н
	аше общее св
	ятое дело!П
	остоянные 
	спикеры з
	аседаний Ор
	гкомитета: М. А.
	 Афанасов (сенатор 
	РФ от Ставропольского к
	рая)\, П. Н. Алексов\, П. Н. Муз
	енитов\, В. К. Саввиди\, В. К
	. Зубалов\, И. М. Ка
	лайчев\, Ф. Г.
	 Куцуради
	с. Работы
	 по возв
	едению м
	емориал
	а Скорби
	 и Памят
	и о траг
	едии греков
	 малоазийско
	го Понта в Ос
	манской Импери
	и в первой четв
	ерти 20-го века
	 идут полны
	м ходом. К
	аждый из
	 сотен тыс
	яч греков Рос
	сии и простр
	анства бывше
	го Советског
	о Союза\, в
	о всем м
	ире\, об 
	этом го
	ворится
	 в обращ
	ении к 
	соотеч
	ественн
	икам Предс
	едателя МН
	КЭ греков 
	МО г. Есс
	ентуки «П
	ерикл» Фед
	ора Василиа
	ди\, может
	 стать с
	опричас
	тным к эт
	ому святом
	у делу дух
	овности и 
	сохранения
	 историческ
	ой памяти. 
	Это наш о
	бщий свящ
	енный долг
	!«Создание
	 мемориала 
	Скорби и П
	амяти — э
	то наше об
	щее дело. 
	В нем учас
	твуют наши
	 известные
	 соотечеств
	енники и са
	мые простые 
	люди\, котор
	ые из свои
	х скромных п
	енсий принос
	ят нам свою к
	ровную тыся
	чу рублей с
	о словами\, ч
	то трагедия
	 греков Понт
	а затронула
	 каждую гре
	ческую семью
	\, никто не
	 может ст
	оять в ст
	ороне от
	 этого с
	вятого д
	ела»\, —
	 испове
	дальные
	 слова ч
	лена П
	опечит
	ельског
	о Совет
	а Варва
	ры Савв
	иди.Авт
	орство 
	композ
	иции ме
	мориала
	 по пра
	ву прин
	адлежит 
	коллект
	ивному т
	руду много
	численных 
	наших соотеч
	ественников:
	 нашей греч
	еской моло
	дежи\, наш
	им ветера
	нам\, под
	вижника
	м Право
	славия 
	Павлу М
	узенитову
	 и Павлу 
	Алексову\
	, российск
	ому сенат
	ору Михаи
	лу Афанасо
	ву\, истор
	ику Фал
	есу Куц
	урадису
	\, автор
	ам иде
	и созд
	ания м
	емори
	ала И
	вану К
	алайче
	ву и Вл
	адимиру 
	Зубалов
	у. Вопло
	тителем э
	того колл
	ективног
	о труда с
	тал высо
	кий про
	фессиона
	л своего 
	дела худ
	ожник-ди
	зайнер А
	лександр 
	Крейдин.Ес
	сентуки. Т
	ерритория
	 храма Свя
	тых апосто
	лов Петра 
	и Павла. 
	Мемориал 
	трагедии 
	Понтийско
	го эллиниз
	ма (греков ма
	лоазийского П
	онта) в Осман
	ской Империи
	 в первой четв
	ерти 20-го век
	а. Место па
	ломничества
	 и причащени
	я наших душ.
	 Чтобы пом
	нили!Кажды
	й путник\, п
	ришедший к 
	мемориалу с
	овременной г
	реческой тра
	гедии\, греков
	 Понта\, прон
	икнется глу
	биной этой б
	оли и скорби\,
	 прочувствует через свою 
	душу и сердце.Никос Сидиропулосhttps://www.gre
	ekmos.ru/memorial_essentuki/\n
DTSTART;TZID=Europe/London:20190519T070000Z
DTEND;TZID=Europe/London:20190519T205600Z
END:VEVENT
END:VCALENDAR
