BEGIN:VCALENDAR
VERSION:2.0
PRODID:-//IP.Board Calendar 4.0.13.1//EN
METHOD:PUBLISH
CALSCALE:GREGORIAN
X-WR-CALNAME:В этот день в прошлом
BEGIN:VTIMEZONE
TZID:Europe/London
TZURL:http://tzurl.org/zoneinfo/Europe/London
X-LIC-LOCATION:Europe/London
BEGIN:DAYLIGHT
TZOFFSETFROM:+0000
TZOFFSETTO:+0100
TZNAME:BST
DTSTART:20150329T020000Z
RRULE:FREQ=YEARLY;BYMONTH=3;BYDAY=-1SU
END:DAYLIGHT
BEGIN:STANDARD
TZOFFSETFROM:+0100
TZOFFSETTO:+0000
TZNAME:GMT
DTSTART:20151025T020000Z
RRULE:FREQ=YEARLY;BYMONTH=10;BYDAY=-1SU
END:STANDARD
END:VTIMEZONE
BEGIN:VEVENT
SUMMARY:Развилки Дня
DTSTAMP:20150511T180625Z
SEQUENCE:0
UID:cc7691bd84dabe821c86d69b8e33eb58@172.17.0.3
ORGANIZER;CN="ясмин джакмич":fai@fai.org.ru
DESCRIPTION:\n\n11 маяДо XIX века
	\n     330 — торже
	ственная цере
	мония освящени
	я Константиноп
	оля.\n     868 — 
	китайский мо
	нах Ван Цзе и
	зготовил «Ал
	мазную сутру
	». Это самый
	 древний из д
	ошедших до наших
	 дней точно дати
	рованный печат
	ный документ.\n 
	   1709 — начал
	ась первая мас
	совая эмиграция немц
	ев из Пфальца в Севе
	рную Америку.XIX ве
	к\n    1860 — высадка
	 «тысячи» Джузепп
	е Гарибальди на С
	ицилии.\n    18
	67 — на ко
	нференци
	и в Лондо
	не европ
	ейские 
	державы
	 гаранти
	ровали незав
	исимость и нейт
	ралитет Великог
	о герцогства Люк
	сембург.\n    1
	878 — Макс Хеде
	ль совершил п
	окушение на имп
	ератора Германии В
	ильгельма I\, которы
	й не пострадал.\n
	    1881 — импера
	торский манифес
	т\, составленны
	й под влиянием 
	К. П. Победоно
	сцева\, обер-прок
	урора Священного С
	инода: новый царь 
	Александр III (сы
	н Александра 
	II) подтвердил 
	свою приверж
	енность\nохр
	ане самодер
	жавия и его 
	устоев\, открыва
	ющий эпоху контрр
	еформ и политической ре
	акции.\n    1891 — Инциде
	нт в Оцу\, Япония.
	\n    1900 — на
	 Петербу
	ргском за
	воде «Ново
	е адмиралте
	йство» (будущ
	ие «Адмиралтейские
	 верфи») спущен на 
	воду крейсер «Аврора
	».XX век    1926 — со Ш
	пицбергена в Те
	ллер (Аляска\, С
	ША) в первый
	 полёт на ди
	рижабле на
	 Северный 
	полюс выл
	етел дириж
	абль «Норвег
	ия». Среди ч
	ленов экипаж
	а — выдающиеся 
	личности: Амундсен\
	, Умберто Нобиле 
	и\nЛинкольн Элл
	суорд.\n    1927 — 
	образована Амер
	иканская академия
	 киноискусств.\n  
	  1928 — в Нью-
	Йорке начата пер
	вая в мире регул
	ярная трансляц
	ия телепередач.
	\n    1931 — С 
	банкрот
	ством авс
	трийского
	 банка «Кред
	ит-Анштальт» нача
	лся финансовый кр
	изис в Центрально
	й Европе.\n    19
	37\n        Се
	верная военная ф
	лотилия была пре
	образована в Севе
	рный флот.\n    1939 — 
	начался Халхин-Г
	ольский конфликт
	.\n    1949\n     
	   Королевст
	во Сиам переи
	меновывается
	 в Таиланд.\n 
	       В Нью-Й
	орке продан перв
	ый фотоаппарат «Пола
	роид». Стоил он тогда
	 89 долларов 95 цен
	тов.    1955 
	— начал
	ось сов
	ещание в
	 Варшаве
	 предста
	вителей в
	осьми ев
	ропейских
	 социалистиче
	ских стран по
	 обеспечению 
	мира и безопасн
	ости в Европе\, 
	на котором за
	ключили догов
	ор о дружбе\, со
	трудничестве\nи вз
	аимной помощи (Ва
	ршавский договор
	).\n    1959 — в 
	Женеве откры
	лась конферен
	ция министров 
	иностранных де
	л СССР\, США\, 
	Великобритани
	и и Франции по
	 Германии и бе
	рлинскому вопросу
	. От ФРГ и ГДР при
	сутствуют набл
	юдатели.\n    1
	960 — агенты
	 израильс
	ких спецс
	лужб захват
	или в Буэно
	с-Айресе на
	цистского п
	реступника Адо
	льфа Эйхмана\, 
	который затем 
	был тайно вывезен из
	 страны\, предстал п
	еред судом и был ка
	знён.\n    1961 — с
	остоялся первый взл
	ёт вертолёта Ка-25 (лёт
	чик-испытатель Д. К. 
	Ефремов).\n    19
	67 — Великобри
	тания\, Дан
	ия и Ирландия
	 официально заявил
	и о своём желании 
	присоединиться к
	 ЕЭС.\n    2000 
	— в Индии
	 родилась миллиардная жи
	тельница этого государства — Аста Арора
	. \n
DTSTART;VALUE=DATE:20150510
END:VEVENT
END:VCALENDAR
