BEGIN:VCALENDAR
VERSION:2.0
PRODID:-//IP.Board Calendar 4.0.13.1//EN
METHOD:PUBLISH
CALSCALE:GREGORIAN
X-WR-CALNAME:В этот день в прошлом
BEGIN:VTIMEZONE
TZID:Europe/London
TZURL:http://tzurl.org/zoneinfo/Europe/London
X-LIC-LOCATION:Europe/London
BEGIN:DAYLIGHT
TZOFFSETFROM:+0000
TZOFFSETTO:+0100
TZNAME:BST
DTSTART:20150329T020000Z
RRULE:FREQ=YEARLY;BYMONTH=3;BYDAY=-1SU
END:DAYLIGHT
BEGIN:STANDARD
TZOFFSETFROM:+0100
TZOFFSETTO:+0000
TZNAME:GMT
DTSTART:20151025T020000Z
RRULE:FREQ=YEARLY;BYMONTH=10;BYDAY=-1SU
END:STANDARD
END:VTIMEZONE
BEGIN:VEVENT
SUMMARY:Развилки Дня
DTSTAMP:20150515T172607Z
SEQUENCE:0
UID:986671fe100b65ea14bd4125bab67d23@172.17.0.3
ORGANIZER;CN="ясмин джакмич":fai@fai.org.ru
DESCRIPTION:\n15 мая\nДо XVIII века
	    1115 — На 
	Руси учр
	еждается
	 первый п
	равославный
	 праздник — День 
	памяти князей-стр
	астотерпцев Борис
	а и Глеба.\n    115
	7 — На пиру 
	у киевског
	о боярина Пе
	трилы отравлен к
	нязь Суздальский
	 и Киевский Юрий До
	лгорукий.\n    1252 — Папа 
	Римский Иннокентий IV ог
	ласил буллу «ad extirp
	anda»\, разрешающую и
	нквизиции пытать п
	одозреваемых в ере
	си.\n    1536 — Анн
	а Болейн и её 
	брат лорд Рочфорд 
	обвинены супругом А
	нны\, королём Генрихом V
	III\, в любовной связи.
	 Оба будут казнен
	ы.\n    1618 — Н
	емецкий астроном
	 Иоганн Кеплер от
	крыл законы движе
	ния планет.\n    
	1673 — Корнелиу
	с и Роза Барль пол
	учают премию за 
	выведенный ими чё
	рный тюльпан.\n    1
	682 — Восстание стре
	льцов в Москве. Убиты Ю.
	 А. Долгоруков и Г. Г. Ромод
	ановский.XVIII век\n   
	 1730 — Король Ге
	орг II утвер
	ждает в к
	ачестве п
	ервого в ис
	тории Вели
	кобритании прем
	ьер-министра Робе
	рта Уолпола\, лид
	ера партии вигов\
	n    1756 — Англ
	ия объявила войну 
	Франции\, положив
	 начало Семилетне
	й войне.\n    1768 
	— Франция купил
	а остров Корсика у 
	итальянской Генуи
	.\n    1770 — Состояла
	сь свадьба 14-л
	етней Марии Антуа
	нетты и 15-летнего будущ
	его короля Франции\, Людо
	вика XVI.\n    1782 — Порт
	-Луи\, Маврикий. С
	 этого дня инжен
	ер Ботино\, из
	вестный в СМ
	И как Челове
	к-Радар\, начина
	ет точно предсказ
	ывать прибытие кор
	аблей в гавань за 
	2-3 дня\, когда\nрас
	стояние до них
	 составляет неско
	лько сот миль. Это 
	\"сканирование\" 
	продолжалось 15 лет 
	и якобы ни разу не б
	ыло омрачено ошиб
	кой.XIX век\n    18
	11 — Провозглашен
	ие независимости
	 Парагвая от Исп
	ании.\n    1860
	 — Битва 
	при Калат
	афими меж
	ду неапол
	итанцами 
	под командо
	ванием генерала Л
	анди и войском Ты
	сячи Джузеппе Га
	рибальди.\n    1
	867 — В России
	 утверждён устав О
	бщества попечения
	 о раненых и больн
	ых воинах\; с 1879 год
	а — Российское 
	общество Красного
	 Креста.\n    1875 — З
	емлетрясение в Кол
	умбии\, длящееся вс
	его 45 секунд\, у
	носит жизни 
	16 тысяч че
	ловек. Одн
	овременно
	 с землетряс
	ением проис
	ходит извержение
	 вулкана\, располож
	енного рядом\nс городом
	 Кокуто.\n    1891 — Па
	па римский Лев
	 XIII издал эн
	циклику\, о
	бязывающую ра
	ботодателей забо
	титься о благосос
	тоянии рабочих.XX в
	ек\n    1902 — Португ
	алия объявляет се
	бя банкротом.\n    190
	5 — Основан город Лас
	-Вегас в штате Невад
	а\, США.\n    1911
	 — Верхов
	ный суд США
	 признал 
	нефтяную
	 компанию 
	«Стандард 
	ойл» монопол
	истом и вынес пост
	ановление раздели
	ть её на пять корп
	ораций.\n    191
	8\n        
	Начала р
	аботать п
	ервая ави
	апочта — 
	между стол
	ицей Соединё
	нных Штатов Вашингт
	оном\, городами Фил
	адельфией и Нью-Й
	орком.\n    1922\n  
	      Германия 
	уступила Верхн
	юю Силезию Пол
	ьше.\n    192
	9 — Основ
	ана Газо
	динамиче
	ская лаборатор
	ия — Опытно-констр
	укторское бюро (НПО «Э
	нергомаш» им. В. П. Гл
	ушко).\n    1930 
	— Валериа
	н Куйбышев
	 и Генрих Я
	года под
	писали «
	Циркуля
	р Высшег
	о Совет
	а Народ
	ного Хо
	зяйства
	 и Объе
	динённо
	го госуд
	арственн
	ого поли
	тического 
	управления
	» об «испол
	ьзовании\nн
	а производ
	ствах спец
	иалистов\, 
	осуждённы
	х за вредите
	льство». Ци
	ркуляр пол
	ожил начал
	о так назыв
	аемым «ша
	рашкам»\, 
	что форм
	улировал
	ось неско
	лько вити
	евато: «Исп
	ользование\
	nвредителей
	 следует орг
	анизовать та
	ким образом\, чт
	обы работа их прох
	одила в помещени
	ях органов ОГПУ.
	»\n    1932\n    
	    Попытк
	а государ
	ственного
	 переворот
	а в Японии\
	, предпринят
	ая группой 
	экстремисто
	в — молодыми
	 офицерами арм
	ии и флота\, гр
	уппой боевико
	в из обществ 
	Айкёдзюку\,
	 Дзиммукай
	\n и Кэцумэйдан\,
	 недовольными 
	ратификацией 
	Лондонского договора 
	1930 г. об ограничении
	 морских вооружений.
	\n    1934\n        
	Вышло Постан
	овление ЦК ВК
	П(б) и СНК ССС
	Р «О препод
	авании оте
	чественной ис
	тории в школа
	х СССР» (вновь о
	ткрылась русс
	кая история).
	\n        Пе
	реворот в Л
	атвии\, ор
	ганизова
	нный прем
	ьер-министр
	ом Карлисом Улма
	нисом и военным 
	министром Янис
	ом Балодисом.\
	n    1935 — Отк
	рылась перв
	ая линия Моск
	овского метрополитена
	 - ныне Сокольническая 
	\"красная\" ветка.\n 
	   1939\n      
	  В Совет
	ском Сою
	зе состоялс
	я первый полёт шес
	тимоторного пассажи
	рского самолёта АНТ-
	20 бис.\n    1940 — В США в
	 продаже появилис
	ь нейлоновые чулк
	и.\n    1941\n  
	      Первый полёт пе
	рвого английского реактив
	ного самолёта Gloster E.28/3
	9 (англ.). Великоб
	ритания стала т
	ретьей\, после Г
	ермании и Итали
	и\, страной\, з
	апустившей свой\nреа
	ктивный самолёт.\n  
	      Немецкий сам
	олёт «Junkers 52» вт
	оргся в сове
	тское возду
	шное простра
	нство и\, нез
	амеченным\,
	 приземлился
	 на центральном аэ
	родроме в Москве в
	озле стадиона «Д
	инамо».\n    1942\n   
	     Первый полёт пасс
	ажирского самолёта «36
	7-80» фирмы «Boeing».
	\n        На а
	эродроме Ко
	льцово (Свер
	дловская об
	ласть\, ССС
	Р) состоялс
	я первый исп
	ытательный 
	полёт советск
	ого ракетного с
	амолёта БИ-1. Самол
	ёт пилотировал л
	ётчик Г.Я.Бахчиванджи
	.\n    1943 — Официал
	ьно распущен Ко
	минтерн\n    1946 — П
	резидент США Трумэ
	н подписал кредит на $3\
	,75 миллиардов для Бр
	итании.\n    1948\n
	        ССС
	Р заявил о 
	признании гос
	ударства Израил
	ь.\n        Пять ар
	абских государств
	 (Сирия\, Египет\, 
	Ливан\, Ирак и
	 Трансиорда
	ния) напали
	 на Израиль н
	а следующий день 
	после провозглаш
	ения его независимост
	и\,\n    1955\n        П
	одписание СССР
	\, США\, Англие
	й\, Франци
	ей и Авст
	рией Го
	сударст
	венного 
	договора о вос
	становлении не
	зависимой и дем
	ократической Ав
	стрии.    1975\
	n        
	США пров
	ели военн
	ую операц
	ию по осв
	обождени
	ю захваче
	нного «кр
	асными кхмерам
	и» у берегов Ка
	мбоджи торгово
	го судна «Маягу
	эс».    1988 — Начало
	 вывода ОК советс
	ких войск из Афг
	анистана.    199
	2\n        На 
	основании 
	подписанног
	о в Ташкенте
	 договора (Д
	КБ) создана Организация Договора
	 о коллективной безопасности.\n
DTSTART;VALUE=DATE:20150514
END:VEVENT
END:VCALENDAR
