BEGIN:VCALENDAR
VERSION:2.0
PRODID:-//IP.Board Calendar 4.0.13.1//EN
METHOD:PUBLISH
CALSCALE:GREGORIAN
X-WR-CALNAME:В этот день в прошлом
BEGIN:VTIMEZONE
TZID:Europe/London
TZURL:http://tzurl.org/zoneinfo/Europe/London
X-LIC-LOCATION:Europe/London
BEGIN:DAYLIGHT
TZOFFSETFROM:+0000
TZOFFSETTO:+0100
TZNAME:BST
DTSTART:20150329T020000Z
RRULE:FREQ=YEARLY;BYMONTH=3;BYDAY=-1SU
END:DAYLIGHT
BEGIN:STANDARD
TZOFFSETFROM:+0100
TZOFFSETTO:+0000
TZNAME:GMT
DTSTART:20151025T020000Z
RRULE:FREQ=YEARLY;BYMONTH=10;BYDAY=-1SU
END:STANDARD
END:VTIMEZONE
BEGIN:VEVENT
SUMMARY:Развилки Дня
DTSTAMP:20150515T173733Z
SEQUENCE:0
UID:d512f72cf0a5c90102ffddaeccefd4f3@172.17.0.3
ORGANIZER;CN="ясмин джакмич":fai@fai.org.ru
DESCRIPTION:\n14 мая\nДо XIX века\n
	    1147 — Конра
	д и немецкие
	 крестоносцы поки
	дают Регенсбург во
	 время 2-го кресто
	вого похода.\n    1572
	 — Римским папой
	 становится Григо
	рий XIII\, в пос
	ледствии
	 принявши
	й новый к
	алендарь\,
	 являющийся об
	щеупотребител
	ьной системой и
	счисления време
	ни.\n    1607 — 
	Англичан
	е основали св
	оё первое постоя
	нное поселение в
	 Америке — Джеймс
	таун.\n    1610 — по
	сле убийства кор
	оля Франции Генриха IV
	 на трон в возрасте 9 лет
	 вступил Людовик XIII.\n  
	  1643 — после смер
	ти короля Людовик
	а XIII на французский пр
	естол в возрасте 5 лет
	 вступил Людовик XIV.
	\n    1692 — Спус
	к первого военног
	о корабля\, кото
	рый был построен т
	рудами Петра I и 16 
	солдат Преображ
	енского полка.\n    174
	7 — Первая битва при
	 мысе Финистерре.\n 
	   1783 — В прав
	ление Екатер
	ины II издан ука
	з о распростран
	ении крепостног
	о права в Новоро
	ссию\n    1796
	 — Английс
	кий хирург
	 Эдвард Дж
	еннер сделал 
	успешную прививку 
	от оспы восьмилетнем
	у Джеймсу Фиппсу.XIX в
	ек\n    1833 — В Р
	оссии издан у
	каз\, воспрещавши
	й продажу крепос
	тных с публичного
	 торга.\n    187
	2 — Канцл
	ер Германии
	 Отто фон Б
	исмарк пров
	озгласил ка
	мпанию «Культуркам
	пф»\, целью которой
	 была борьба с кат
	оликами.\n    1
	891 — В Сан
	кт-Петер
	бурге п
	рошло пер
	вое орган
	изованное пр
	азднование русски
	ми рабочими Первомая 
	(по старому стилю)\n  
	  1900 — в Париже о
	ткрылись II Ол
	импийские иг
	ры. В них вп
	ервые при
	няли участие
	 женщины. Первой 
	чемпионкой стала а
	нгличанка Шарлотта К
	упер.XX век\n    1904 — 
	В Сент-Луисе (США) откр
	ываются III Летние Олимп
	ийские игры.\n    190
	5 — В Севастополе
	\, к 50-летию ге
	роической
	 обороны горо
	да\, открылась п
	анорама «Обор
	она Севастопо
	ля» художника Ф. А. Р
	убо (он же созда
	тель Бородинско
	й понарамы)\n  
	  1906 — Открывае
	тся движение
	 поездов в Сим
	плонском тоннеле (
	Альпы). Он соединяет Шв
	ейцарию и Италию на высоте 70
	0 м\, его длина — 19\,8 км.\
	n    1908 — Уилбу
	р Райт взял н
	а борт первог
	о в мире пассажир
	а аэроплана — Чар
	льза У. Фэрнаса и соверш
	ил полёт на 600 метров\, дл
	ившийся 28\,6 секунд
	ы.\n    1909 —
	 Начата деятель
	ность общества 
	«Санкт-Петербу
	ргский таксомо
	тор».\n    1914
	 — Первый по
	лёт поплавковог
	о варианта самолёт
	а «Илья Муромец» И
	. И. Сикорского.\
	n    1920 — 
	Правител
	ьство РСФСР п
	ризнало прави
	тельство Даль
	невосточной р
	еспублики.\n  
	  1926 — Зав
	ершился 
	первый тр
	ансарктич
	еский пере
	лёт на дири
	жабле «Норвегия» 
	со Шпицбергена на
	 Аляску через Сев
	ерный полюс.\n    19
	41 — В Париже немецким
	и нацистами аресто
	ваны 3600 евреев.\
	n    1948 — Провозг
	лашение незави
	симости государс
	тва Израиль.\n    19
	54 — В Гааге го
	сударствами\,
	 входящими в
	 ООН\, принят
	а «Гаагска
	я конвенц
	ия о защите ку
	льтурных ценносте
	й в случае вооружённ
	ого конфликта».\n    1955
	 — СССР\, Албания\, Бо
	лгария\, Венгрия\,
	 ГДР\, Польша\, 
	Румыния\, Че
	хословакия 
	подписали в Ва
	ршаве Договор о дру
	жбе\, сотрудничест
	ве и взаимной пом
	ощи.\n    1960 —
	 В Париже н
	ачалась встре
	ча «Большой четвё
	рки» — глав Великобр
	итании\, СССР\, США и 
	Франции.\n    19
	86 — В теле
	обращени
	и М. Горбачёв
	 отрицал серьё
	зность последс
	твий чернобыльс
	кой аварии.\n    1
	990 — Президе
	нт СССР Ми
	хаил Горба
	чёв подпи
	сал Указ\,
	 объявляю
	щий недействит
	ельными декларац
	ии о независимост
	и Литвы и Эстонии.\n    1993 — Создан 
	экономический союз СНГ. \n
DTSTART;VALUE=DATE:20150513
END:VEVENT
END:VCALENDAR
