BEGIN:VCALENDAR
VERSION:2.0
PRODID:-//IP.Board Calendar 4.0.13.1//EN
METHOD:PUBLISH
CALSCALE:GREGORIAN
X-WR-CALNAME:В этот день в прошлом
BEGIN:VTIMEZONE
TZID:Europe/London
TZURL:http://tzurl.org/zoneinfo/Europe/London
X-LIC-LOCATION:Europe/London
BEGIN:DAYLIGHT
TZOFFSETFROM:+0000
TZOFFSETTO:+0100
TZNAME:BST
DTSTART:20150329T020000Z
RRULE:FREQ=YEARLY;BYMONTH=3;BYDAY=-1SU
END:DAYLIGHT
BEGIN:STANDARD
TZOFFSETFROM:+0100
TZOFFSETTO:+0000
TZNAME:GMT
DTSTART:20151025T020000Z
RRULE:FREQ=YEARLY;BYMONTH=10;BYDAY=-1SU
END:STANDARD
END:VTIMEZONE
BEGIN:VEVENT
SUMMARY:Развилки Дня
DTSTAMP:20150515T174522Z
SEQUENCE:0
UID:d53d2b6c3e6ff445471b0ce5eef3a95c@172.17.0.3
ORGANIZER;CN="ясмин джакмич":fai@fai.org.ru
DESCRIPTION:\n13 маяДо XIX века\n   
	 1497 — папа римск
	ий Александр VI от
	лучил от церкви
	 Джироламо Саво
	наролу.\n    1501 
	— Америго В
	еспуччи отпра
	вился в путешес
	твие на Запад (
	в ходе путешестви
	я он выяснил\, что К
	олумб открыл новый
	 континент).\n    
	1564 — князь Андрей
	 Курбский бежал и
	з Юрьева в литовск
	ие владения.\n   
	 1568 — произош
	ла Битва пр
	и Лангсайде\
	, вынудивша
	я королеву 
	Шотландии М
	арию Стюарт
	 бежать в Анг
	лию и устан
	овившая в Ш
	отландии режим 
	регента графа Морея
	 при малолетнем кор
	оле\nДжеймсе VI.\n 
	   1598 — бла
	гословение Бори
	са Годунова на 
	великое государст
	во московское.\n    
	1637 — кардинал Р
	ишельё\, памяту
	я о своих вра
	гах\, приказа
	л закруглить
	 все кинжалы\, 
	которые испо
	льзовались за
	 едой для нарезания
	 мяса\, создав таки
	м образом столов
	ый нож\n    1641 
	— в ходе Каталонс
	кой войны произо
	шла битва при К
	онстанти.\n   
	 1647 — в ре
	зультат
	е катаст
	рофичес
	кого зем
	летрясен
	ия почти 
	полностью 
	разрушен г
	ород Санть
	яго — столиц
	а Генерал-капитанс
	тва Чили\, будущая
	 столица Республи
	ки Чили.\n    166
	7 — на заседа
	нии церковного с
	обора в Москве бы
	ли осуждены ста
	рообрядцы.\n    
	1696 — войска имп
	ерии Цин разгромил
	и Галдан-Бошогту в 
	битве на Тэрэлже.\
	n    1754 — вышел указ 
	об учреждении в Р
	оссии первого ба
	нка.\n    1783 — А
	зовская фло
	тилия вошла
	 в Ахтиарск
	ую бухту\, 
	что обозначило 
	создание Черно
	морского флота 
	Российской импер
	ии.\n    1779 — п
	одписан Теше
	нский договор\, з
	авершивший вой
	ну за Баварское
	 наследство.\n 
	   1787 — воз
	главляем
	ый капитан
	ом Артуром
	 Филлипом 
	Первый фло
	т с каторж
	никами от
	правился 
	из Портсмута 
	чтобы основать перв
	ую колонию каторжник
	ов в Австралии.XIX в
	ек\n    1805 — в 
	ходе Первой берб
	ерийской войны 
	произошла Битва
	 при Дерне\n    1846 — 
	США формально объя
	вили войну Мексике.\
	n    1857 — из-за н
	елепых слухов 
	о том\, что обв
	алятся ново с
	троенные выс
	окие дома\, п
	арижане в пан
	ике покинули гор
	од. Интересный пр
	имер массовой и
	стерии.\n    1871
	 — Ватикан 
	включён в И
	тальянское к
	оролевство\,
	 а суверени
	тет папы ог
	раничен дв
	орцами Ват
	икана\, римс
	кой латеранск
	ой церковью и
	 загородной пап
	ской резиденци
	ей. К дворцам\,\
	nкоторые до
	вольно обширны\, 
	относились такж
	е и прекрасные вати
	канские сады.\n    1888 
	— отмена рабства в Б
	разилии.\n    1895\n
	        Ука
	зом Николая 
	II на воору
	жение ру
	сской ар
	мии прин
	имаются со
	лдатская и 
	офицерская 
	модификации
	 револьвера 
	системы Наган
	а.\n        В
	 США сгорела
	 лаборатория
	 Николы Теслы\
	, американско
	го изобретате
	ля\, серба по
	 национальн
	ости. В огне
	 погибли жур
	налы с запис
	ями экспери
	ментов и иссл
	едований в о
	бласти\nрадио
	\, рентгеновс
	кого излучен
	ия\, беспров
	олочной перед
	ачи звука\, пе
	редачи энерг
	ии и самодвиж
	ущихся экипаж
	ей\, на которы
	е Тесла не ус
	пел оформить патен
	т или запустить в\nп
	роизводство. В ча
	стности\, ещё в 
	1893 году Тес
	ла построил в
	олновой радиоп
	ередатчик и прод
	емонстрировал ег
	о работу. В 1943 г
	оду Верховный 
	суд США подтвердил
	 права Теслы на\nизо
	бретение радио.XX ве
	к    1907 — открылся 
	V съезд РСДРП\, 
	проходивший в
	 Лондоне по 1
	 июня и получ
	ивший названи
	е Лондонского Съезд
	а. Среди делегатов — 
	Ленин\, Сталин\, Тро
	цкий.\n    1913 — в
	 Петербурге 
	совершил перв
	ый полёт первы
	й в мире 4-моторный с
	амолёт «Русский вит
	язь» (общая масса о
	коло 5 000 кг)\, по
	строенный на 
	Русско-Балтий
	ском заводе по 
	проекту\nавиако
	нструктора И. 
	И. Сикорского
	. На его базе
	 вскоре был 
	создан бол
	ее совершен
	ный воздушн
	ый гигант «И
	лья Муромец»\, 
	который использов
	ался во время перво
	й мировой войны.\n
	    1918\n     
	   Декрет
	 ВЦИК и С
	овнарко
	ма «О пр
	едоставл
	ении наро
	дному ко
	миссару чр
	езвычайных
	 полномочий
	 по борьбе с
	 деревенской
	 буржуазией\, 
	укрывающей х
	лебные запас
	ы и спекулир
	ующей ими».\
	n        В
	 США напе
	чатаны зн
	аменитый 
	почтовые
	 марки с 
	перевёрнут
	ым изображением 
	самолётов (став
	шие коллекцион
	ной редкостью).
	\n    1919 — нач
	ало наступле
	ния белогварде
	йской Северо-Западн
	ой армии Н. Н. Юден
	ича на Петроград
	\n    1920 — в М
	анчестере
	 на конфер
	енции врачей
	-дантистов с
	ахар назван
	 главной пр
	ичиной бол
	езни зубов
	\, для изб
	ежания па
	губных по
	следствий реко
	мендовалось посл
	е сладостей пить\n
	сухое шампанское
	.\n    1921 — Совнарко
	м издал декрет об орг
	анизации домов отдыха.\n 
	   1925 — открыт III съезд
	 Советов СССР.\n   
	 1927\n        
	В Германии
	 произошёл кр
	ах финансового и 
	экономического ры
	нка («чёрная пятница
	»).\n    1930 — убит после
	дний дикий сумчаты
	й волк.\n    1934\n 
	       На п
	ервом засе
	дании комис
	сии по приёму
	 в члены Союза 
	советских писа
	телей членский 
	билет № 1 выдан 
	А. М. Горькому. Пр
	инята первая груп
	па писателей — А. Бе
	зыменский\, Г.\nНикифоров
	\, А. Караваева\, К. Зелинский
	\, Б. Ясенский\, Б. Иллеш\, А. Гл
	ебов\, И. Ильф\, Е. Петров\,
	 В. Киршон\, М. Гер
	асимов\, А. Свирский
	.\n        Арестован 
	Осип Мандельштам.\
	n    1935 — письмо 
	ЦК ВКП(б) о 
	проверке 
	партийных
	 документов\
	, усилившее
	 начавшиеся
	 репрессии про
	тив «врагов народа»\, 
	последовавшие за уб
	ийством С. М. Киро
	ва.\n    1940\n
	        
	Нидерлан
	дская ко
	ролева Вил
	ьгельмина п
	окидает Нид
	ерланды и у
	езжает в Ве
	ликобритан
	ию.\n      
	  Свой первый офиц
	иальный полёт совершил
	 вертолёт Воут-Сикорски
	й VS-300.\n    1942 — Т
	аня Савичева сдел
	ала в своём дневнике п
	оследние записи: «Мама
	 в 13 мая в 7-30 утра»\,
	 «Савичевы умерли»\, «
	Умерли все»\, «Оста
	лась одна Таня».\n
	 \n    1950 — в
	 английск
	ом Сильверс
	тоуне прошл
	а первая го
	нка первог
	о чемпиона
	та «Формулы-
	1». Победителем 
	стал итальянски
	й автогонщик Дж
	узеппе Фарина\
	n    1954 — с
	вой перв
	ый полёт сове
	ршил америка
	нский экспер
	иментальный 
	вертолёт Кел
	лет КН-15\, ос
	нащённый
	 маленьки
	ми жидкос
	тными реа
	ктивными дв
	игателями\, ус
	тановленными
	 на концах лопа
	стей несущего
	 винта. Первы
	й\, по мнени
	ю некоторых
	\, практиче
	ский реактив
	ный винтокрылый 
	летательный аппар
	ат\, совершивший п
	олёт.\n    1958 — А
	лжирская вой
	на: начало м
	айского пут
	ча в Алжире\
	, завершивш
	егося паден
	ием Четвёртой 
	республики во Фран
	ции и приходом к 
	власти Шарля де
	 Голля.\n    19
	60 — швейц
	арскими
	 альпини
	стами по
	д руковод
	ством Мак
	са Эйзелина по
	корён труднодоступ
	ный исполин Дхаулагир
	и («Белая гора»\, 8221 
	метр)\, девятая по вы
	соте\nвершина мира\
	, расположенная в 
	Непале.\n    1981 — п
	окушение на па
	пу римского Ио
	анна Павла II\, 
	которое совершил
	 турецкий террори
	ст Мехмет Али Агд
	жа.\n    1982 —
	 с космо
	дрома Б
	айконур
	 осуществл
	ён запуск советс
	кого пилотируемого
	 космического корабля 
	Союз Т-5.\n    1986\
	n        Откр
	ылся V съезд 
	Союза кинем
	атографистов
	 СССР\, на кото
	ром первым с
	екретарём бы
	л избран реж
	иссёр Элем К
	лимов. С «полки» бы
	ли сняты ранее за
	прещённые цензур
	ой фильмы.\n    
	1991\n      
	  Нача
	ла регу
	лярное вещ
	ание Всеро
	ссийская г
	осударственн
	ая телерадиокомп
	ания (ВГТРК).\n  
	      Впервы
	е выходит в эфи
	р на II канале ин
	формационная пр
	ограмма «Вести».\n     
	   Корпорация «Apple» выпустила в продажу 
	«Macintosh System 7.0». \n
DTSTART;VALUE=DATE:20150512
END:VEVENT
END:VCALENDAR
