BEGIN:VCALENDAR
VERSION:2.0
PRODID:-//IP.Board Calendar 4.0.13.1//EN
METHOD:PUBLISH
CALSCALE:GREGORIAN
X-WR-CALNAME:В этот день в прошлом
BEGIN:VTIMEZONE
TZID:Europe/London
TZURL:http://tzurl.org/zoneinfo/Europe/London
X-LIC-LOCATION:Europe/London
BEGIN:DAYLIGHT
TZOFFSETFROM:+0000
TZOFFSETTO:+0100
TZNAME:BST
DTSTART:20150329T020000Z
RRULE:FREQ=YEARLY;BYMONTH=3;BYDAY=-1SU
END:DAYLIGHT
BEGIN:STANDARD
TZOFFSETFROM:+0100
TZOFFSETTO:+0000
TZNAME:GMT
DTSTART:20151025T020000Z
RRULE:FREQ=YEARLY;BYMONTH=10;BYDAY=-1SU
END:STANDARD
END:VTIMEZONE
BEGIN:VEVENT
SUMMARY:Развилки Дня
DTSTAMP:20150515T174649Z
SEQUENCE:0
UID:e503987be161f7e0c4e3b630e824dd00@172.17.0.3
ORGANIZER;CN="ясмин джакмич":fai@fai.org.ru
DESCRIPTION:\n12 мая 996 — в 
	Киеве освящен п
	ервый на Руси ка
	менный храм — Де
	сятинная.\n1311 —
	 Инквизиция 
	во Франции публичн
	о казнила 54 видны
	х деятеля Ордена 
	тамплиеров.\n14
	97 — Папа ри
	мский отл
	учил от церкви з
	а ересь флорент
	ийского монаха 
	Джироламо Савонаролу.
	\n1570 — в России ос
	новано Донское
	 казачество.\n1731 — н
	ачалось судоходс
	тво по Ладожскому 
	каналу.\n1780 — в 
	ходе Войны 
	за независ
	имость СШ
	А после осад
	ы cдался Чарлсто
	н — крупное пор
	ажение Контине
	нтальной армии.
	\n1797 — в Вен
	еции пр
	инят ульт
	иматум генерал
	а Бонапарта — 
	уничтожена Вене
	цианская респуб
	лика.\n1821 — в 
	ходе Греческо
	й войны за неза
	висимость про
	изошло Сражен
	ие при Вальтеси.\n
	1830 — провозглаш
	ено образован
	ие республики 
	Эквадор.\n1881 — устан
	овлен французски
	й протекторат над
	 Тунисом.\n1888 - У
	становлен бри
	танский протек
	торат над Север
	ным Борнео.\n19
	18 — мобилозо
	ванный в качес
	тве транспорта 
	лайнер «Олимпик
	»\, идя в сопровож
	дении 4-х эсминцев\,
	 потопил немецкую 
	подводную лодку U-1
	03\, протаранив её носо
	вой частью и разруб
	ив\nпополам.\n1926 
	- Линкольн 
	Эллсуорт сб
	росил с дири
	жабля «Нор
	вегия» на Севе
	рный полюс норвеж
	ский\, итальянск
	ий и американский 
	флаги.1927\n    Перв
	ый полёт спорт
	ивного самолё
	та АИР-1\, на к
	отором был
	и установле
	ны первые 
	советские
	 мировые р
	екорды (э
	ту дату счи
	тают начал
	ом деятельн
	ости констру
	кторского бюр
	о Яковлева).\
	n    Постан
	овление СНК СССР
	 о создании войс
	к внутренней ох
	раны республики
	 (ВОХР).1949 — СССР оф
	ициально прекра
	тил блокаду Запад
	ного Берлина.\n196
	3 — начал своё
	 плавание Кэн
	ъити Хориэ\, к
	оторый в одиночку пер
	есёк Тихий океан в се
	верных широтах за 9
	3 дня.\n1991 — Мих
	аил Горбач
	ёв и Борис Ельци
	н договорились о подписании нового 
	Союзного договора. \n
DTSTART;VALUE=DATE:20150511
END:VEVENT
END:VCALENDAR
