BEGIN:VCALENDAR
VERSION:2.0
PRODID:-//IP.Board Calendar 4.0.13.1//EN
METHOD:PUBLISH
CALSCALE:GREGORIAN
X-WR-CALNAME:В этот день в прошлом
BEGIN:VTIMEZONE
TZID:Europe/London
TZURL:http://tzurl.org/zoneinfo/Europe/London
X-LIC-LOCATION:Europe/London
BEGIN:DAYLIGHT
TZOFFSETFROM:+0000
TZOFFSETTO:+0100
TZNAME:BST
DTSTART:20150329T020000Z
RRULE:FREQ=YEARLY;BYMONTH=3;BYDAY=-1SU
END:DAYLIGHT
BEGIN:STANDARD
TZOFFSETFROM:+0100
TZOFFSETTO:+0000
TZNAME:GMT
DTSTART:20151025T020000Z
RRULE:FREQ=YEARLY;BYMONTH=10;BYDAY=-1SU
END:STANDARD
END:VTIMEZONE
BEGIN:VEVENT
SUMMARY:Развилки Дня
DTSTAMP:20150522T122951Z
SEQUENCE:0
UID:750f79e1fd6c40004160d9a37db04337@172.17.0.3
ORGANIZER;CN="ясмин джакмич":fai@fai.org.ru
DESCRIPTION:\n22 маяДо XVIII века  
	  853 — Олаф Белый\
	, сын короля Но
	рвегии\, приня
	л в подчинение 
	викингов и датчан 
	в Ирландии и сдела
	л Дублин её столиц
	ей.\n    1455 — Пе
	рвой битвой при Се
	нт-Олбансе начала
	сь война Алой и 
	Белой Розы.\n 
	   1498 — Пр
	иоратом Ф
	лорентий
	ской респу
	блики объяв
	лен смертный приг
	овор Савонароле\,
	 отлучённому от 
	церкви в июне 1497 года
	 за попытку свержения 
	папы Александра VI.X
	VIII век    1711
	 — перво
	й петербу
	ргской ти
	пографией
	 напечатан 
	первый номе
	р газеты «Ве
	домости». Стар
	ейшая русская
	 газета до сих
	 пор выходила 
	в Москве\, теперь с
	тала попеременно\
	nпечататься в об
	оих городах.\n 
	   1742 — шту
	рман отря
	да лейтен
	анта Прон
	чищева Се
	мён Челюскин
	 достиг само
	й северной 
	оконечности 
	Евразии и России —
	 мыса\, названного 
	впоследствии в ег
	о честь.\n    176
	9 — отлит колокол
	 для часов Спасско
	й башни Московско
	го Кремля.\n    1785
	 — в Москве п
	рошла закла
	дка Дома П
	ашкова\, 
	в которо
	м ныне 
	располага
	ется Росси
	йская госу
	дарственна
	я библиотека
	. Предполага
	ется\, что 
	автором п
	роекта этого
	 выдающегося\nпа
	мятника архитектуры
	 классицизма был В. И
	. Баженов.XIX век  
	  1807 — Воен
	но-Морско
	й Флот Ро
	ссийской
	 империи п
	од коман
	дованием
	 адмирала С
	енявина разгром
	ил турецкие кор
	абли в Дарданел
	льском сражении.\n 
	   1849 — Авраам Ли
	нкольн получил п
	атент за номером 
	6469 на констру
	кцию плавуч
	его дока. До
	 сих пор о
	н — единстве
	нный президент 
	США — обладатель
	 патента за изобр
	етение.\n    185
	6 — Третьяк
	ов купил две 
	первых картин
	ы для своей к
	оллекции — 
	«Искушение» Н
	. Г. Шильдера и 
	«Стычка с фи
	нляндскими к
	онтрабандиста
	ми» В. Г. Худякова. В
	 Москве основана\
	nТретьяковская г
	алерея.\n    186
	2 — в Росси
	йской Имп
	ерии изда
	но положе
	ние «о за
	селении п
	редгорий 
	западной
	 части Кав
	казского х
	ребта кубан
	скими каза
	ками и дру
	гими перес
	еленцами из 
	России … с целью
	\nокончательного
	 покорения горских
	 племён».\n    1868
	 — недалеко 
	от Маршфилда (шт.
	 Индиана) произо
	шло «Великое ограбл
	ение поезда».\n    1892 — доктор Ваш
	ингтон Шеффилд (Washington Sheff
	ield) изобрёл тюбик для
	 зубной пасты.\n 
	   1900 — в Нью-Йорке основа
	но информационное агентство «A
	ssociated Press».XX век    1906
	 — братья Райт по
	лучили патент н
	а свой летател
	ьный аппарат.\
	n    1911 — п
	рофессор 
	Технолог
	ического 
	института 
	Борис Льв
	ович Розин
	г впервые 
	в мире пр
	одемонс
	трировал
	 на экране
	 электрон
	но-лучево
	й трубки
	 изображ
	ения ге
	ометричес
	ких фигур —\nпр
	ообразы нынеш
	него телевизион
	ного изображени
	я.\n    1914 — 
	Британия
	 приобрел
	а право на
	 управлен
	ие нефтян
	ыми собст
	венностями в
	 Персидском зали
	ве у англо-перси
	дской нефтяной 
	компании.\n    
	1921 — городские 
	власти Чикаго при
	няли решение штраф
	овать на сумму от 10
	 до 100 долларов ж
	енщин\, появляю
	щихся на улицах в к
	оротких юбках и с
	 обнажёнными рук
	ами.\n    1926 —
	 в Италии М
	уссолини 
	запретил 
	проведение 
	конкурсов красот
	ы\, назвав подобн
	ые мероприятия 
	аморальными.\n 
	   1940 — Указ
	 Президиума
	 Верховного
	 Совета СССР
	 об учрежде
	нии золото
	й медали «Се
	рп и Молот» — зн
	ака отличия Геро
	я Социалистическ
	ого Труда.\n    19
	49 — покончил
	 с собой перв
	ый министр 
	обороны СШ
	А Джеймс В
	инсент Форре
	стол\, которому п
	риписывают авт
	орство фразы «
	Русские идут»
	.\n    1950 — 
	китай
	ское к
	оммуни
	стическ
	ое прави
	тельств
	о предлож
	ило Тибет
	у террито
	риальную
	 автономи
	ю при условии 
	установления в эт
	ой области коммун
	истической власти
	.\n    1960\n    
	    в Южной
	 Америке п
	роизошло 
	Великое Ч
	илийское 
	землетря
	сение.\n  
	      вп
	ервые прозв
	учали позыв
	ные воскресно
	й радиопереда
	чи «С добрым у
	тром!»\, давш
	ей путёвку
	 в жизнь мно
	гим популярным авт
	орам-сатирикам и э
	страдным исполните
	лям.\n    1966 — 16-
	летний Брюс Спрингсти
	н вместе со своей первой г
	руппой «The Castiles» записал первый 
	сингл «That’s What You Get» вместе 
	с «Baby I». Но эта запись та
	к и не была\nвыпущена
	 в свет.\n    1967 —
	 президент Егип
	та Насер\, раз
	местив гарнизо
	н в Шарм-эль-Ш
	ейхе\, объяв
	ляет блокаду Тиранск
	ого пролива\, закрыв и
	зраильский порт Эйлат. Cas
	us belli Шестидневной 
	войны.\n    19
	68 — руков
	одство шо
	тландской
	 церкви принял
	о решение разрешит
	ь посвящение женщин
	 в духовный сан.\n 
	   1972\n        Р
	ичард Никсон с
	тал вторым пре
	зидентом США\,
	 прибывшим в
	 СССР.\n   
	     Цей
	лон приня
	л новую ко
	нституцию
	 и провозгла
	шён независ
	имой Респуб
	ликой Шри-Ла
	нка в составе С
	одружества\, президентом ко
	торой стал Уильям Гопаллава (Will
	iam Gopallawa).\n    1973 — Роберт Меткалф (
	Robert Metcalfe) составил док
	ладную записку для главы
	 PARC о потенциале техн
	ологии Ethernet. Эт
	от день общеприн
	ято считать днём
	 изобретения дан
	ной\nтехнологии
	.\n    1977 — пос
	ледний рейс зна
	менитого «Вост
	очного экспресс
	а»\, которым с 1
	883 года отправл
	ялись путешеств
	енники по маршрут
	у Париж — Стамбул
	.\n    1982 — па
	па римский
	 вместе с а
	нглийским
	и и аргентин
	скими кардиналами 
	отслужил в Риме ме
	ссу за установлен
	ие мира.\n    1990\n     
	   состоялся релиз операционно
	й системы Windows 3.0 компании
	 Microsoft.\n       
	 после мно
	голетнего
	 противост
	ояния Северный и Южн
	ый Йемен объединились в единую Республи
	ку Йемен.\n
DTSTART;VALUE=DATE:20150521
END:VEVENT
END:VCALENDAR
