BEGIN:VCALENDAR
VERSION:2.0
PRODID:-//IP.Board Calendar 4.0.13.1//EN
METHOD:PUBLISH
CALSCALE:GREGORIAN
X-WR-CALNAME:В этот день в прошлом
BEGIN:VTIMEZONE
TZID:Europe/London
TZURL:http://tzurl.org/zoneinfo/Europe/London
X-LIC-LOCATION:Europe/London
BEGIN:DAYLIGHT
TZOFFSETFROM:+0000
TZOFFSETTO:+0100
TZNAME:BST
DTSTART:20150329T020000Z
RRULE:FREQ=YEARLY;BYMONTH=3;BYDAY=-1SU
END:DAYLIGHT
BEGIN:STANDARD
TZOFFSETFROM:+0100
TZOFFSETTO:+0000
TZNAME:GMT
DTSTART:20151025T020000Z
RRULE:FREQ=YEARLY;BYMONTH=10;BYDAY=-1SU
END:STANDARD
END:VTIMEZONE
BEGIN:VEVENT
SUMMARY:Развилки Дня
DTSTAMP:20150522T123232Z
SEQUENCE:0
UID:9feceadca62943b980f4fd054c5ee2be@172.17.0.3
ORGANIZER;CN="ясмин джакмич":fai@fai.org.ru
DESCRIPTION:\n 21 маяДо XIX век
	а    1091 — первое 
	зарегистрирован
	ное на Руси затме
	ние Солнца\n    1349 — 
	в Сербии принят 
	Законник Стефа
	на Душана.\n  
	  1499 — прави
	телем с н
	еогранич
	енными пол
	номочиями Э
	спаньолы (та
	к назвал Хр
	истофор Ко
	лумб откры
	тый им остров Г
	аити) вместо адм
	ирала назначен
	 Франсиско Бовадил
	ья.\n    1502 — ис
	панский морепл
	аватель Жуан да
	 Нова\, состоящи
	й на службе у порт
	угальцев\, открыл
	 остров Святой Ел
	ены\n    1635 — Франция вс
	тупает в Тридцатилетнюю войн
	у (1618—1648).\n    1662 — Карл
	 II\, английск
	ий король вс
	тупает в брак с 
	португальской 
	принцессой Катарино
	й Браганса.\n    167
	4 — При поддержк
	е Франции Ян III Соб
	еский избран корол
	ем Речи Посполитой.\
	n    1712 — Пётр I п
	еренёс столицу Рос
	сии из Москвы в Са
	нкт-Петербург.\n  
	  1731 — для охр
	аны побере
	жий и остро
	вов Тихого о
	кеана\, отк
	рытых рус
	скими зем
	лепроходца
	ми и морепла
	вателями\, соз
	дана Сибирская во
	енная флотилия с гл
	авной базой в Охотс
	ке.\n    1765 год — 
	в Виндзоре 
	(Новая Шотла
	ндия) открыта пе
	рвая в Канаде 
	сельскохозяйс
	твенная выставка
	.\n    1792 — прои
	зошло изве
	ржение вулк
	ана Ундзэн.
	 Входит в 
	пятерку 
	самых ра
	зрушител
	ьных изве
	ржений в истори
	и человечества по 
	количеству человеческих
	 жертв — 15.000 человек.X
	IX век    1804 — в Париж
	е открылось кладби
	ще Пер-Лашез.\n   
	 1809 — в ходе Во
	йны пятой коали
	ции произошла Асп
	ерн-Эсслингская битва.
	\n    1813 — сражение п
	ри Бауцене.\n    
	1837 — началась перв
	ая в России шахма
	тная партия по п
	ереписке.\n    184
	0 — Новая Зеланди
	я объявлена брита
	нской колонией.\n    1
	842 — вышел в свет пе
	рвый том «Мёртвы
	х душ».\n    184
	8 — на Нев
	ском проспе
	кте торжест
	венно открылся
	 «Пассаж» — крытая 
	галерея с 64 торго
	выми помещениями.\n
	    1851 — в Австрал
	ии обнаружено пе
	рвое золото.\n  
	  1853 — натур
	алист-само
	учка Филип
	п Генри Гос
	се выставил 
	в лондонском Р
	иджерс-парке «Водн
	ый виварий» — по с
	ути\, первый аквар
	иум.\n    1861 — Южн
	ая Каролина принял
	а решение об отдел
	ении от США.\n    
	1864\n        Ок
	ончание русс
	ко-черкесской
	 войны на Крас
	ной Поляне.\n 
	       В ходе
	 Гражданской 
	войны в США п
	роизошла Би
	тва при Спо
	тсильвейни
	.\n        В
	 Москве о
	сновано
	 первое исп
	равительно
	-учебное з
	аведение 
	для малоле
	тних прест
	упников\, 
	так назыв
	аемый Рук
	авишниковск
	ий приют по имени
	 жертвователя ку
	пца Николая\nРук
	авишникова.\n   
	 1879 — в ходе 
	Тихоокеан
	ской войны произош
	ло Сражение при Икике м
	ежду чилийским корветом \"Esmeral
	da\" и перуанским монитором \"
	Hu?scar\".\n    1881 — Кла
	ра Бартон учреди
	ла Американский К
	расный Крест.\n 
	   1892 — в Милан
	е прошла премьера
	 оперы Руджеро Ле
	онкавалло «Паяцы».X
	X век    1903 — в Йо
	рктоне (Саска
	чеван\, Кана
	да) русские 
	духоборы в зн
	ак протеста проти
	в притеснений прош
	ли по улицам голы
	ми.\n    1904 — в
	 Париже основана
	 ФИФА — Междуна
	родная федераци
	я футбола.\n    1
	916 — в Велик
	обритании вв
	едено «летнее» вре
	мя (через нескольк
	о недель после Ге
	рмании).\n    19
	18 — в Кие
	ве пред
	ставит
	ели раз
	личных па
	ртий сформирова
	ли Украинский на
	ционально-госуд
	арственный союз
	.\n    1919\n    
	    На Ук
	раине бо
	льшевика
	ми национа
	лизированы 
	все речные и 
	морские ко
	рабельные 
	предприятия.
	\n        Вы
	шел Декре
	т СНК о п
	редвари
	тельной 
	цензуре к
	ниг и запрете 
	несанкционирова
	нного создания ча
	стных издательств
	.\n    1921\n    
	    На Украин
	е создана коми
	ссия по ликви
	дации неграмо
	тности во глав
	е с Г. Петровс
	ким.\n        п
	одписан Союзный до
	говор между РСФСР 
	и Грузинской ССР.
	\n    1925 — в С
	ША Клэренс 
	Бердсай пр
	именил гл
	убокую за
	морозку д
	ля сохранен
	ия продуктов\, пр
	ошедших предвар
	ительно кулинарн
	ую обработку.\n  
	  1928\n       
	 Уолт Дисн
	ей получил 
	патент на мо
	нопольное и
	спользовани
	е образа Микки
	 Мауса.\n     
	   В СССР арестова
	н русский богослов\
	, философ Павел Ф
	лоренский.\n  
	  1930 — Арест в
	 Москве лидеров
	 югославской комму
	нистической партии.
	\n    1931 — автожи
	р КАСКР-II бы
	л показан на смо
	тре авиационно
	й техники руко
	водителям пар
	тии.\n    1942 
	— начата
	 прокладк
	а магистр
	ального тр
	убопровода
	 по дну Ладож
	ского озера для д
	оставки горючего
	 в осаждённый Лен
	инград.\n    194
	4 — на плеб
	исците в И
	сландии жители
	 поддержали реш
	ение парламент
	а об отделении от Дан
	ии\, 17 июня была про
	возглашена респ
	ублика.\n    194
	5 — Сирия и Ливан
	 провозгласили с
	вою независимост
	ь от Франции.\n    1
	946 — закон о нацио
	нализации угольных 
	шахт в Англии.\n  
	  1947 — постан
	овление ЦК ВК
	П(б) о колхозном 
	строительстве в
	 Прибалтийских р
	еспубликах.\n   
	 1956 — на атолле Б
	икини США провели
	 первый сброс вод
	ородной бомбы.\n
	    1961 — в С
	ССР прошла 
	первая тел
	етрансляция матч
	а футбольной сборно
	й из-за рубежа (Пол
	ьша — СССР).\n    1965
	 — принят флаг ка
	надской провинци
	и Онтарио.\n    19
	68 — вышел на эк
	раны фильм Ге
	оргия Натансон
	а «Ещё раз про 
	любовь»\, в кот
	ором играли Татьяна
	 Доронина\, Александр
	 Лазарев\, Олег Ефремо
	в.\n    1969\n     
	   В Монреале Джон
	 Леннон и Йоко Оно на
	чали десятидневную акцию «Bed-I
	n» в номере отеля «Queen El
	izabeth».\n        Первый п
	олёт транспортного
	 самолёта Ан-26.\n 
	   1977 — зав
	ершены съёмки
	 фильма Фрэнсиса
	 Форда Копполы «А
	покалипсис сегодн
	я».\n    1979 — Элт
	он Джон дал в 
	Ленинграде п
	ервый из вос
	ьми концертов
	 в Советском С
	оюзе\, став перво
	й западной звездой р
	ок-музыки\, выступи
	вшей в СССР.\n   
	 1980 — в США с
	остоялась
	 премьера 
	фильма «Империя
	 наносит ответн
	ый удар» из сери
	и «Звёздные вой
	ны»\n    1982 
	— Фолклен
	дская вой
	на: Велик
	обритания начала выс
	адку морского десанта на Фолклендских
	 островах.\n
DTSTART;VALUE=DATE:20150520
END:VEVENT
END:VCALENDAR
