BEGIN:VCALENDAR
VERSION:2.0
PRODID:-//IP.Board Calendar 4.0.13.1//EN
METHOD:PUBLISH
CALSCALE:GREGORIAN
X-WR-CALNAME:В этот день в прошлом
BEGIN:VTIMEZONE
TZID:Europe/London
TZURL:http://tzurl.org/zoneinfo/Europe/London
X-LIC-LOCATION:Europe/London
BEGIN:DAYLIGHT
TZOFFSETFROM:+0000
TZOFFSETTO:+0100
TZNAME:BST
DTSTART:20150329T020000Z
RRULE:FREQ=YEARLY;BYMONTH=3;BYDAY=-1SU
END:DAYLIGHT
BEGIN:STANDARD
TZOFFSETFROM:+0100
TZOFFSETTO:+0000
TZNAME:GMT
DTSTART:20151025T020000Z
RRULE:FREQ=YEARLY;BYMONTH=10;BYDAY=-1SU
END:STANDARD
END:VTIMEZONE
BEGIN:VEVENT
SUMMARY:Развилки Дня
DTSTAMP:20150522T123537Z
SEQUENCE:0
UID:bd634794adfc451b360bc12df64fa09a@172.17.0.3
ORGANIZER;CN="ясмин джакмич":fai@fai.org.ru
DESCRIPTION:\n20 мая   До XIX 
	века    325 — фор
	мальное открытие 
	Никейского собора.\n  
	  1202 — землетрясение в Си
	рии.\n    1217 — Бит
	ва при Линкольн
	е\n    1498 — п
	ортугальск
	ий мореплават
	ель Васко да Гам
	а первым из европейц
	ев прибыл в Индию\, 
	обогнув Африку.\
	n    1536 — в Н
	овгороде отлит 
	колокол для нов
	городского Соф
	ийского собора
	.\n    1570 — Абр
	ахам Ортелиус 
	разработал про
	тотип современно
	го атласа.\n    
	1742 — русски
	й штурман 
	Семён Чел
	юскин на со
	бачьих упр
	яжках дости
	г северной ок
	онечности Евра
	зии — мыса\, назван
	ного вскоре его и
	менем (мыс Челюс
	кина)\n    1754
	 — обнаро
	дован ука
	з императ
	рицы Елиз
	аветы Петр
	овны об учреж
	дении в Российско
	й Империи первого
	 банка — (Дворянс
	кого).\n    1756 
	— произо
	шло перво
	е морское
	 сражение Семи
	летней войны на ев
	ропейском театре 
	военных действий[5
	].\n    1787 — основан 
	город Екатериносл
	ав (ныне Днепропе
	тровск).\n    179
	5 — в Париже начал
	ось Прериальско
	е восстание санк
	юлотов.XIX век  
	  1801 — нача
	лся трёхне
	дельный во
	енный конф
	ликт между
	 Испанией и Порт
	угалией\, получи
	вший название Апель
	синовая война.\n    1
	813 — сражение при 
	Бауцене\n    1851 — вы
	пущены первые в К
	анаде почтовые ма
	рки.\n    1862 — прин
	ят Закон о зем
	ельных наделах (Г
	омстед-акт) в СШ
	А (бесплатными на
	делами земли в 65 га
	 наделяются все г
	раждане страны).\
	n    1873 — пол
	учение фир
	мой «Ливай
	 Стросс энд
	 компани» л
	ицензии на 
	единолично
	е право прои
	зводства бр
	юк с заклёпками
	 на карманах. Офиц
	иальная дата дня 
	рождения джинсо
	в.\n    1873 — 
	в Петербу
	рге прошл
	а первая
	 публичная
	 демонстра
	ция элект
	рической ламп
	ы для уличного 
	освещения\, созданн
	ой электротехником А.
	 Н. Лодыгиным.\n   
	 1875 — в Париже 1
	7 государствами
	 подписана «Ме
	трическая конв
	енция».\n    188
	2 — заключен
	ие Тройствен
	ного союза ме
	жду Германией\, А
	встро-Венгрией и Ит
	алией против Франц
	ии и России.\n    
	1895 — в Нью-Йо
	рке прошёл 
	первый комме
	рческий прос
	мотр фильма (зр
	ителям показали 4-
	минутную ленту о 
	боксёрском поединке
	).\n    1897 — Владим
	ир Ильич Ульянов (Л
	енин) прибыл в сс
	ылку в Шушенское.
	\n    1899 — основан
	о Американское фи
	зическое общество.\n 
	   1900 — открытие II Оли
	мпийских игр во Фр
	анции.XX век    1
	908\n        
	В Индонези
	и основана пе
	рвая национа
	льная органи
	зация Буди Ут
	омо («Высока
	я цель»)\, 
	которая 
	вначале п
	реследовал
	а только ку
	льтурно-про
	светительск
	ие цели. Поз
	же это событ
	ие\nстало о
	тмечаться
	 как День 
	национал
	ьного про
	буждения.
	\n        О
	фициально 
	провозгла
	шено создани
	е Кубинской р
	еспублики\, в Г
	аване поднят 
	национальный
	 флаг (вместо ф
	лага США)\, н
	ачалась эв
	акуация аме
	риканских в
	ойск. Вновь 
	избранный\nпрези
	дент Кубы Томас 
	Эстрада Пальма
	 принёс присягу
	.\n    1911 — 
	соглашени
	е китайского
	 правительств
	а с банковским 
	консорциумом 
	Англии\, Франц
	ии\, Германии
	 и США о пе
	редаче строите
	льства железных 
	дорог в руки ино
	странного капитал
	а.\n    1916 — жител
	и канадского 
	города Берлин
	 (Онтарио) в 
	связи с вой
	ной против Г
	ермании приняли 
	решение о переиме
	новании города в
	 Китченер.\n   
	 1921 — Германия и 
	Китай восстанови
	ли дипломатическ
	ие отношения.\n 
	   1922 — Ульян
	ов (Ленин) 
	поручил
	 Дзержин
	скому под
	готовить план 
	высылки за гра
	ницу «контррев
	олюционных» пис
	ателей.\n    1926 
	— конгресс 
	США принял 
	Закон о гра
	жданской а
	виации\, во
	злагающий 
	на Министерс
	тво торговли выдач
	у лицензий пилотам
	 и на воздушные с
	уда.\n    1927\
	n        
	Великобри
	тания при
	знала нез
	ависимос
	ть Саудов
	ской Аравии
	.\n        
	Первый 
	беспоса
	дочный т
	рансатла
	нтический 
	перелёт\, сове
	ршенный американским
	 лётчиком Чарлзом Лин
	дбергом (по 21 мая).\n 
	   1929 — открытие школ
	ы морских лётчиков
	 в г. Николаеве.\n
	    1932 — на 
	собрани
	и писате
	льского ак
	тива СССР вперв
	ые введён терми
	н «социалистиче
	ский реализм».\
	n    1939 — ко
	мпания «П
	ан Американ» н
	ачала доставку 
	авиапочты чере
	з Атлантически
	й океан.\n    1
	960 — начались
	 заводские испытан
	ия спортивного реа
	ктивного самолёта
	 Як-30.\n    1964 — пе
	рвый полёт сельск
	охозяйственного с
	амолёта Ан-2М.\n 
	   1965\n     
	   откры
	т аэровокза
	льный комплекс к
	рупнейшего в СССР
	 аэропорта «Домоде
	дово».\n    1970\n
	        М
	ао Цзэдун
	 призвал к 
	началу мировой
	 революции прот
	ив американско
	го империализма
	.\n    1972 — ре
	ферендум в
	 Камеруне п
	реобразовал эту
	 страну из федера
	тивной республи
	ки в унитарную.
	\n    1977 — пер
	вый полёт советско
	го истребителя четв
	ёртого поколения Су
	-27.\n    1980 — на рефе
	рендуме в кан
	адской провин
	ции Квебек 59\
	,9 процента избира
	телей высказали
	сь против отделе
	ния от Канады.\n
	    1989 — советс
	кий лётчик Александр
	 Зуев угнал истребите
	ль МиГ-29 в Турцию.\n  
	  1990 — приняти
	е в СССР закон
	а о порядке 
	въезда и вы
	езда советских гражд
	ан за рубеж. Снятие ограничений с загра
	нпоездок.\n
DTSTART;VALUE=DATE:20150519
END:VEVENT
END:VCALENDAR
