BEGIN:VCALENDAR
VERSION:2.0
PRODID:-//IP.Board Calendar 4.0.13.1//EN
METHOD:PUBLISH
CALSCALE:GREGORIAN
X-WR-CALNAME:В этот день в прошлом
BEGIN:VTIMEZONE
TZID:Europe/London
TZURL:http://tzurl.org/zoneinfo/Europe/London
X-LIC-LOCATION:Europe/London
BEGIN:DAYLIGHT
TZOFFSETFROM:+0000
TZOFFSETTO:+0100
TZNAME:BST
DTSTART:20150329T020000Z
RRULE:FREQ=YEARLY;BYMONTH=3;BYDAY=-1SU
END:DAYLIGHT
BEGIN:STANDARD
TZOFFSETFROM:+0100
TZOFFSETTO:+0000
TZNAME:GMT
DTSTART:20151025T020000Z
RRULE:FREQ=YEARLY;BYMONTH=10;BYDAY=-1SU
END:STANDARD
END:VTIMEZONE
BEGIN:VEVENT
SUMMARY:Развилки Дня
DTSTAMP:20150522T123943Z
SEQUENCE:0
UID:cef7031792131998ec8c30776cd04154@172.17.0.3
ORGANIZER;CN="ясмин джакмич":fai@fai.org.ru
DESCRIPTION:\n19 маяДо XIX века 
	   1484 — в Мо
	сковском 
	Кремле заложе
	н Благовещенски
	й собор по велению Ве
	ликого князя Иоанна
	 III Васильевича.\n
	    1571 — на 
	Филиппинах баско
	м Мигелем Лопесом
	 Легаспи основан 
	город Манила.\n   
	 1536 — в Лондоне был
	а обезглавлена Ан
	на Болейн\, вторая
	 жена Генриха VI
	II\, по сфаб
	рикованному о
	бвинению в «гос
	ударственной и с
	упружеской изме
	не»\n    1606 — 
	на Красной
	 площади в цари 
	«выкрикнули» бо
	ярина Василия Ива
	новича Шуйского.\
	n    1643\n    
	    произ
	ошла битва
	 при Рокруа
	 — сражени
	е Тридцати
	летней вой
	ны между ф
	ранцузами и 
	испанцами. 
	Окончилось 
	полным пора
	жением испа
	нской армии..
	\n        ф
	едерация Новой Англ
	ии формируется Коннекти
	кутом\, Новой Гаванью (Ne
	w Haven)\, Плимутом и Ма
	ссачусетской Бухто
	й.\n    1649 — Англия
	 провозглашена республикой.\n
	    1662 — Акт Единообразия («The A
	ct of Uniformity») полу
	чил одобр
	ение в пе
	ресмотре
	нном Англ
	ийском Молит
	веннике и и
	зъял право 
	принимать 
	вооружения п
	ротив короля\
	;\nпресвитери
	анство в церкв
	и уничтожено и
	 многие священ
	ники\, не прин
	явшие этого
	\, изгнаны.
	 Лицензи
	онный акт 
	запретил импор
	т литературы п
	ротиворечащей
	 христианской 
	вере.\n    169
	8 — впер
	вые уста
	новлены 
	дипломат
	ические отнош
	ения между Российск
	ой Империей и Мальт
	ийским орденом.\n  
	  1728 — Пётр II п
	еренёс столицу Ро
	ссии из Санкт-Петербу
	рга обратно в Москву.\n   
	 1780 — Чёрный день в 1
	3 часов 25 минут
	\, когда по 
	непонятным
	 причинам над те
	рриторией Север
	ной Америки помер
	кло Солнце\; Луну 
	в 150 градусах о
	т Солнца\nнабл
	юдали видом «как к
	ровь» на территории Новой 
	Англии. (Библия син.:Откр
	.6:12\; Марк 13:24. «Пол
	ный толковый 
	словарь Уэбстера»\; га
	зета «Бостон Индепендент 
	Кроникл» от 22.05.1780)\n   
	 1798 — Начался Египет
	ский поход Наполео
	на.XIX век    180
	1 — в Сан
	кт-Пете
	рбурге отк
	рыт памятник фе
	льдмаршалу Але
	ксандру Василье
	вичу Суворову.\n
	    1802 — по 
	инициативе Нап
	олеона во Франци
	и учреждён Орден
	 Почётного леги
	она.\n    1815 — 
	При содейс
	твии русско
	го императора Алек
	сандра I город Жен
	ева получил ста
	тус кантона.\n
	    1817 — учре
	ждение в России
	 Государственно
	го коммерческого 
	банка.\n    1849 
	— после вы
	сылки из П
	руссии Карл
	а Маркса выше
	л последний ном
	ер «Новой рейнс
	кой газеты»\, из
	дававшейся К. 
	Марксом и Ф. Э
	нгельсом. Номер бы
	л напечатан красн
	ой краской и\nста
	л сенсацией.\n 
	   1891 — во
	 Владив
	остоке 
	прошла 
	торжест
	венная ц
	еремони
	я заклад
	ки Уссури
	йской железной
	 дороги — перво
	го звена Транс
	сибирской маги
	страли.\n    18
	97 — завершился
	 срок заключения 
	Оскара Уайльда в
	 Редингской тюрь
	ме.\n    1900 — на
	д островами Тонг
	а установлен бри
	танский протект
	орат.XX век    
	1906\n      
	  Опублик
	ованы «Ос
	новные го
	сударстве
	нные зако
	ны Россий
	ской импер
	ии».\n        Отк
	рыт Симплонский
	 железнодорожный 
	туннель длиной 19\,7
	 км. Он соединил Ита
	лию и Швейцарию че
	рез Альпы.\n    1
	908 — на сцене 
	парижской 
	«Гранд-опе
	ра» Сергей 
	Дягилев пос
	тавил оперу
	 М. Мусоргског
	о «Борис Годунов»
	 с Фёдором Шаляпи
	ным в заглавной р
	оли.\n    1910 — в
	озвращение ко
	меты Галлея: З
	емля пересек
	ла хвост коме
	ты. По этому с
	лучаю в США
	 прошла бой
	кая распрод
	ажа таблеток
	 «Комета»\,
	 которые пре
	длагались в к
	ачестве\nпро
	тивоядия: р
	аспространил
	ись слухи\, что в х
	восте кометы со
	держатся ядовиты
	е вещества.\n    
	1914 — британск
	ой палатой об
	щин в третий раз пр
	инят Закон об упр
	азднении церкви 
	в Уэльсе.\n    1
	921 — Конгре
	сс США пос
	тановил знач
	ительно сокра
	тить квоту на 
	приём эмигрантов
	 из стран Европы\, в пе
	рвую очередь из Ро
	ссии\, Греции и И
	талии.\n    192
	2 — Всеро
	ссийская
	 конфере
	нция ком
	сомола при
	няла решен
	ие «О повс
	еместном 
	создании 
	пионерских 
	отрядов»\; дата 
	основания Всес
	оюзной пионерск
	ой организации.\n 
	   1926 — Томас Эд
	исон впервые
	 выступил по
	 радио. На в
	ечере\, устр
	оенном Нац
	иональной 
	электрическ
	ой компанией в
	 Атлантик-Сити
	\, его попроси
	ли выступить 
	перед микрофоном
	.\nРастерявшись\,
	 изобретатель 
	произнёс: «Я н
	е знаю\, что и
	 сказать… Я вп
	ервые говорю перед 
	такой штуковиной. 
	Доброго вечера!»
	.\n    1930\n    
	    Белым ж
	енщинам пре
	доставили и
	збирательные
	 права в Южно
	й Африке.\n   
	     Минист
	р финансов 
	США Эндрю Ме
	ллон запрети
	л ввоз в США с
	пичек советс
	кого производ
	ства\, мотиви
	руя своё реше
	ние тем\, чт
	о советск
	ий экспо
	рт наносит 
	серьёзный ущерб
	\nаналогичному аме
	риканскому произв
	одству.\n    1935 — Ц
	К ВКП(б) разосл
	ал на места с
	екретное пи
	сьмо\, в кото
	ром призвал выяв
	лять внутри парт
	ии «врагов рабоче
	го класса».\n   
	 1939 — успешн
	ый полёт п
	ервой в ми
	ре отечес
	твенной двухс
	тупенчатой ракеты
	 с прямоточным ВРД 
	на второй ступени.
	\n    1944 — в со
	ответствии
	 с новым ку
	рсом в отн
	ошениях м
	ежду сове
	тскими орг
	анами и рел
	игиозными к
	онфессиями
	 в СССР прин
	ято решение о 
	создании Сов
	ета по делам 
	неправослав
	ных\nкультов
	. Через 2 года
	 мусульманам офи
	циально разрешат
	 паломничество в 
	Мекку.\n    1950 — в 
	Израиль прибыла 
	первая партия евр
	еев из Ирака.\n 
	   1952 — пис
	ательниц
	а Лилиан 
	Хеллман
	 в сенатск
	ой Комис
	сии по р
	асследо
	ванию ан
	тиамерикан
	ской деятел
	ьности\, возг
	лавляемой 
	сенатором Д
	жозефом Мак
	карти\, заявил
	а об отказе\nсв
	идетельствова
	ть против своих 
	друзей: «Я не м
	огу и не буду измен
	ять своей совести\
	, следуя сиюмину
	тной моде».\n 
	   1956 — о
	ткрыто
	 прямое
	 беспере
	садочное ж
	елезнодорожное 
	пассажирское со
	общение между М
	осквой и Веной
	.\n    1957 — вст
	реча партийно
	-государстве
	нных руководи
	телей во гла
	ве с Н. С. Х
	рущёвым
	 с предст
	авителя
	ми творческ
	ой интеллигенци
	и на правительств
	енной даче в Подмос
	ковье.\n    1960 — д
	иджея Алана Фрид
	а\, введшего в об
	иход слово «ро
	к-н-ролл»\, обви
	нили во взяточнич
	естве. На его ка
	рьере поставлен
	 крест.\n    1961
	 — беспилот
	ный космический ап
	парат Венера-1 впер
	вые пролетел около
	 Венеры.\n    1969
	 — в Росарио (Арге
	нтина) вспыхивает восст
	ание против диктатуры.\n
	    1989 — с 19 по 21 
	мая в Москве 
	прошёл первы
	й всесоюзный
	 конкурс «М
	исс СССР — 
	89». Победительн
	ицей стала московская десяти
	классница Юлия Суханова (172\, 55\,
	 91-59-90).\n    1996 — налё
	тчик Лесли Ро
	гги стал первым
	\, кого ФБР арестов
	ало после публик
	ации фото в Интер
	нете.\n    1999 
	— Государ
	ственная Д
	ума РФ прин
	яла закон о переименовании 
	города Новгорода в Великий Новгород. \n
DTSTART;VALUE=DATE:20150518
END:VEVENT
END:VCALENDAR
