BEGIN:VCALENDAR
VERSION:2.0
PRODID:-//IP.Board Calendar 4.0.13.1//EN
METHOD:PUBLISH
CALSCALE:GREGORIAN
X-WR-CALNAME:В этот день в прошлом
BEGIN:VTIMEZONE
TZID:Europe/London
TZURL:http://tzurl.org/zoneinfo/Europe/London
X-LIC-LOCATION:Europe/London
BEGIN:DAYLIGHT
TZOFFSETFROM:+0000
TZOFFSETTO:+0100
TZNAME:BST
DTSTART:20150329T020000Z
RRULE:FREQ=YEARLY;BYMONTH=3;BYDAY=-1SU
END:DAYLIGHT
BEGIN:STANDARD
TZOFFSETFROM:+0100
TZOFFSETTO:+0000
TZNAME:GMT
DTSTART:20151025T020000Z
RRULE:FREQ=YEARLY;BYMONTH=10;BYDAY=-1SU
END:STANDARD
END:VTIMEZONE
BEGIN:VEVENT
SUMMARY:Развилки Дня
DTSTAMP:20150522T124228Z
SEQUENCE:0
UID:c005918a23bdfef77b5a67fca583c549@172.17.0.3
ORGANIZER;CN="ясмин джакмич":fai@fai.org.ru
DESCRIPTION:\n18 маяДо XVIII века 
	   1152 — в Пу
	атье сам
	ая богат
	ая насле
	дница Ев
	ропы Эле
	онора А
	квитанска
	я объявлена нев
	естой герцога 
	Нормандского 
	Генриха Плантаг
	енета.\n    1268 — Ег
	ипетские мамелю
	ки захватили Ан
	тиохию.\n    12
	74 — Второй 
	Лионский с
	обор отклони
	л предложенный па
	пой Григорием X Д
	евятый крестовы
	й поход.\n    1
	291 — Егип
	етские ма
	мелюки захв
	атили Акру — пос
	леднюю крепость
	 крестоносцев в 
	Святой земле.\n
	    1301 — но
	вгородск
	ое войско
	 под кома
	ндование
	м великог
	о князя Ан
	дрея Александро
	вича взяло штур
	мом шведскую кр
	епость Ландскр
	она.\n    1565 — 
	Началась 
	осада Отт
	оманской им
	перией острова М
	альты\, принадле
	жащего Мальтийс
	кому ордену.\n 
	   1593 — анг
	лийский Тайн
	ый Совет приказ
	ал арестовать п
	исателя Кристофе
	ра Марло.\n    15
	95 — заключё
	н Тявзинск
	ий мирный до
	говор\, озна
	меновавший
	 окончание р
	усско-шведско
	й войны. По ус
	ловиям мира Шв
	еция вернула России
	 земли\, утраченные
	 в Ливонскую войну
	.\n    1652 — в бр
	итанской кол
	онии Род-Айл
	енд принят первый
	 в Северной Америке зако
	н\, запрещающий рабство.
	XVIII век    1703 — 30 р
	усских лодок 
	под личным к
	омандованием
	 Петра I в уст
	ье Невы захва
	тили два крупны
	х шведских корабл
	я «Астрильд» и «Гед
	ан»\n    1704 — заложе
	н Кроншлот\, форт
	 Кронштадта.\n
	    1724 — сос
	тоялась церемони
	я коронации русск
	ой императрицы Ек
	атерины I.\n    1727
	 — на престол Российск
	ой Империи взошёл 11-
	летний Пётр II.\n 
	   1753 — указ
	ом русско
	й императри
	цы Елизаветы уч
	реждён первый в России Дв
	орянский заёмный банк (Указ 
	от 23.06.1754).\n    1781 
	— испанцам
	и казнён лидер к
	рупнейшего восстани
	я индейцев Перу Тупа
	к Амару II.XIX век 
	   1804 — провозглаш
	ение Наполеона и
	мператором Фран
	ции.\n    1830 
	— в США начато
	 промышленное 
	производство п
	ервых газоноко
	силок.\n    184
	8 — во Франкфурте
	 открылся первый
	 общегерманский па
	рламент.\n    1867 — в 
	России учреждена зе
	мская почта.\n    1
	881 — указом Ал
	ександра III в Ро
	ссийской импер
	ии учреждена Зак
	аспийская област
	ь.\n    1886 — в 
	Севастополе
	 спущен на воду пе
	рвый русский ста
	льной броненосе
	ц «Чесма».\n   
	 1888 — в США в
	первые продемо
	нстрирована пер
	вая граммофонная пл
	астинка.\n    1896 
	— в Петербурге
	 в доме № 46 по 
	Невскому пр
	оспекту отк
	рыт первый в г
	ороде кинотеатр (н
	ыне здесь находитс
	я ресторан «Нева»
	).\n    1899 — в Гаа
	ге началась п
	ервая мирная конф
	еренция\, созванн
	ая по инициативе
	 России.\n    1900 — Тон
	га стала Британски
	м протекторатом.XX
	 век\n    1909 —
	 в Париже 
	балетом «Княз
	ь Игорь» началис
	ь Дягилевские веч
	ера Русского балета
	.\n    1915 — испытан пер
	вый в мире танк «Ве
	здеход».\n    1917 — 
	в Киеве начался I Вс
	еукраинский военны
	й съезд.\n    1918\n
	        Из-з
	а взрыва троти
	ла на химическ
	ом заводе в Окде
	йле (Пенсильван
	ия\, США) погиб
	ло около дв
	ухсот человек
	.\n        В Донб
	ассе немецкими о
	ккупантами расстр
	еляны 44 шахтёра.\n    1923
	 — французский инженер Ан
	туан Барнай (Antoine Barna
	y) получил патент н
	а телефон с диск
	овым набором но
	мера.\n    1927
	 — амери
	канская к
	инозвезда
	 Норма Тол
	мадж случай
	но оставила
	 отпечаток св
	оей ступни на
	 незастывшем 
	асфальте\, ч
	то натолкну
	ло на идею создани
	я в Голливуде ал
	леи отпечатков
	 ног кинозвёзд.\
	n    1928 — на
	чалось р
	ассмотре
	ние «Шахт
	инского де
	ла» об имевшем м
	есто антисовет
	ском заговоре инжен
	еров Донбасса.\n    1933
	 — начало экспеди
	ции ЭОН-1.\n    1
	934 — в сов
	етских 
	политехнич
	еских института
	х введено препод
	авание истории и
	 географии.\n   
	 1935 — разбился с
	амый большой со
	ветский самолёт «Мак
	сим Горький»\, 49 чел
	овек погибли.\n  
	  1940 — герой 
	первой мир
	овой войны марша
	л Анри Петен наз
	начен министром
	 обороны Франци
	и.\n    1941 — 
	итальян
	ский герцо
	г Сполето провоз
	глашён королём фаш
	истской Хорватии Т
	омиславом II.\n   
	 1942\n        
	Немецкой
	 армией уни
	чтожены ост
	атки советс
	ких войск н
	а Керченск
	ом полуост
	рове.\n   
	     В Бер
	лине группой п
	одпольщиков а
	такована антис
	оветская выста
	вка.\n    1943
	 — Японска
	я подлодка по
	топила австрали
	йский корабль-госпита
	ль «Кентавр»\, 299 че
	ловек погибли.\n  
	  1944\n        Де
	портация крымс
	ких татар из К
	рыма в Средн
	юю Азию.\n  
	      В 
	Турции 
	после сер
	ии профаш
	истских д
	емонстрац
	ий введено
	 чрезвычайн
	ое положени
	е.\n       
	 После нед
	ельного штур
	ма польские 
	отряды захват
	или монастырь Кассин
	о (Италия)\, открыв с
	оюзникам дорогу н
	а Рим.\n    1945 — н
	емецкий адми
	рал Карл Дён
	иц издал декр
	ет\, в которо
	м заявил о н
	епричастности г
	ерманской армии к
	 зверствам в конц
	лагерях.\n    1949
	 — открыта первая 
	в Нью-Йорке вертолё
	тная площадка.\n 
	   1951\n       
	 Корейская во
	йна: ООН вве
	ла экономич
	еские санкции
	 против Китая 
	в связи с его
	 поддержкой 
	Северной Коре
	и.\n        Шт
	аб-квартира
	 ООН перебра
	лась из Лонг-
	Айленда на место
	 своей постоянн
	ой дислокации н
	а Манхэттене.\n 
	   1953 — амери
	канская лётч
	ица Жаклин Ко
	кран стала п
	ервой в мире женщ
	иной\, преодолевше
	й на самолёте зву
	ковой барьер.\n
	    1954\n    
	    Началос
	ь восстание 
	заключённых 
	Кенгирского 
	лагеря (Казах
	стан).\n     
	   Вступила
	 в силу Европе
	йская конвенция о 
	защите прав челове
	ка и основных своб
	од.\n    1956\n  
	      ЦК КПС
	С призвал к
	омсомольце
	в ехать на ст
	роительство ш
	ахт Донбасса.
	\n        Впер
	вые покорена Лхоцзе 
	(Эрнст Райс и Фриц Л
	ухсингер\, Швейца
	рия).\n    1957 —
	 Совет Ми
	нистров 
	СССР прин
	ял постанов
	ление «О создани
	и Сибирского отд
	еления Академии 
	наук СССР».\n  
	  1958 — на В
	тором Ка
	ннском к
	инофести
	вале «Золот
	ую пальмовую вет
	вь» получил сове
	тский фильм «Летят
	 журавли».\n    196
	0 — три священни
	ка заявили\, что видел
	и чудовище в озере Л
	ох-Ри (Ирландия).\
	n    1961 — на
	 Украине установ
	лены литературны
	е премии имени Та
	раса Шевченко.\
	n    1965 — в Да
	маске повешен рези
	дент израильской р
	азведки в Сирии Эл
	и Коэн.\n    1967
	\n       
	 Юрий А
	ндропов
	 назначе
	н предс
	едателем 
	Комитета г
	осударствен
	ной безопасн
	ости при Сов
	ете Министр
	ов СССР.\n 
	       В Пе
	кине прошла
	 стотысячна
	я демонстра
	ция протеста
	 против того\, что
	 Гонконг являе
	тся владением
	 Великобритани
	и.\n    1969 — запу
	ск американского 
	космического кора
	бля «Аполлон-10».\n
	    1974 — Индия 
	стала шестым госу
	дарством\, обладаю
	щим атомным оружие
	м.\n    1980\n     
	   Из-за извер
	жения вулкана С
	вятой Елены в 
	штате Вашинг
	тон погибли 
	57 человек.
	\n      
	  Европе
	йское экон
	омическое сооб
	щество ввело эко
	номические санкц
	ии против Ирана.\
	n    1981 — в Цю
	рихе американ
	ский бегун Рон
	альдо Нехемиа пер
	вым в истории пробежал 
	110 метров с барьерами 
	быстрее 13 секунд.\n   
	 1982 — в отчётном 
	докладе на XIX
	 съезде ВЛ
	КСМ лидер комсо
	мола Борис Пастухов 
	упомянул имя Леонид
	а Брежнева 38 раз.\
	n    1985 — в г
	азете «Правда» 
	появилась рубри
	ка «Трезвость — 
	норма жизни».\n 
	   1989 — Верх
	овный Совет Лит
	овской ССР принял 
	Декларацию о суве
	ренитете Литвы.\n
	    1990\n        Во Ф
	ранции установлен ре
	корд скорости поездов 
	(515\,3 км/ч).\n        
	Между ФРГ и Г
	ДР подписан Дого
	вор о валютном\, э
	кономическом и
	 социальном сою
	зе.\n    1991 — зап
	уск советско
	го космического
	 корабля Союз ТМ
	-12 к орбитальн
	ой станции «
	Мир»\; в экипаже
	 первая английска
	я женщина-космонав
	т Хелен Шарман.\n 
	   1992\n      
	  Карабахс
	кая война: 
	армянская а
	рмия заняла
	 Лачинский 
	коридор ме
	жду Арменией и К
	арабахом.\n      
	  Принята конст
	итуция Туркмени
	и.\n    1994\n  
	      Ли
	дер Соци
	алистиче
	ской партии
	 Украины Ал
	ександр Мор
	оз избран с
	пикером Вер
	ховной Рады.\n
	        Завершён 
	вывод израильских
	 войск из сектора 
	Газа.\n    1996 
	— в Тайване созда
	на пирамида из игрушечн
	ых кубиков высотой 25\,
	05 метров.\n    199
	7\n        
	Солдаты Ал
	ьянса демо
	кратических
	 сил за освобо
	ждение Конго
	-Заира вошли 
	в столицу Ко
	нго Киншасу.
	\n        
	Ирландка
	 Бриджет Д
	иррен получи
	ла диплом с от
	личием Националь
	ного университета в в
	озрасте 102 года (мир
	овой рекорд).\n 
	   1998 — тыс
	ячи студент
	ов захватили
	 здание парламе
	нта Индонезии в
	 Джакарте\, что привело к падению 30-ле
	тнего режима Сухарто \n
DTSTART;VALUE=DATE:20150517
END:VEVENT
END:VCALENDAR
