BEGIN:VCALENDAR
VERSION:2.0
PRODID:-//IP.Board Calendar 4.0.13.1//EN
METHOD:PUBLISH
CALSCALE:GREGORIAN
X-WR-CALNAME:В этот день в прошлом
BEGIN:VTIMEZONE
TZID:Europe/London
TZURL:http://tzurl.org/zoneinfo/Europe/London
X-LIC-LOCATION:Europe/London
BEGIN:DAYLIGHT
TZOFFSETFROM:+0000
TZOFFSETTO:+0100
TZNAME:BST
DTSTART:20150329T020000Z
RRULE:FREQ=YEARLY;BYMONTH=3;BYDAY=-1SU
END:DAYLIGHT
BEGIN:STANDARD
TZOFFSETFROM:+0100
TZOFFSETTO:+0000
TZNAME:GMT
DTSTART:20151025T020000Z
RRULE:FREQ=YEARLY;BYMONTH=10;BYDAY=-1SU
END:STANDARD
END:VTIMEZONE
BEGIN:VEVENT
SUMMARY:Развилки Дня
DTSTAMP:20150522T124753Z
SEQUENCE:0
UID:2382636e65218983950f9cd68c96fedd@172.17.0.3
ORGANIZER;CN="ясмин джакмич":fai@fai.org.ru
DESCRIPTION:\n17 маяДо XVI века 
	   1215 — англ
	ийские ба
	роны в ходе
	 мятежа против 
	короля Иоанна 
	Безземельного 
	захватывают Ло
	ндон.\n    1302
	 — ремеслен
	ники города 
	Брюгге под
	няли восста
	ние против 
	французов\, что с
	тало началом осв
	ободительной во
	йны во Фландрии.
	\n    1395 — вто
	ргшаяся в В
	алахию османска
	я армия столкнулась
	 с валашской в Битве
	 при Ровине.\n    1497 — 
	Васко да Гама достиг б
	ерегов Индии.XVI век   
	 1521 — Эдвард Стаффорд\, 3
	-й герцог Бекингем
	\, был казнён.\n 
	   1525 — по
	д Франкен
	хаузеном оконч
	ательно разбита
	 крестьянская арми
	я Томаса Мюнцера.\n  
	  1536 — Джордж Боле
	йн\, виконт Рочфорд\, 
	брат Анны Болейн\, 
	осуждённый судом Генриха
	 VIII\, был казнён в Тауэ
	р Хилл.\n    1590 — Анна
	 Датская стала коро
	левой Шотландии.X
	VII век    1606 —
	 восстание 
	в Москве пр
	отив захват
	чиков — войс
	к Речи Посполи
	той. На девятый 
	день после венча
	ния с Мариной Мниш
	ек\, Лжедмитрий I
	 убит и сожжён
	. Пеплом заря
	жена Царь-\n
	пушка. Еди
	нственный в
	ыстрел развеивае
	т прах самозванца
	. Марина Мнишек арестов
	ана.\n    1642 — основа
	н Монреаль.\n    1656 — Рос
	сия вступает в Северн
	ую войну 1655—1660 гг.
	\, объявив войну Шв
	еции и начав на след
	ующий день военные д
	ействия.XVIII век    
	1703 — русский 
	флот одержал
	 свою первую победу
	 (над двумя шведски
	ми кораблями в усть
	е Невы).\n    1718 — английский 
	юрист Джеймс Пакл (англ. 
	James Puckle) запатентовал пе
	рвый в мире пулемё
	т — ружьё Пакла.\n   
	 1727 — На русский прес
	тол вступил Пётр II\, мал
	олетний внук Петра I.\
	n    1742 — Фридрих II
	 разбил австрийцев в
	 битве у Шотузица (
	Силезия).\n    17
	87 — из-за сил
	ьного ветра
	 опрокинулось
	 английское с
	удно «Систерс»\
	, на котором из 
	Африки на Кубу перев
	озились рабы — окол
	о 300 человек погибл
	и.\n    1792 — спря
	тавшиеся от 
	солнца под т
	енью раскид
	истого дерева 2
	4 брокера основ
	ывают Нью-Йоркск
	ую фондовую бирж
	у. Там\, где росло это 
	дерево\, сегодня 
	расположена Уол
	л-стрит.\n    17
	99 — после 
	неудачной п
	опытки захватит
	ь Акру Наполеон отсту
	пил из Палестины в Е
	гипет.XIX век    1
	805\n        в 
	Бонне сост
	оялась пре
	мьера Крейц
	еровой сонаты
	 Бетховена.\n     
	   Мухаммед Али ст
	ановится Вали Египт
	а.\n    1808 — импера
	тор Наполеон I 
	издаёт декре
	т\, объявивший\
	, что глава кат
	олической цер
	кви лишается с
	ветской власти
	\, а Рим и все вла
	дения папы присоед
	иняются к французс
	кой\nимперии.\n   
	 1814\n        
	в ненадолг
	о ставшей н
	езависимой
	 Норвегии п
	ринята перва
	я конституция
	.\n        Война з
	а независимость Арг
	ентины: в ходе Мор
	ской кампании 18
	14 года в Ла-Плате
	\, напротив М
	онтевидео п
	роизошло сра
	жение при Бу
	сео\, в кото
	ром арген
	тинская э
	скадра по
	д\nкоманд
	ованием ад
	мирала Ги
	льермо Бра
	уна нанес
	ла поражение и
	спанской эскадре
	\, предопределив
	 падение Монтев
	идео.\n    1837 — н
	ачался выход ам
	ериканской газ
	еты «Балтимор Сан
	».\n    1848 — авст
	рийский импера
	тор Фердинанд I сбе
	жал из Вены в Инсбр
	ук\, скрываясь от ре
	волюции.\n    1849 
	— пожаром уничтож
	ено 15 кварталов и доки 
	города Сент-Луис (Мис
	сури\, США).\n    18
	61 — первое в
	 мире турист
	ическое бюр
	о Томаса Кука
	 отправило в 
	поездку первую в ми
	ре туристическую г
	руппу (из Лондона 
	в Париж).\n    1865 — 
	основан Междун
	ародный союз э
	лектросвязи.\n    186
	6 — основано Рус
	ское техническое
	 общество.\n    1867 — в
	 России учреждае
	тся земская почта
	.\n    1877 — в б
	остонском
	 офисе установл
	ен первый в мире
	 телефонный ра
	спределительны
	й щит.\n    1885 
	— Германия ан
	нексирует Север
	ную Новую Гвинею 
	и Архипелаг Бис
	марка.\n    1887 — нач
	алась первая ста
	чка шахтёров До
	нбасса.\n    1897
	 — Австрия и 
	Россия договорил
	ись соблюдать ста
	тус-кво на Балкана
	х.XX век    1900 
	— событие
	 второй ан
	гло-бурск
	ой войны 
	— снятие оса
	ды Мафекинга бри
	танскими войскам
	и против Бурских в
	ойск.\n    1909\n
	        
	Знаменит
	ые Русские 
	сезоны в П
	ариже начинаю
	тся антрепренё
	ром Сергеем Дяг
	илевым.\n     
	   Приказом №
	 187 по Военн
	ому ведом
	ству на в
	ооружение
	 нижних чино
	в артиллеристов 
	взамен шашки ввод
	ится кривой кинжа
	л-бебут.\n    1911 —
	 выход в свет сборн
	ика Владимира Маяк
	овского «Я!».\n    
	1916 — в Англии впервы
	е в мире совершён п
	ереход на летнее 
	время.\n    1917\n  
	      Троцкий
	 возвращается 
	из изгнания в 
	Россию. Он и его гр
	уппа (межрайонце
	в) сближаются с
	 большевиками.\
	n    1918 — начи
	нается во
	сстание Че
	хословацко
	го корпуса 
	в Сибири. О
	дна из пр
	едпочтите
	льных среди 
	историков Формал
	ьных дат Начала 
	гражданской во
	йны в России.\n
	    1919 — 
	объявляет
	ся национализац
	ия церковного и 
	монастырского и
	мущества в Росси
	и.\n    1921 — от
	меняется 
	декрет о на
	ционализации мел
	ких предприятий\, на
	чало денационализаци
	и.\n    1928\n        
	Начало IX Олимпи
	йских игр\, пр
	оводимых в Ам
	стердаме (Нид
	ерланды).\n 
	       Мусс
	олини созда
	л в Италии 
	Службу дорог д
	ля строительства 
	первых в мире ско
	ростных автострад
	.\n    1929\n     
	   После 
	долгих р
	озысков 
	в Филаде
	льфии сх
	вачен глав
	а торговцев
	 контрабан
	дными спир
	тными напит
	ками Аль Ка
	поне\, кото
	рому было п
	редъявлено 
	обвинение в 
	незаконном 
	хранении\nпи
	столета.\n  
	      В Мо
	нреале кан
	адский пилот
	 Колдвел впервые 
	в Канаде использ
	овал парашют для
	 спасения.\n    19
	32 — Конгресс США пе
	реименовал Порто-
	Рико в Пуэрто-Рико.\n  
	  1933 — в Германии 
	запрещены забас
	товки.\n    1934
	 — в нацистс
	кой Германии евр
	еи лишены права 
	на медицинское
	 страхование.\n   
	 1937 — образовани
	е в Испании правит
	ельства во главе с
	 Xуаном Негрином.
	\n    1938 — Вал
	лийский маркиз Б
	ьют продал половину
	 города Кардиффа (около 20
	 тыс. домов\, 1 тыс. магазинов\, 
	250 салонов и т. д.) за 20 млн.
	 фунтов.\n    1939 
	— король Англи
	и Георг VI и к
	оролева Ел
	изавета приб
	ывают в Квебек. В
	первые Канаду п
	осещает царств
	ующий монарх.\n
	    1940 — фашист
	ские войска захв
	атывают столицу
	 Бельгии Брюссель
	.\n    1941\n        
	Опубликована пер
	едовая в газете «П
	равда» за 36 дней 
	до начала войн
	ы\, в ней утве
	рждается: Н
	аша «мощь р
	астёт непрер
	ывно — на гра
	ницах нашего го
	сударства и в 
	глубине его».
	\n        Рудо
	льф Гесс\, быв
	ший заместител
	ь Гитлера по нацистск
	ой партии\, помещён в
	 Тауэр в Лондоне.\n
	    1943\n     
	   Верховн
	ый суд США
	 объявил
	 незаконны
	м лишение 
	права голоса ам
	ериканцев японско
	го происхождения.
	\n        Операц
	ия Chastise — 
	налёт спец
	иально под
	готовленных
	 бомбардировщ
	иков «Ланкасте
	р» 617-й эскадри
	льи Королевски
	х ВВС на плоти
	ны в Рурском
	 бассейне.\n
	        США и
	 Англия обменял
	ись кодовыми си
	гналами своих спе
	цслужб.\n    1944 — л
	иквидация Крымской 
	АССР. В одну ночь — 
	на 18 мая около 200
	 тысяч крымс
	ких татар выв
	езено из Крыма
	 на поселение в 
	районы Средней Аз
	ии\, Приуралья и В
	ерхнего Поволжь
	я.\n    1948 — Со
	ветский Союз
	 официально объя
	вил о признании Израи
	ля как государства.\n    1953 — 
	Уэском\, Техас\, США. Самолёт Douglas D
	C-3 компании Delta Air Line
	s разбивается пр
	и выведении на п
	осадку в условиях 
	сильной грозы. Из 20 
	человек на борту с
	пасается\nодин.\n
	    1954 — Вер
	ховный суд США о
	бъявил незаконно
	й расовую сегрегацию в шко
	лах.\n    1955 — японский п
	аром «Shium Maru» потоплен япо
	нским паромом «Uko Maru». 
	Погибло 135 человек\, пр
	опало без вести 60 
	человек.\n    19
	56 — выходит
	 постановлен
	ие ЦК и Совм
	ина о напра
	влении моло
	дёжи на важ
	нейшие стройки
	 и предприятия в во
	сточных и северны
	х районах страны.\
	n    1959 — на Кубе об
	ъявлена раздача 
	земли крестьянам
	.\n    1960\n      
	  В Родезии
	 открывает
	ся Карибска
	я дамба.\n 
	       С
	оветская
	 делегация
	 покидает 
	открывшуюс
	я в Париже к
	онференцию чет
	ырёх держав по 
	разоружению на 
	высшем уровне. 
	Накануне Н. С. 
	Хрущёв в связи с и
	нцидентом с\nраз
	ведывательным сам
	олётом U-2\, сбитым 
	1 мая около Св
	ердловска\, 
	потребовал\,
	 чтобы США 
	прекратили
	 подобные по
	лёты над тер
	риторией СС
	СР и принесл
	и извинения.
	 Президент 
	США Дуайт\nЭ
	йзенхауэр от
	верг эти требо
	вания — и конферен
	ция завершилась\, 
	так и не начавшись.\n 
	   1968 — запуск 
	космического
	 спутника (ЕСРО
	-2В)\, разработанн
	ого европейск
	им космически
	м агентством.\n 
	   1969 — Авт
	оматическа
	я межпланет
	ная станция 
	«Венера-6» соверш
	ает плавный спус
	к в атмосферу п
	ланеты Венера
	.\n    1970 — 
	экспеди
	ция нор
	вежского
	 путешестве
	нника-иссл
	едователя Т
	ура Хейерда
	ла на папирус
	ной лодке «Р
	а-2» отправл
	яется из мар
	окканского г
	орода Сафи 
	в плавание
	 через\nАт
	лантичес
	кий океан
	\, чтобы 
	продем
	онстрир
	овать возм
	ожность достиже
	ния берегов Амер
	ики древними нар
	одами Африки.\n
	    1972 — в 
	Советском
	 Союзе осущес
	твлён запуск
	 искусственн
	ого спутника
	 Земли «Космо
	с-490» для и
	зучения 
	первичного
	 космического изл
	учения и потоков э
	лектронов высокой
	 энергии.\n    197
	3\n        В С
	енате США начин
	аются слушания
	 по Уотергейтско
	му скандалу.\n  
	  1978 — швейцар
	ская полиция
	 в Лозанне обнар
	ужила останки Чар
	ли Чаплина\, похищенны
	е из могилы за 11 не
	дель до этого.\n
	    1980 — ма
	оистская г
	руппировка «Сияю
	щий путь» объявил
	а начало народной 
	войны в Перу.\n  
	  1983 — подписан мирн
	ый договор между И
	зраилем и Ливаном
	.\n    1985\n    
	    Выступ
	ая на собр
	ании акти
	ва Ленингр
	адской пар
	тийной орг
	анизации\,
	 Генераль
	ный секре
	тарь ЦК КПС
	С Михайл Горб
	ачёв впервые 
	провозглашает 
	лозунг «ускорен
	ия»\, заявив\, ч
	то\nсоветск
	ие люди г
	отовы и вп
	редь актив
	но участвов
	ать в комм
	унистическ
	ом строитель
	стве.\n     
	   В СССР п
	ринято пос
	тановление
	 «О мерах 
	по преодол
	ению пьянства и
	 алкоголизма и 
	искоренению сам
	огоноварения».\n
	    1987 — ирано
	-иракская вой
	на: инцидент с
	 фрегатом «Старк
	» в Персидском 
	заливе. Погибло 
	37 американцев. США и
	 Ирак признали инцидент ош
	ибкой.\n    1990\n        В н
	очь с 17 на 18 мая в
	 20 км западне
	е города С
	терлитама
	ка упал м
	етеорит 
	«Стерлит
	амак».\n
	      
	  Всеми
	рная ор
	ганиза
	ция здр
	авоохр
	анения исключ
	ила гомосексуальность из списка психич
	еских заболеваний. \n
DTSTART;VALUE=DATE:20150516
END:VEVENT
END:VCALENDAR
