BEGIN:VCALENDAR
VERSION:2.0
PRODID:-//IP.Board Calendar 4.0.13.1//EN
METHOD:PUBLISH
CALSCALE:GREGORIAN
X-WR-CALNAME:В этот день в прошлом
BEGIN:VTIMEZONE
TZID:Europe/London
TZURL:http://tzurl.org/zoneinfo/Europe/London
X-LIC-LOCATION:Europe/London
BEGIN:DAYLIGHT
TZOFFSETFROM:+0000
TZOFFSETTO:+0100
TZNAME:BST
DTSTART:20150329T020000Z
RRULE:FREQ=YEARLY;BYMONTH=3;BYDAY=-1SU
END:DAYLIGHT
BEGIN:STANDARD
TZOFFSETFROM:+0100
TZOFFSETTO:+0000
TZNAME:GMT
DTSTART:20151025T020000Z
RRULE:FREQ=YEARLY;BYMONTH=10;BYDAY=-1SU
END:STANDARD
END:VTIMEZONE
BEGIN:VEVENT
SUMMARY:Развилки Дня
DTSTAMP:20150522T125553Z
SEQUENCE:0
UID:13d7841b501765c8d68783f3c85bcac1@172.17.0.3
ORGANIZER;CN="ясмин джакмич":fai@fai.org.ru
DESCRIPTION:\n 16 маяДо XVIII ве
	ка    922 — 
	Дата офи
	циальног
	о приняти
	я Булгарск
	им ханством в ка
	честве государствен
	ной религии ислама[
	источник?].\n    12
	04 — Балдуин I
	X Фландрск
	ий коронова
	н как первый имп
	ератор только что со
	зданной Латинской имп
	ерии.\n    1220 — Ген
	рих III (король
	 Англии) з
	аложил фун
	дамент ново
	й Дамской Ч
	асовни в В
	естминсте
	рском аббатств
	е\, таким образом
	 закладывая новое
	 аббатство-церков
	ь.\n    1584 — Сантья
	го де Вера стал ш
	естым губернатором Ф
	иллипин.\n    1605 — П
	осле смерти папы Кл
	имента VIII и его пре
	емника папы Льва
	 XI новым папой под име
	нем Павел V избран 
	Камилло Боргезе.\
	n    1619 — В Томск 
	из Пекина верн
	улась русская м
	иссия из 11 чел
	овек во глав
	е с первым ру
	сским посло
	м в Китае — с
	ибирским казак
	ом Иваном Петлиным\
	, отправившаяся т
	уда годом\n ранее
	.\n    1648 — По
	беда Богда
	на Хмельницкого
	 над войсками Речи П
	осполитой под Жёлты
	ми Водами.XVIII век 
	   1717 — Вольте
	р заключён в Бас
	тилию за свои с
	атирические про
	изведения.\n   
	 1744 — Указом
	 царицы Елиз
	аветы Петровны в
	 Российской Импе
	рии отменена сме
	ртная казнь.\n  
	  1764 — В Альк
	асаре Сегов
	ии основан
	 Королевск
	ий Колледж
	 Артиллерии
	\, ныне изв
	естный ка
	к Артилле
	рийская Академ
	ия — старейшая 
	в мире действующая
	 военная академия.\
	n    1768 — Импер
	атрица Екатери
	на II издала у
	каз о постройке п
	амятника Петру I
	 — будущего «М
	едного всадника»
	.\n    1769 — Парл
	амент Вирджи
	нии постанов
	ил\, что Бри
	тания не имеет пр
	ава собирать нало
	ги с американски
	х колонистов.\n    1
	770 — Дофин Франции
	 (впоследствии Лю
	довик XVI) вступ
	ает в брак с
	 Марией Антуан
	еттой\, дочерью им
	ператрицы Австрии
	 Марии Терезии.XIX 
	век    1811 — Сраж
	ение у деревни
	 Альбуэра бли
	з города Бада
	хос (Испания
	)\, в резул
	ьтате кот
	орого объе
	динённые 
	силы англи
	йского экспедиц
	ионного корпуса\,
	 испанских и португ
	альских\nвойск (43 тыс.) ра
	збивают войска Напол
	еона (23 тыс.).\n    1
	815 — Решени
	ем Венско
	го конгре
	сса бо?ль
	шая часть
	 Герцогст
	ва Варшавс
	кого присо
	единена к 
	Российской и
	мперии «на вечные в
	ремена» под именем 
	Царства Польского.\n 
	   1836 — 27-летний Э
	дгар Аллан По же
	нится на своей 1
	3-летней кузине Вир
	джинии Клемм\, бол
	ьной туберкулёзом.\n   
	 1849 — Карл Маркс вы
	слан из Германи
	и.\n    1863 — Начало 
	строительства
	 Одесской желез
	ной дороги.\n 
	   1866 — с
	остояло
	сь торжес
	твенное открыт
	ие Никольского е
	диноверческого м
	онастыря в Москве.
	\n    1867\n       
	 Основано Общ
	ество Красно
	го Креста в Р
	оссии\, хот
	я первая общин
	а сестёр милосердия 
	действовала в период 
	Крымской войны (1853—
	1856).\n        В Ро
	ссии принят зак
	он о раскольник
	ах-старообрядцах
	.\n    1868 — Первое
	 представление опер
	ы «Далибор» Б. Смет
	аны в Праге.\n   
	 1870 — По реш
	ению Пари
	жской ком
	муны снос
	ится Вандом
	ская колонна как
	 символ милитар
	изма и завоеват
	ельных войн.\n
	    1871 — Бри
	танская Колумби
	я провозглашена ш
	естой провинцией
	 Канады.\n    1896
	 — В Петербург
	е в саду Аквариум 
	состоялся первый 
	в России киносеан
	с.XX век    1901 —
	 первый в 
	истории м
	атч футб
	ольных с
	борных з
	а предела
	ми Велико
	британии з
	авершился в Монт
	евидео победой Арген
	тины над Уругваем со
	 счётом 3:2.\n    1
	919 — Начал
	о первог
	о перелёта
	 через Атлантиче
	ский океан амер
	иканского лётч
	ика Альберта Р
	ида.\n    1920 
	— Жанна д’Арк п
	ричислена католич
	еской церковью к л
	ику святых.\n    19
	24 — В СССР вышел пе
	рвый номер журна
	ла «Мурзилка».\n
	    1929 — В США сос
	тоялась первая ц
	еремония вручения
	 «Оскаров».\n    19
	30\n        В про
	винции Онтари
	о (Канада) от
	крыли залеж
	и урановой 
	руды\, кот
	орую стал
	и использов
	ать америка
	нцы для про
	изводства сво
	их первых атомн
	ых бомб\, впосл
	едствии сбро
	шенных на\nЯп
	онию.\n    
	    В СССР
	 проведен
	а перетар
	ификация во
	 всех отрас
	лях промышленнос
	ти: нормы выработки 
	повышены\, расценки п
	онижены.\n    1931\n
	        Папа
	 римский Пий X
	I заявил о н
	есовмести
	мости соци
	ализма с к
	атолицизм
	ом.\n       
	 Открылась Перв
	ая Всесоюзная ко
	нференция по аэр
	одинамике.\n    1
	934 — Выдан ордер
	 на первый «арест-
	обыск» поэта Оси
	па Мандельштама
	.\n    1935\n   
	     Подпи
	сание сове
	тско-чехос
	ловацкого до
	говора о взаи
	мопомощи.\n 
	       Бюро
	 Сочинского 
	горкома ВКП(
	б) посетило к
	вартиру бол
	ьного писат
	еля Н. Островск
	ого и заслушало 
	отчёт о его твор
	ческой деятель
	ности.\n    19
	41 — Фран
	цузский 
	маршал П
	етен в р
	адиовыступл
	ении провозглас
	ил сотрудничеств
	о с немецкими фаши
	стами.\n    1943\n
	        Жес
	токо подавл
	ено восстан
	ие в Варшав
	ском гетто.\
	n        Н
	емецкие в
	ойска нач
	али опера
	цию «Цыганс
	кий барон» по
	 уничтожению совет
	ских партизан в Бе
	лоруссии и на Укр
	аине.\n    1945
	\n        Кап
	итулировал не
	мецкий гарниз
	он острова Бо
	рнхольм (Дан
	ия).\n        
	В Праге сов
	етскими ор
	ганами госбе
	зопасности ар
	естован 59-летн
	ий Альфред Л
	юдвигович Бем
	\, литературовед
	 и критик\, получив
	ший известность ещ
	ё до революции.\n
	    1947 — На экр
	аны СССР вышел ф
	ильм Надежды Ко
	шеверовой «Золу
	шка».\n    1948 — Изра
	иль выпустил сво
	и первые почтовы
	е марки.\n    19
	50 — Вышло 
	постановл
	ение Сове
	та Минист
	ров СССР о
	 постройке к
	омплекса морс
	ких ядерных э
	нергетических 
	установок В-10 на 
	площадке ФЭИ в посёл
	ке Обнинском (ныне
	 город\nОбнинск).\n
	    1957 — Указ
	 Президиума Ве
	рховного Совет
	а СССР об учреждении 
	медали «В память 250-
	летия Ленинграда».\
	n    1959 — На экра
	ны СССР вышел фи
	льм В. С. Ордын
	ского «Сверст
	ницы». Впервые 
	снялся в кино (в кро
	шечном эпизоде) Влад
	имир Высоцкий.\n  
	  1960\n        
	В СССР\, из
	 Ленингра
	дского эл
	ектротехн
	ического и
	нститута св
	язи им. Ми
	хаила Бонч
	-Бруевича п
	роведена п
	ервая опытн
	ая цветная т
	елепередача
	.\n        Т
	еодор Мейман по
	строил и запусти
	л свой первый т
	вердотельный л
	азер.\n    196
	4 — Заверш
	ено строител
	ьство первой
	 очереди высо
	тной Асуанской пло
	тины на реке Нил\, по
	строенной при помо
	щи СССР.\n    1966
	\n        На
	 заседании 
	Политбюро 
	ЦК Компарт
	ии Китая при
	нято решение о
	 развёртывании в Кит
	ае «культурной революции».
	\n        «Beach Boys» выпустили альб
	ом «Pet Sounds».\n    1967\n 
	       В Ле
	нинграде н
	а заводе и
	м. Козицког
	о изготовл
	ена первая
	 партия цв
	етных тел
	евизоров 
	«Радуга».
	\n        
	Последний ко
	нцерт бельгийск
	ого автора-испо
	лнителя песен Ж
	ака Бреля.\n   
	 1969 — Советс
	кий межпланетный
	 космический аппар
	ат «Венера-5» достиг
	 Венеры.\n    1970 — Сбор
	ная Англии по футболу\,
	 записавшая песню «Ba
	ck Home» в своём ис
	полнении\, на
	 три недели 
	возглавила 
	британский 
	хит-парад. На 
	мексиканских
	 полях им сопут
	ствовал\nмень
	ший успех\, и а
	нгличане вернулись
	 домой\, потеряв че
	мпионское звание
	.\n    1972\n      
	  поэту Иосифу Б
	родскому предпи
	сано покинуть С
	ССР.\n    1974 —
	 Гельмут Шмидт и
	збирается пятым
	 федеральным канцлер
	ом ФРГ.\n    1980 — Пол Маккартни в
	ыпустил альбом McCartney I
	I.\n    1983 — Л
	ондонская
	 полиция в
	первые ис
	пользовала 
	для наказан
	ия автомобил
	истов\, нарушающих
	 правила парковк
	и\, блокирующие ус
	тройства.\n    1
	985 — Принято П
	остановлени
	е ЦК КПСС и С
	овета минис
	тров СССР «
	О мерах п
	о преодоле
	нию пьянств
	а и алкогол
	изма и искор
	енению самог
	оноварения»\
	, которое на 
	следующий день
	 было\nопубликова
	но во всех газет
	ах Советского С
	оюза.\n    198
	9 — Католич
	еская цер
	ковь доби
	лась прин
	ятия меж
	дународных
	 правовых актов\,
	 запрещающих рас
	пространение порн
	ографии в СМИ.\n  
	  1990 — Начало работы I Съезда народных д
	епутатов РСФСР. \n
DTSTART;VALUE=DATE:20150515
END:VEVENT
END:VCALENDAR
