BEGIN:VCALENDAR
VERSION:2.0
PRODID:-//IP.Board Calendar 4.0.13.1//EN
METHOD:PUBLISH
CALSCALE:GREGORIAN
X-WR-CALNAME:В этот день в прошлом
BEGIN:VTIMEZONE
TZID:Europe/London
TZURL:http://tzurl.org/zoneinfo/Europe/London
X-LIC-LOCATION:Europe/London
BEGIN:DAYLIGHT
TZOFFSETFROM:+0000
TZOFFSETTO:+0100
TZNAME:BST
DTSTART:20150329T020000Z
RRULE:FREQ=YEARLY;BYMONTH=3;BYDAY=-1SU
END:DAYLIGHT
BEGIN:STANDARD
TZOFFSETFROM:+0100
TZOFFSETTO:+0000
TZNAME:GMT
DTSTART:20151025T020000Z
RRULE:FREQ=YEARLY;BYMONTH=10;BYDAY=-1SU
END:STANDARD
END:VTIMEZONE
BEGIN:VEVENT
SUMMARY:Развилки Дня
DTSTAMP:20150602T080731Z
SEQUENCE:0
UID:ee043e21032dddfac47ccc40457025d6@172.17.0.3
ORGANIZER;CN="ясмин джакмич":fai@fai.org.ru
DESCRIPTION:\n2 июняДо XIX века\
	n    1537 — специа
	льной буллой Па
	па Римский Пав
	ел III признал и
	ндейцев людьми с душ
	ами и запретил превр
	ащение их в рабов.
	XIX век    1805 — 
	Мартиника:
	 после трёхд
	невной бомб
	ардировки\, англич
	ане занявшие Алмазну
	ю скалу\, капитулирова
	ли.\n    1851 — штат
	 Мэн (США) первым вв
	ёл на своей террит
	ории «сухой закон
	».\n    1856 — основ
	ан Благовещенск\
	, центр Амурской област
	и\, в месте слияния рек
	 Амур и Зея.\n    1
	864 — в Москве открыт
	 первый в России з
	оологический сад.\
	n    1896\n      
	  Соглашение 
	между Россией
	 и Китаем о р
	усской конце
	ссии в Ханьк
	оу.\n        Ита
	льянец Гульельм
	о Маркони в США запатентова
	л радио.\n    1897 — еженедельник
	 «New York Journal»\, опрове
	ргая слухи о с
	мерти Марка Т
	вена\, процит
	ировал его 
	телеграмму из
	 Лондона: «Сообщен
	ия о моей смерти 
	сильно преувели
	чены».XX век    
	1910 — в голландской
	 Новой Гвинее обн
	аружено племя пи
	гмеев.\n    1924 
	— все индейцы СШ
	А получили амери
	канское граждан
	ство.\n    1946
	 — в Итали
	и по рез
	ультата
	м рефере
	ндума пров
	озглашена респу
	блика. Женщинам
	 предоставляется пр
	аво голоса.\n    195
	3 — коронация
	 Елизаветы I
	I\, короле
	вы Велико
	британии. Впер
	вые осуществлял
	ась телетрансляци
	я данного события
	.\n    1955\n   
	     СССР
	 и Югославия во
	сстановили дипло
	матические отноше
	ния\, разорванные
	 в 1948 году.\n        
	День основания
	 космодрома Бай
	конур.\n    195
	8 — Москва 
	впервые со
	единилась регуля
	рным авиарейсом с 
	западной столицей 
	(Брюсселем).\n    1959
	 — крушение на ст
	анции Минино. Погибли н
	е менее 57 человек\, 
	в основном дети
	.\n    1962 — нов
	очеркасский рас
	стрел демонстраци
	и против повышения
	 цен.\n    1967\n 
	       На
	 мирной д
	емонстрац
	ии в Берлине
	 полицейским
	 застрелен 
	молодой ст
	удент Бенн
	о Онезорг\, 
	что стало 
	началом р
	адикализац
	ии студенческого
	 движения.\n        Вышел п
	ервый альбом Дэвида Боуи «
	David Bowie».\n    1968 — р
	укопись р
	омана «Арх
	ипелаг ГУЛ
	АГ»\, была переп
	равлена Алексан
	дром Солженицыны
	м за границы СССР
	.\n    1971 — на П
	оместном Соборе
	 Патриархом Моск
	овским избран Пи
	мен.\n    1979 — нач
	ало первого визита Па
	пы Римского Иоанна П
	авла II в Польшу.\n
	    1985 — в анго
	льском городе Дж
	амба представит
	ели УНИТА (Анго
	ла)\, контрас (Н
	икарагуа)\,
	 Национал
	ьного исл
	амского фр
	онта Афган
	истана\, 
	Этничес
	кой орг
	анизации
	 освобожде
	ния Лаоса
	\nучредил
	и Демокр
	атическ
	ий Интер
	национа
	л (Джамб
	ори) —
	 междуна
	родное объеди
	нение вооружё
	нных антикомму
	нистических пов
	станцев.\n    1
	995 — над Боснией сбит американский лё
	тчик Скотт О’Грэйди. \n
DTSTART;VALUE=DATE:20150601
END:VEVENT
END:VCALENDAR
