BEGIN:VCALENDAR
VERSION:2.0
PRODID:-//IP.Board Calendar 4.0.13.1//EN
METHOD:PUBLISH
CALSCALE:GREGORIAN
X-WR-CALNAME:В этот день в прошлом
BEGIN:VTIMEZONE
TZID:Europe/London
TZURL:http://tzurl.org/zoneinfo/Europe/London
X-LIC-LOCATION:Europe/London
BEGIN:DAYLIGHT
TZOFFSETFROM:+0000
TZOFFSETTO:+0100
TZNAME:BST
DTSTART:20150329T020000Z
RRULE:FREQ=YEARLY;BYMONTH=3;BYDAY=-1SU
END:DAYLIGHT
BEGIN:STANDARD
TZOFFSETFROM:+0100
TZOFFSETTO:+0000
TZNAME:GMT
DTSTART:20151025T020000Z
RRULE:FREQ=YEARLY;BYMONTH=10;BYDAY=-1SU
END:STANDARD
END:VTIMEZONE
BEGIN:VEVENT
SUMMARY:Развилки Дня
DTSTAMP:20150602T081801Z
SEQUENCE:0
UID:b7ebf82623b4aaddb5cb3022acb4f0af@172.17.0.3
ORGANIZER;CN="ясмин джакмич":fai@fai.org.ru
DESCRIPTION:\n1 июняДо XVIII века  
	  17 до н. э. — на с
	екулярных (ве
	ковых) играх 
	1—3 июня рим
	ский принцеп
	с Август отм
	етил начало 
	новой эры —
	 эры всеобщего
	 мира. Её высшими 
	ценностями он п
	ровозгласил верн
	ость\,\nмир\, чес
	ть\, нравст
	венность 
	и мужеств
	о. Первые
	 секуляр
	ные игры — пр
	аздник жертвоприно
	шения подземным бог
	ам — состоялись в 249
	 г. до н. э. во вр
	емя первой П
	унической войны и\
	nдолжны были затем повт
	оряться каждые сто лет
	\, но в 49 г. до н. э. 
	не состоял
	ись из-за гражда
	нской войны. Авг
	уст восстановил 
	древнюю традицию
	.\n    193 — в сво
	ём дворце убит рим
	ский император Ма
	рк Дидий Север Юли
	ан.\n    1479 — В Копен
	гагене открыт пе
	рвый в Дании униве
	рситет.\n    1485 — 
	Венгерский король
	 Матьяш I Корвин з
	ахватил Вену.\n
	    1495 — пе
	рвое пись
	менное упо
	минание о 
	шотландско
	м виски в казн
	ачейских отчётах 
	Шотландии. Виноку
	ром был монах Джон Кор
	.\n    1533 — состоялась к
	оронация Анны Болейн.
	XVIII век    1725 — в
	 царствовани
	е уже Екатерины I 
	учреждён Орден
	 Святого Алекса
	ндра Невского.\n 
	   1779 — греческим
	и поселенцами осно
	ван Мариуполь.\n    1792 —
	 Кентукки становится 1
	5-м штатом США.\n    1796 — 
	Теннесси становится
	 16-м штатом США.\n  
	  1798 — в Сан
	кт-Петербург
	е учреждён инстит
	ут Святой Екатери
	ны для благородных
	 девиц.XIX век    1
	816 — консул 
	Парагвая 
	доктор Хо
	се Гаспар Р
	одригес де 
	Франсия ст
	ал Постоянн
	ым диктатором
	 Республики\,
	 через четыре
	 года переиме
	новав свой\nпос
	т в Верховног
	о диктатора. Н
	а этом посту 
	Франсия\, облада
	я неограниченной в
	ластью\, находился
	 до своей смерти в
	 1840\, заложив о
	снову пар
	агвайской 
	экономики и\nг
	осударственности\, пр
	отивостоявшей Бразлии и А
	ргентине в 1864-1870 гг.\
	n    1830 — в 
	Петербур
	ге вокруг
	 Спасо-Пр
	еображен
	ского соб
	ора устано
	влена ограда из т
	урецких орудий — трофее
	в русско-турецкой войн
	ы 1828—1829 годов.\n   
	 1831 — англи
	йский исследова
	тель Джон Росс от
	крыл северный ма
	гнитный полюс.\n   
	 1862 — на всей террит
	ории США запреще
	но рабство.\n   
	 1863 — один из 
	первых упра
	вляемых пол
	ётов дирижабл
	я «Аэрон-1» без
	 двигателя. Ди
	рижабль мог о
	трываться от з
	емли\, лететь 
	против ветра
	 и совершать 
	плавную поса
	дку. Это\nпр
	оисходило за
	 счёт переме
	щения кабины 
	и наклона ди
	рижабля вверх или
	 вниз. Полёт соверша
	лся за счёт сброса
	 балласта.\n    1
	867\n        В Росси
	йской империи вв
	едён институт миро
	вых судей.\n    1
	868 — подписа
	н договор Бос
	ке-Редондо\, котор
	ый регулировал с
	удьбу индейцев н
	авахо.\n    1869
	\n        
	Американс
	кий изобре
	татель То
	мас Алва 
	Эдисон пол
	учил первый
	 патент на 
	электричес
	кий регистр
	атор голосо
	вания.\n     
	   В Дании о
	сновано Бо
	льшое Сев
	ерное Тел
	еграфное 
	общество\,
	 построивш
	ее в после
	дующие д
	есятилет
	ия станции п
	одводной св
	язи на всём
	 пространст
	ве Российской
	 империи. Одн
	а\nиз старе
	йших дейст
	вующих в нас
	тоящее время в За
	падной Европе ком
	паний — партнёров Р
	оссии.\n    1880 — 
	в здании банк
	а Нью-Хейвен
	а (шт. Конн
	ектикут)
	 установ
	лен первый 
	платный телефон
	 — предтеча совр
	еменных телефонов
	-автоматов.XX век
	\n    1920 — аме
	риканский 
	Сенат отв
	ерг предл
	ожение пре
	зидента США
	 В. Вильсона устан
	овить американск
	ий протекторат над
	 Арменией.\n    1
	922\n        
	Открыта перва
	я в СССР междуна
	родная авиалин
	ия Москва — Кё
	нигсберг.\n  
	  1925 — создана а
	мериканская ав
	томобильная ком
	пания «Крайслер»
	.\n    1929 — в р
	амах культу
	рной револ
	юции в ССС
	Р объявле
	н библиот
	ечный похо
	д\, призва
	нный спосо
	бствовать ож
	ивлению деятел
	ьности библиотек\
	, привлечению в них к
	рестьян\, рабочих и\
	nмолодёжи.\n    19
	31 — заключён
	 контракт меж
	ду США и СССР 
	об участии
	 американск
	их инженеров в пос
	тройке 90 советски
	х металлургическ
	их заводов.\n    193
	3\n        Взлетел первый
	 самолёт Дональда Дугласа (Do
	nald Duglas) знаменитой марки DC Дако
	та — Douglas DC-1.\n   
	     В ССС
	Р сформир
	ована Севе
	рная военн
	ая флотилия
	 с местом базирова
	ния — Кольский зал
	ив. Начало Северно
	го флота.\n    1935\n       
	 Первый полёт самолёта
	-амфибии S-43.\n    1
	936\n        
	Открылась
	 первая в СС
	СР транскон
	тинентальна
	я авиалиния из 
	Москвы во Влади
	восток\, одна 
	из самых про
	тяжённых в м
	ире. В те врем
	ена перелёты совер
	шались с промежуточ
	ными\nпосадками за 
	4 суток.\n    1938 — вышел перв
	ый номер журнала комиксо
	в «Action Comics»\, в ко
	тором появился
	 самый знаменитый гер
	ой комиксов Супермен.
	 Журнал стоил ?10\, к
	 1995 сохранившиеся эк
	земпляры\nпродава
	лись по цене свыше
	 $75 000. Автором приключений С
	упермена был Джерри Сигел (Jero
	me «Jerry» Siegel)\, а художником — Джо Шустер
	 (Joe Shuster).\n    1950\n       
	 Первый полёт самолё
	та Дуглас А2D-1 «Ск
	айшарк».\n    1955 — утве
	рждён эскизный проект
	 вертолёта Ми-6.\n    1962
	\n        В СССР цены на м
	ясо\, молоко\, масло и яйца 
	повышены на 25-30 %.\n
	    1965 — пи
	сателю Миха
	илу Шолохову при
	суждена Нобелевс
	кая премия по лит
	ературе.\n    19
	66\n        П
	о китайском
	у националь
	ному радио зач
	итано дацзыбао
	\, призывающее
	 к борьбе про
	тив буржуаз
	ии\, с чего н
	ачалась массов
	ая кампания реп
	рессий против 
	интеллигенции
	.\n    1979 — 
	рождение
	 нового неза
	висимого африкан
	ского государства
	 Зимбабве (бывшая 
	Родезия).\n    1980 — начал
	 работу телеканал Теда Тернера — 
	«CNN» (Cable News Network)\, перв
	ый круглосуточный и
	нформационный канал
	.\n    1992 — Россия 
	стала 165-м членом Международного валю
	тного фонда (МВФ). \n
DTSTART;VALUE=DATE:20150531
END:VEVENT
END:VCALENDAR
