BEGIN:VCALENDAR
VERSION:2.0
PRODID:-//IP.Board Calendar 4.0.13.1//EN
METHOD:PUBLISH
CALSCALE:GREGORIAN
X-WR-CALNAME:В этот день в прошлом
BEGIN:VTIMEZONE
TZID:Europe/London
TZURL:http://tzurl.org/zoneinfo/Europe/London
X-LIC-LOCATION:Europe/London
BEGIN:DAYLIGHT
TZOFFSETFROM:+0000
TZOFFSETTO:+0100
TZNAME:BST
DTSTART:20150329T020000Z
RRULE:FREQ=YEARLY;BYMONTH=3;BYDAY=-1SU
END:DAYLIGHT
BEGIN:STANDARD
TZOFFSETFROM:+0100
TZOFFSETTO:+0000
TZNAME:GMT
DTSTART:20151025T020000Z
RRULE:FREQ=YEARLY;BYMONTH=10;BYDAY=-1SU
END:STANDARD
END:VTIMEZONE
BEGIN:VEVENT
SUMMARY:Развилки Дня
DTSTAMP:20150602T084726Z
SEQUENCE:0
UID:e68382ddf8868673be811e64adf41834@172.17.0.3
ORGANIZER;CN="ясмин джакмич":fai@fai.org.ru
DESCRIPTION:\n31 маяДо XIX века  
	  1223 — В битв
	е при Калке войска
	ми Субэдея разби
	то русско-полове
	цкое войско.\n  
	  1578\n       
	 Итальянск
	ий археоло
	г Антонио Бо
	сио обнаруж
	ил в Риме 
	древние х
	ристианск
	ие катако
	мбы.\n    
	    Англий
	ский иссле
	дователь Ма
	ртин Фробиш
	ер отправил
	ся в путешестви
	е\, которое привело
	 к открытию Гудзо
	нова пролива.XI
	X век    1815 — п
	ровозглашено с
	оздание Нидерл
	андского королевс
	тва.\n    1836 — в Англ
	ии запатентован
	 гребной винт.\n
	    1850 — от
	мена все
	общего и
	збиратель
	ного права во Ф
	ранции введение
	м цензового изб
	ирательного зак
	она.\n    1859 —
	 на Часовой б
	ашне Вестмин
	стерского дворц
	а в Лондоне запущены
	 часы\, ныне известн
	ые как Биг-Бен.\n    186
	2 — началось Сраже
	ние при Севен-Пайнс
	.\n    1868 — в окре
	стностях Парижа в п
	арке Сен-Клу прошл
	а первая в мире вел
	огонка.\n    187
	9 — в Берлин
	е открыла
	сь первая 
	в мире э
	лектричес
	кая желез
	ная дорог
	а и проде
	монстрир
	ован первый э
	лектропоезд\, с
	конструированный
	 Вернером фон Сим
	енсом.\n    1884
	 — америка
	нский врач
	\, пропага
	ндист веге
	тарианства Джон
	 Харви Келлог за
	патентовал кук
	урузные хлопья
	.\n    1891 — 
	во Владиво
	стоке торжеств
	енно заложена Т
	ранссибирская ма
	гистраль.XX век    1902 — О
	кончилась англо-бурская во
	йна (1899—1902 гг.).\n   
	 1918\n      
	  Поста
	новлени
	ем Нарко
	мпроса вве
	дено обязательно
	е совместное обуче
	ние школьников и школьни
	ц.\n    1924\n        Отк
	рытие XIII съезда
	 РКП(б).\n   
	     Закл
	ючено «Со
	глашение о
	б общих пр
	инципах д
	ля урегули
	рования во
	просов меж
	ду Союзом 
	ССР и Кит
	айской 
	республи
	кой». Между
	 странами у
	становлен
	ы нормальны
	е дипломати
	ческие\nотн
	ошения\, 
	лишены 
	силы зак
	лючённы
	е ранее ца
	рским пра
	вительств
	ом несправ
	едливые до
	говоры и со
	глашения\,
	 Китайск
	о-Восточн
	ая железна
	я дорога 
	преобраз
	ована в с
	овместное 
	коммерческ
	ое\nпредпри
	ятие с посл
	едующей пе
	редачей Ки
	таю. Это пе
	рвый равно
	правный д
	оговор Китая 
	с европейской с
	траной. Инициат
	ором такого согла
	шения ещё в 1919 
	году выступил 
	Лев Карахан\,\
	nзаместител
	ь наркома инос
	транных дел. Он же 
	стал первым сов
	етским полпредом в
	 Китае.\n    1935 — 
	Принято пост
	ановление СНК
	 СССР и ЦК ВКП
	(б) «О ликвидации
	 детской беспри
	зорности и без
	надзорности»\n
	    1937 — В Советс
	кую Россию верну
	лся писатель Але
	ксандр Куприн.\n
	    1941 — В Германии
	 готический шриф
	т заменён на лат
	инский.\n    194
	2 — В блокадно
	м Ленинграде прошё
	л футбольный матч м
	ежду Динамо и ЛМЗ.
	\n    1943 — В совет
	ских совхозах и
	 МТС ликвидир
	ованы политотделы
	.\n    1946 — Образован
	о самолётостроитель
	ное ОКБ О. К. Антоно
	ва.\n    1952 — Вступил 
	в строй Волго-Д
	онской судоход
	ный канал.\n  
	  1961 — Про
	возглашен
	ие независимост
	и Южно-Африканс
	кой Республики
	 от Великобрита
	нии.\n    1979 
	— Экспедиц
	ия «Комсомольско
	й правды» на лыжах
	 достигла Северного
	 полюса.\n    1983 — В К
	артахена де Индиас (К
	олумбия) в связи с 4
	50-летием основани
	я города и 200-л
	етием со д
	ня рождения С.
	 Боливара с
	остоялась в
	стреча мини
	стров иностран
	ных дел 23\nлатино
	американских и
	 карибских гос
	ударств.\n    
	1991 — Мини
	стерств
	о юстиции России
	 зарегистрировало устав Русской П
	равославной Церкви. \n
DTSTART;VALUE=DATE:20150530
END:VEVENT
END:VCALENDAR
