BEGIN:VCALENDAR
VERSION:2.0
PRODID:-//IP.Board Calendar 4.0.13.1//EN
METHOD:PUBLISH
CALSCALE:GREGORIAN
X-WR-CALNAME:В этот день в прошлом
BEGIN:VTIMEZONE
TZID:Europe/London
TZURL:http://tzurl.org/zoneinfo/Europe/London
X-LIC-LOCATION:Europe/London
BEGIN:DAYLIGHT
TZOFFSETFROM:+0000
TZOFFSETTO:+0100
TZNAME:BST
DTSTART:20150329T020000Z
RRULE:FREQ=YEARLY;BYMONTH=3;BYDAY=-1SU
END:DAYLIGHT
BEGIN:STANDARD
TZOFFSETFROM:+0100
TZOFFSETTO:+0000
TZNAME:GMT
DTSTART:20151025T020000Z
RRULE:FREQ=YEARLY;BYMONTH=10;BYDAY=-1SU
END:STANDARD
END:VTIMEZONE
BEGIN:VEVENT
SUMMARY:Развилки Дня
DTSTAMP:20150612T111017Z
SEQUENCE:0
UID:d56b7afe2bc6d07e30185f5fdbd1d73e@172.17.0.3
ORGANIZER;CN="ясмин джакмич":fai@fai.org.ru
DESCRIPTION:\n12 июня\nДо XIX ве
	ка    1665 — 
	североамерикан
	ский город Новый
	 Амстердам переиме
	нован в Нью-Йорк.\n  
	  1667 — придворный
	 врач Людовика 
	XIV Жан-Батист Де
	ни сделал перво
	е в мире успешное пе
	реливание крови 15-ле
	тнему мальчику.\n  
	  1668 — в Лунде (
	Швеция) основан 
	один из старейши
	х университетов
	 Европы.\n    177
	6 — Виргиния
	 стала первым ам
	ериканским штатом\, 
	принявшим Декларац
	ию о правах.XIX век
	\n    1815 — всл
	едствие ин
	триг банки
	ра Натана Р
	отшильда\,
	 лондонска
	я газета «М
	орнинг Кро
	никл» сообщ
	ила о победе
	 Наполеона при
	 Ватерлоо на н
	есколько дней р
	аньше сражения 
	(Ротшильд\,\nсыграв н
	а биржевой панике\, 
	скупил множество а
	кций).\n    1824 —
	 в Париже увид
	ела свет пер
	вая и единс
	твенная науч
	ная работа 2
	8-летнего ф
	ранцузско
	го военного
	 инженера и 
	физика Никола
	 Леонарда Сади 
	Карно «Размыш
	ления о движущей\
	nсиле огня и о машин
	ах\, способных ра
	звивать эту силу
	».\n    1849 — Льюисо
	м Хаслеттом запа
	тентован против
	огаз.\n    1867 — вступ
	ление в силу Австро-венгерского
	 компромиса\, Ausgleich/ kiegyez?
	s (нем. дословно - 
	компенсация\, 
	возмещение\, 
	уравнение\, вен
	г. компромисс) обр
	азована Австро-В
	енгерская импер
	ия.\n    1872 —
	 в Москве 
	открыта П
	ервая вс
	ероссийская 
	политехническа
	я выставка\, приу
	роченная к празд
	нованию 200-летия
	 со дня рождения
	 Петра I. Матери
	алы выставки
	 легли в основу\nс
	озданного в том ж
	е году Политехн
	ического музея
	.\n    1897 — К
	арл Элзенер за
	патентовал зн
	аменитый швей
	царский армейск
	ий нож.\n    1898 — п
	ровозглашение 
	независимости Ф
	илиппин.XX век    
	1901 — одобрена н
	овая конститу
	ция для Кубы\, 
	в соответств
	ии с которой 
	США получил
	и особые пра
	ва в этой с
	тране. Факти
	чески это о
	значало ус
	тановление 
	над Кубой 
	протектората\nС
	ША. Действие этой кон
	ституции было приоста
	новлено в 1925 году.\n
	    1909 — подн
	ялся в воздух пе
	рвый аэроплан с пи
	лотом и двумя пас
	сажирами\, «Блери
	о XII». На нём Лу
	и Блерио совер
	шил полёт вместе с
	 Альберто Сантос-
	Дюмоном и Андре
	 Фурнье.\n    192
	0 — официал
	ьное открыт
	ие Панамского кан
	ала (первое судно прошло
	 через канал в августе 
	1914 года).\n    1926 
	— Бразилия
	 покинула Лигу 
	Наций в знак проте
	ста против принят
	ия туда Германии.
	\n    1936\n     
	   На всенародно
	е обсуждение вынесен 
	проект Конституции 19
	36-го года.\n    19
	55 — в Якутии откры
	то первое крупно
	е месторождение 
	алмазов.\n    1967\
	n        Запущ
	ен космический
	 аппарат Венера
	-4\, впервые в мире
	 передавший данные о
	б атмосфере другой плане
	ты.\n    1972 — инцидент с DC-10 над Уин
	сором: на рейсе 96 American A
	irlines над канад
	ским штато
	м Онтарио 
	вылетела дв
	ерь грузово
	го отсека. 
	Самолёт полу
	чил серьёзны
	е повреждени
	я и\nчастичну
	ю потерю упра
	вления\, но смог 
	благополучно 
	приземлиться. 
	Никто не погиб
	.   1989 — пре
	дседатель
	 Президиум
	а Верховно
	го Совета С
	ССР Горбачёв
	 и канцлер За
	падной Герм
	ании Коль п
	одписали в 
	Бонне докум
	ент\, котор
	ый предостав
	ил всем евро
	пейским\nго
	сударствам
	 право самим 
	решать\, какая
	 политическая сист
	ема будет определяющ
	ей в их странах.\n   
	 1990\n        В 
	СССР закон
	ом «О печати
	 и других сре
	дствах массо
	вой информац
	ии» отменена 
	цензура.\n   
	     I Съез
	д народн
	ых депута
	тов РСФСР прин
	ял Декларацию о 
	государственном
	 суверенитете РСФ
	СР.\n    1991\n     
	   Борис Ель
	цин избран 
	Президент
	ом РСФСР.\n
	        
	На рефер
	ендуме 
	жители 
	Ленингр
	ада прог
	олосова
	ли за возвр
	ащение городу п
	ервоначального 
	названия — Санк
	т-Петербург.\n   
	 1994\n        
	Австрия реф
	ерендумом пр
	иняла решени
	е о вступлени
	и в Европейский 
	союз.\n       
	 Борис Ельци
	н своим указ
	ом придаёт 1
	2 июня го
	сударст
	венное з
	начение —
	 День принятия 
	декларации о 
	государствен
	ном суверенит
	ете России\n  
	  1999 — батал
	ьон россий
	ских десант
	ников совер
	шил марш-бро
	сок с базы ми
	ротворческих си
	л в Боснии и Герцеговин
	е на Косово\, преодолев б
	олее чем 600 км за 7\,5
	 часов\, и занял\nаэропорт «Слатина» р
	аньше войск НАТО. \n
DTSTART;VALUE=DATE:20150611
END:VEVENT
END:VCALENDAR
