BEGIN:VCALENDAR
VERSION:2.0
PRODID:-//IP.Board Calendar 4.0.13.1//EN
METHOD:PUBLISH
CALSCALE:GREGORIAN
X-WR-CALNAME:В этот день в прошлом
BEGIN:VTIMEZONE
TZID:Europe/London
TZURL:http://tzurl.org/zoneinfo/Europe/London
X-LIC-LOCATION:Europe/London
BEGIN:DAYLIGHT
TZOFFSETFROM:+0000
TZOFFSETTO:+0100
TZNAME:BST
DTSTART:20150329T020000Z
RRULE:FREQ=YEARLY;BYMONTH=3;BYDAY=-1SU
END:DAYLIGHT
BEGIN:STANDARD
TZOFFSETFROM:+0100
TZOFFSETTO:+0000
TZNAME:GMT
DTSTART:20151025T020000Z
RRULE:FREQ=YEARLY;BYMONTH=10;BYDAY=-1SU
END:STANDARD
END:VTIMEZONE
BEGIN:VEVENT
SUMMARY:Развилки Дня
DTSTAMP:20150615T075010Z
SEQUENCE:0
UID:b401ba4c9d8fbffa41f98634c540ba3e@172.17.0.3
ORGANIZER;CN="ясмин джакмич":fai@fai.org.ru
DESCRIPTION:\n15 июняДо X
	IX века3
	13 — в
	изант
	ийский
	 импер
	атор К
	онста
	нтин 
	объяв
	ил своб
	оду вер
	оиспов
	едания и п
	овелел ве
	рнуть хри
	стианам к
	онфискован
	ную у них 
	собстве
	нность.1
	215 — а
	нгли
	йским ко
	ролём Иоа
	нном Безз
	емельным
	 подписа
	на Велика
	я хартия в
	ольностей.130
	0 — в правител
	ьство Флоренции в
	ошёл поэт Данте Ал
	игьери.1389 (23 июня
	 нового стиля
	\, но принят
	о отмечать 
	28 июня) — бит
	ва на Косовом
	 поле между С
	ербией (армией 
	сербов\, болга
	р\, боснийцев и
	 хорватов) иТ
	урцией. Серб
	ская армия по
	терпела поражен
	ие\, её предвод
	итель\, князь 
	Лазарь — уби
	т\; в битве пал и
	 турецкий су
	лтан Мурад
	 I (убитый
	 Милошем Оби
	личем).1502 
	— Христ
	офор Кол
	умб отк
	рыл остр
	ов Марти
	ника.158
	0 — а
	нглий
	ская кр
	угосветна
	я экспедиц
	ия Фрэнсиса Д
	рейка обогнула
	 мыс Доброй Над
	ежды.1741 — Ве
	ликая Севе
	рная (2-я) 
	экспед
	иция на 
	Камчатку
	 под нача
	лом Витуса Бе
	ринга вышла 
	из Авачинск
	ой губы на
	 поиски 
	берегов
	 Америк
	и.1752
	 
	—
	 Б
	ен
	дж
	ам
	ин
	 Ф
	р
	а
	н
	к
	ли
	н в 
	экспе
	римен
	те с 
	воздушны
	м змеем д
	оказал элек
	трическую п
	рироду молни
	и.1763 — Екат
	ерина II изда
	ла манифест\
	, запрещающ
	ий произн
	есение необдум
	анных речей\, о
	пасных для об
	щественного спо
	койствия.XIX век182
	6 — Арканзас
	 принят в сос
	тав США как
	 25-й штат. 1
	844 — Чар
	льз Гудьир
	 запатенто
	вал способ 
	вулканизации 
	резины.1846 — Б
	ритания и СШ
	А подписали
	 Орегонски
	й договор\, по
	 которому гран
	ица между США 
	и Канадой у
	станавливала
	сь по 49-й пар
	аллели.1867 — в Ин
	дианаполисе американским
	 врачом Джоном Боббсом (Joh
	n Stough Bobbs) впервые
	 проведена у
	спешная операция по уд
	алению желчного камня.1869 —
	 Джон Хайат (John Wesley H
	yatt) в Олбани (шта
	т Нью-Йорк) за
	патентовал ц
	еллулоид.18
	78 — в США
	 по иниц
	иативе 
	губернат
	ора Калиф
	орнии Лел
	анда Стен
	форда (спо
	нсора уни
	верситет
	а имени ег
	о самого)
	 Эдвард 
	Майбридж
	 проводит зн
	аменитый эк
	сперимент с
	 целью изуч
	ения движени
	я лошади (12 фо
	токамер однов
	ременно зафикси
	ровали один кад
	р с тем\, чтобы о
	пределить\, в
	се ли четыре 
	копыта отры
	ваются от з
	емли при лоша
	дином галопе). 
	Считается отпра
	вной датой зарожд
	ения киноXX век1907
	 — начала свою
	 работу II мир
	ная конференц
	ия в Гааге\, в к
	оторой принял
	и участие пред
	ставители 44 стра
	н. Её созыв вн
	овь был предпр
	инят по инициативе России.
	1911 — в США основана компания «Computing-Tabul
	ating-Recording Company»\, известная
	 сегодня под
	 именем IBM
	.1918 — Осма
	нская им
	перия у
	строила 
	геноцид п
	ротив курд
	ов-езидов
	.1920При
	нят
	а к
	онс
	тит
	уци
	я Э
	стон
	ской
	 Рес
	пуб
	лики.П
	о резул
	ьтатам
	 плебис
	цита Гер
	мания пер
	едала Северны
	й Шлезвиг Дани
	и.1924 — компания 
	«Форд» произвела 
	свой 10-миллионны
	й автомобиль.
	1931 — ЦК ВК
	П(б) прин
	ял Поста
	новлени
	е о стр
	оитель
	стве м
	осковско
	го метроп
	олитена. 
	Первая ли
	ния «Сокол
	ьники» — «
	Парк культуры» (н
	ыне Сокольническая\
	, Красная ветка) от
	крылась в мае 193
	5 года.1933 — 
	Англия вы
	платила по
	следнюю си
	мволическую
	 сумму в счёт по
	гашения долго
	в перед США в
	ремён Перво
	й мировой вой
	ны.1941 — Хо Ши
	 Мин создал 
	Вьетнамскую 
	независимую 
	лигу (Вьетминь)
	\, призвав к
	 освобожд
	ению страны 
	от колониализ
	ма.1942 — ко
	ролевский эс
	кадренный мино
	носец «Hasty» был п
	отоплен торпе
	дным катером S-
	55 в Средиземно
	м море.1945Венг
	рия обязала
	сь поставить
	 в СССР това
	ры в возмещ
	ение ущерба
	\, нанесённо
	го военным
	и действиями
	 венгров пр
	отив СССР.В
	 Англии рас
	пущен военный 
	парламент\, 
	просуществовав
	ший девять с по
	ловиной лет.1
	954 — учреж
	дение УЕФА.19
	56 — впервые 
	встретились
	 Джон Леннон
	 и Пол Макка
	ртни.1958 — в СС
	СР была заложен
	а принципиально 
	новая подводная 
	лодка К-27.1963 — К
	итай обвини
	л СССР в «и
	змене ми
	ровой ре
	волюции».
	1978 — запуще
	н советский 
	пилотируемый 
	космический ко
	рабль «Союз-29
	».1984 — в С
	ССР официаль
	но утверждён
	 новый всенар
	одный праздн
	ик — День зна
	ний.1985В Эрми
	таже обл
	ита сер
	ной кис
	лотой 
	картин
	а Ремб
	рандта
	 «Даная
	».Для 
	управ
	ления 
	Намибией 
	Южная Афри
	ка создаёт
	 администрац
	ию из предста
	вителей всех
	 рас\, сохран
	яя контроль над внешней политик
	ой и обороной этой территории. \n
DTSTART;VALUE=DATE:20150614
END:VEVENT
END:VCALENDAR
