BEGIN:VCALENDAR
VERSION:2.0
PRODID:-//IP.Board Calendar 4.0.13.1//EN
METHOD:PUBLISH
CALSCALE:GREGORIAN
X-WR-CALNAME:В этот день в прошлом
BEGIN:VTIMEZONE
TZID:Europe/London
TZURL:http://tzurl.org/zoneinfo/Europe/London
X-LIC-LOCATION:Europe/London
BEGIN:DAYLIGHT
TZOFFSETFROM:+0000
TZOFFSETTO:+0100
TZNAME:BST
DTSTART:20150329T020000Z
RRULE:FREQ=YEARLY;BYMONTH=3;BYDAY=-1SU
END:DAYLIGHT
BEGIN:STANDARD
TZOFFSETFROM:+0100
TZOFFSETTO:+0000
TZNAME:GMT
DTSTART:20151025T020000Z
RRULE:FREQ=YEARLY;BYMONTH=10;BYDAY=-1SU
END:STANDARD
END:VTIMEZONE
BEGIN:VEVENT
SUMMARY:Развилки Дня
DTSTAMP:20150615T075741Z
SEQUENCE:0
UID:1c5c2d4677a338ce9c729a5496ab2ba2@172.17.0.3
ORGANIZER;CN="ясмин джакмич":fai@fai.org.ru
DESCRIPTION:\n14 июня17
	77 — В
	торой
	 конт
	иненталь
	ный конгрес
	с принял звёз
	дно-полосатый ф
	лаг США (первоначал
	ьно 13 звёзд и 13 кра
	сных и белых по
	лос)1783 — на 
	западном 
	берегу Ю
	жной бухты
	 были залож
	ены первые
	 каменные 
	постройки го
	рода Севастоп
	оль\, эта дата
	 считается 
	днем основ
	ания горо
	да1797 — 
	после
	 французс
	кого заво
	евания п
	ровозгла
	шено соз
	дание Лиг
	урийской 
	республик
	и.1800 — В К
	аире му
	сульманс
	ким фанат
	иком убит на
	полеоновск
	ий генерал
	\, губернатор 
	Египта Жан-
	Батист Клеб
	ер1807 — сра
	жение по
	д Фридлан
	дом.1846 —
	 Посел
	енцы 
	Сакрамен
	то (Калиф
	орния) пр
	овозглас
	или незав
	исимую от 
	Мексики рес
	публику\, на
	чав «револ
	юцию Чёрного 
	Медведя»\, кот
	орая привел
	а к присое
	динению Кал
	ифорнии к США
	.1859 — Прис
	оединени
	е Чечни к
	 Российск
	ой империи
	.1891 — Сос
	тоялась за
	кладка Вел
	икой Сибирс
	кой железно
	дорожной ма
	гистрали.1898 —
	 В России впервые зак
	онодательно огран
	ичен рабочий день
	 (11\,5 часов).1900 
	— Гавайс
	кие остров
	а объявлен
	ы территорие
	й США.1905 —
	 Началось во
	сстание на 
	русском брон
	еносце «Княз
	ь Потёмкин Та
	врический».19
	12 — В Лионе (
	Франция) мес
	тные власти
	 запретили 
	показ любых ф
	ильмов\, в 
	которых 
	показыв
	аются уг
	оловные 
	преступл
	ения.1918
	 — Донск
	ие и кубан
	ские казак
	и заключи
	ли договор
	 о сотрудн
	ичестве.
	1919 — П
	ринят
	ие Кон
	ститу
	ции Венгер
	ской Советс
	кой Респуб
	лики Первы
	м венгерски
	м съездом Со
	ветов.1920
	 — На 
	малом СНК 
	утверждает
	ся секретно
	е положение о
	 «Совнарком
	овском пайк
	е».1921 — Анг
	лийский м
	инистр по
	 делам к
	олоний
	 Уинст
	он Черч
	илль объ
	явил\, ч
	то анг
	лийск
	ая админис
	трация Ме
	сопотамии
	 будет заме
	нена на ар
	абское п
	равител
	ьство.1
	939 — В С
	ССР объ
	явлено о
	 противор
	ечии гене
	тики марк
	систской д
	иалектике.1
	941 — Массо
	вые аресты
	 и депортация 
	советскими 
	властями жит
	елей Латвии\
	, Литвы\, Эс
	тонии.1951 — В Ва
	шингтоне поступил в
	 продажу первый комп
	ьютер — «UNIVAC 1».
	1954 — По все
	м США про
	ведено те
	стировани
	е американск
	их граждан на 
	знания правил
	 поведения во
	 время атомн
	ой атаки.1956 —
	 Английски
	е войска 
	покинули
	 зону Суэцког
	о канала. 26
	 июля Е
	гипет 
	национа
	лизирова
	л Суэцки
	й канал.1
	963 — Запущ
	ен советс
	кий пилоти
	руемый косм
	ический ко
	рабль «Вост
	ок-5».1964 —
	 на Гаит
	и был орг
	анизован 
	всенародн
	ый плебис
	цит. На бю
	ллетеня
	х напеч
	атали д
	екрет\
	, провоз
	глашающ
	ий през
	идента Фр
	ансуа Дюваль
	е пожизненны
	м президентом.
	 На вопрос «Со
	гласны ли вы?» т
	ут же крупными 
	буквами был напе
	чатан ответ «Да».
	 Тот\, кто хотел ска
	зать «нет»\, дол
	жен был вписать
	 это от руки\, а
	 это означал
	о стать жер
	твой пресл
	едования.1
	966 — Рим
	ская курия об
	ъявила о прекращении изда
	ния официального перечня книг («Index
	 librorum prohibitorum»)\, чтени
	е которых 
	запрещено
	 под угрозой отл
	учения от католи
	ческой церкви. 
	Перечень издав
	ался с 1559.196
	9 — В СССР
	 объявлено
	 чрезвычайн
	ое положение 
	в сельском хоз
	яйстве\, всё 
	население 
	призвано сп
	асти урожай
	.1973 — Про
	изошло 
	столкно
	вение гвар
	дейской ато
	мной ракетной п
	одводной лодки
	 Тихоокеанского
	 флота K-56 прое
	кта 675 с науч
	но-исследова
	тельским суд
	ном «Академик
	 Берг».1985 — 
	В Шенгене
	 (Люксембу
	рг) был под
	писан дог
	овор межд
	у пятью е
	вропейски
	ми государст
	вами\, получив
	ший названи
	е «Шенгенског
	о соглашения».
	1995 — Банда\, воз
	главляемая Шам
	илем Басаевым\
	, захватила бо
	лее 1600 зал
	ожников 
	в больнице го
	рода Будённовск (см. Террористический
	 акт в Будённовске). \n
DTSTART;VALUE=DATE:20150613
END:VEVENT
END:VCALENDAR
