BEGIN:VCALENDAR
VERSION:2.0
PRODID:-//IP.Board Calendar 4.0.13.1//EN
METHOD:PUBLISH
CALSCALE:GREGORIAN
X-WR-CALNAME:В этот день в прошлом
BEGIN:VTIMEZONE
TZID:Europe/London
TZURL:http://tzurl.org/zoneinfo/Europe/London
X-LIC-LOCATION:Europe/London
BEGIN:DAYLIGHT
TZOFFSETFROM:+0000
TZOFFSETTO:+0100
TZNAME:BST
DTSTART:20150329T020000Z
RRULE:FREQ=YEARLY;BYMONTH=3;BYDAY=-1SU
END:DAYLIGHT
BEGIN:STANDARD
TZOFFSETFROM:+0100
TZOFFSETTO:+0000
TZNAME:GMT
DTSTART:20151025T020000Z
RRULE:FREQ=YEARLY;BYMONTH=10;BYDAY=-1SU
END:STANDARD
END:VTIMEZONE
BEGIN:VEVENT
SUMMARY:Развилки Дня
DTSTAMP:20150615T080705Z
SEQUENCE:0
UID:65e848cdf6dbf363e8ff866bc7c6717d@172.17.0.3
ORGANIZER;CN="ясмин джакмич":fai@fai.org.ru
DESCRIPTION:\n13 июняДо XIX
	 века922
	 — в 
	Волжс
	кой Бу
	лгари
	и про
	шла це
	ремония 
	официаль
	ного при
	нятия И
	слама в
	 качеств
	е госуд
	арствен
	ной рели
	гии.1373 —
	 Англия
	 и Португ
	алия подписали
	 Вестминстерски
	й договор о со
	юзе (старейший
	 в мире).1625
	 — сост
	оялся брак
	 короля А
	нглии Карла I 
	Стюарта и Ген
	риетты Марии де Б
	урбон\, дочери Г
	енриха IV\, ко
	роля Фран
	ции.1655 —
	 в ходе В
	торой а
	нгло-го
	лландск
	ой войны
	 произо
	шло Лоус
	тофтское 
	сражение\
	, окончившее
	ся поражен
	ием флота
	 Республи
	ки Соедин
	ённых Про
	винций.178
	2 — в Ш
	вейцарии 
	зафиксиров
	ан последни
	й известный 
	случай каз
	ни за колд
	овство\, 
	когда ос
	ужденный
	 привлек
	ался к о
	тветственн
	ости сформу
	лировкой вед
	ьма  - казнена 
	служанка Анна Г
	ельдиXIX век[пр
	авить | прави
	ть вики-текс
	т]1837 — цесаре
	вич Александ
	р Николаевич (
	будущий импер
	атор Александр
	 II) вступил в 
	пределы Сиби
	ри\, став пер
	вым правит
	елем в современ
	ной истории Р
	оссии\, посе
	тившим Сиб
	ирь. Достигну
	в 3 (15) июня 
	Тобольска —
	 конечной точ
	ки путешестви
	я в Азии\, насле
	дник со сви
	той на следу
	ющий день 
	повернули 
	обратно. 1
	843 — Ман
	ифест Н
	иколая I
	 о зам
	ене ассигн
	аций и дру
	гих бумажн
	ых денежны
	х знаков к
	редитными биле
	тами.1860 — уч
	реждение Г
	осударстве
	нного банк
	а России.
	1892 — в Ки
	еве пуще
	н первый 
	в Российс
	кой империи эл
	ектрический тр
	амвай.XX век[пра
	вить | править
	 вики-текст]1
	909 — русская 
	Дума приня
	ла закон о
	б усилен
	ии русиф
	икации Ф
	инляндии.1
	912 — в 
	Москве
	 торжеств
	енно открыт Му
	зей изящных ис
	кусств имени имп
	ератора Алексан
	дра III\, ныне П
	ушкинский 
	музей1917 
	— прово
	зглашени
	е «автоно
	мной Укр
	аины». Укр
	аинская Ц
	ентральная Ра
	да учредила Г
	енеральный 
	секретариа
	т\, назнача
	емый Радо
	й.1921 —
	 эсер
	 Бор
	ис Са
	винко
	в в Ва
	ршаве 
	воссозда
	л деятельно
	сть антисове
	тского «Наро
	дного союза
	 защиты Роди
	ны и свобод
	ы».1924 — С
	НК РСФСР п
	ринял поста
	новление «
	Об организ
	ации кинод
	ела в РСФС
	Р». Созд
	ано «Со
	вкино».
	 Идеол
	огически
	е функции
	 передава
	лись респу
	бликанским 
	наркоматам 
	просвещения\, м
	онополию на 
	прокат карт
	ин брало н
	а себя госу
	дарство.19
	34В Венец
	ии состо
	ялась вст
	реча Гитл
	ера и Муссоли
	ни\, фюрер про
	извел на ду
	че неприя
	тного впе
	чатление: 
	\"Этот назо
	йливый че
	ловек… э
	тот Гитле
	р — сущес
	тво свирепое
	 и жестокое. 
	Он застав
	ляет вспо
	мнить Атти
	лу. Герман
	ия так и о
	сталась со вр
	емён Тацита
	 страной ва
	рваров. Она
	 — извечны
	й враг Рима\
	" 1942 — п
	резиден
	т США Ф
	ранклин
	 Рузвел
	ьт прин
	ял реше
	ние о созда
	нии Управл
	ения страт
	егических
	 служб — 
	позже ста
	вшего ЦРУ.1
	944Первое
	 боевое
	 примен
	ение ге
	рмански
	х крылат
	ых ракет 
	Фау-1 (п
	ротив Ве
	ликобрита
	нии).Прези
	дент Амер
	иканской
	 медицин
	ской ас
	социаци
	и Г. Крет
	чмер о
	судил 
	повсемест
	ное испол
	ьзование
	 витаминов
	 как дорого
	е и бесполе
	зное занятие.1
	948 — Бирма
	 объявила 
	о начале ст
	роительств
	а коммунизм
	а.1955 — в 
	СССР оп
	убликов
	ано сооб
	щение 
	об от
	крыти
	и ста
	вшего
	 знамени
	тым место
	рождения 
	алмазов в
	 Якутии —
	 кимберлит
	овой трубки
	 «Мир».1958
	 — заработал первый китайс
	кий экспериментальный ядерный реактор.
DTSTART;VALUE=DATE:20150612
END:VEVENT
END:VCALENDAR
