BEGIN:VCALENDAR
VERSION:2.0
PRODID:-//IP.Board Calendar 4.0.13.1//EN
METHOD:PUBLISH
CALSCALE:GREGORIAN
X-WR-CALNAME:В этот день в прошлом
BEGIN:VTIMEZONE
TZID:Europe/London
TZURL:http://tzurl.org/zoneinfo/Europe/London
X-LIC-LOCATION:Europe/London
BEGIN:DAYLIGHT
TZOFFSETFROM:+0000
TZOFFSETTO:+0100
TZNAME:BST
DTSTART:20150329T020000Z
RRULE:FREQ=YEARLY;BYMONTH=3;BYDAY=-1SU
END:DAYLIGHT
BEGIN:STANDARD
TZOFFSETFROM:+0100
TZOFFSETTO:+0000
TZNAME:GMT
DTSTART:20151025T020000Z
RRULE:FREQ=YEARLY;BYMONTH=10;BYDAY=-1SU
END:STANDARD
END:VTIMEZONE
BEGIN:VEVENT
SUMMARY:Развилки Дня
DTSTAMP:20150615T081438Z
SEQUENCE:0
UID:8683121f0eea1dd8627ad3e7819d04e6@172.17.0.3
ORGANIZER;CN="ясмин джакмич":fai@fai.org.ru
DESCRIPTION:\n11 июняДо XIX
	 века1125
	 — крес
	тоносцы 
	одержали 
	победу на
	д сельджу
	ками в бит
	ве при Азазе.
	1496 — Христ
	офор Колум
	б заверши
	л своё вт
	орое путеш
	ествие\, посл
	е чего попал 
	в немилость и
	спанской королев
	ы из-за того\, чт
	о так и не н
	ашёл путь
	 в Китай.
	1742 — 
	Бенджа
	мин Фр
	анклин
	 изобрё
	л кухон
	ную плит
	у с повыш
	енной теп
	лопроводн
	остью\, изве
	стную как 
	пенсильванск
	ий камин. Из
	обретение 
	однако не был
	о им запате
	нтовано174
	2 — в Б
	реслау
	 подпис
	ан договор
	\, по кото
	рому А
	встрия
	 призна
	ла права
	 Пруссии
	 на Силе
	зию. 1770
	 — Дже
	ймс Кук 
	открыл 
	Большой Б
	арьерный ри
	ф у побереж
	ья Австрали
	и\, буквально
	 натолкнувши
	сь на него17
	76 — Конти
	нентальн
	ый Конгресс с
	оздал комитет д
	ля написания Дек
	ларации о незав
	исимости.XIX век1
	842 — вышла в с
	вет поэма Н
	иколая Гогол
	я «Мёртвые души»
	.1898 — в Китае объ
	явлено начало
	 «ста дней реф
	орм».XX век19
	18 — каза
	хское н
	ационал
	ьное дви
	жение «
	Алаш» 
	объяв
	ило незако
	нными все
	 декреты 
	Советской
	 власти на
	 территории
	 Казахстана.
	1926 — прави
	тельство
	 Англии вы
	разило проте
	ст в связи с
	 финансиро
	ванием из 
	СССР забас
	товок в Бри
	тании.1930
	 — аме
	риканс
	кий зо
	олог 
	Уильям
	 Биб и 
	инженер О
	тис Бартон на 
	построенной ими ба
	тисфере опускаются 
	под воду на 400 м19
	37 — в ночь 
	на 12 июн
	я по «Д
	елу Туха
	чевского»
	 расстреляны
	 советские вое
	начальники М. Н. 
	Тухачевский\, И. Э. 
	Якир\, И. П. Уборев
	ич\, А. И. Корк\, 
	и др.1955 — Са
	мая большая а
	вария в автоспорт
	е — 84 погибших (
	пилот Пьер Лев
	ег и 83 зрител
	я).1965 — а
	нглий
	ская к
	оролев
	а Елизавета 
	наградила орденом Б
	ританской империи м
	узыкантов группы The
	 Beatles.1973 — в 
	Ливии объя
	влено о нац
	ионализации
	 американски
	х нефтяных компан
	ий.1975 — добыта
	 первая нефт
	ь в Северн
	ом море.1
	982 — на 
	экраны 
	США выше
	л фильм 
	Стивена Сп
	илберга «И
	нопланетянин
	». Важная веха 
	в истории ки
	нофантастик
	и - Впервые з
	а много лет
	 на большо
	м экране и
	нопланетянин
	 изображен не
	 угрожающим ж
	изни землян 
	захватчиком
	\, 1991 — принят
	ие Деклара
	ции о госу
	дарственн
	ом сувере
	нитете РС
	ФСР.1992
	 — в Рос
	сии приня
	та государс
	твенная про
	грамма вауч
	ерной приват
	изации.1993 
	— на экр
	аны США 
	вышел ф
	ильм Сти
	вена Спи
	лберга по
	 роману Ма
	йкла Кра
	йтона «
	Парк юрс
	кого пе
	риода»\, считается в
	ехой в использовании компьютерных спе
	цэффектов 
DTSTART;VALUE=DATE:20150610
END:VEVENT
END:VCALENDAR
