BEGIN:VCALENDAR
VERSION:2.0
PRODID:-//IP.Board Calendar 4.0.13.1//EN
METHOD:PUBLISH
CALSCALE:GREGORIAN
X-WR-CALNAME:В этот день в прошлом
BEGIN:VTIMEZONE
TZID:Europe/London
TZURL:http://tzurl.org/zoneinfo/Europe/London
X-LIC-LOCATION:Europe/London
BEGIN:DAYLIGHT
TZOFFSETFROM:+0000
TZOFFSETTO:+0100
TZNAME:BST
DTSTART:20150329T020000Z
RRULE:FREQ=YEARLY;BYMONTH=3;BYDAY=-1SU
END:DAYLIGHT
BEGIN:STANDARD
TZOFFSETFROM:+0100
TZOFFSETTO:+0000
TZNAME:GMT
DTSTART:20151025T020000Z
RRULE:FREQ=YEARLY;BYMONTH=10;BYDAY=-1SU
END:STANDARD
END:VTIMEZONE
BEGIN:VEVENT
SUMMARY:Развилки Дня
DTSTAMP:20150615T082955Z
SEQUENCE:0
UID:8c463c287466dadb76d5c57fb36e5f8c@172.17.0.3
ORGANIZER;CN="ясмин джакмич":fai@fai.org.ru
DESCRIPTION:\n9 июняДо XIX 
	века53 — св
	адьба Неро
	на и Клавди
	и Октавии\,
	 дочери К
	лавдия.124
	7 — ита
	льянск
	ий путе
	шестве
	нник фр
	анцисканс
	кий монах 
	Джованни да
	 Плано Карп
	ини вернулс
	я в Киев пос
	ле того\, ка
	к первым из е
	вропейцев 
	достиг ст
	олицы монго
	льской империи 
	Каракорума.153
	4 — Жак Карть
	е открыл рек
	у Св. Лавренти
	я.1719 — Пёт
	р I пров
	ел вто
	рой э
	тап 
	адм
	инист
	ративно
	й рефор
	мы\, по
	делив
	 росс
	ийские
	 губерн
	ии на п
	ровинции и у
	езды.1762 — Р
	оссийская 
	империя з
	аключила союз 
	с Пруссией.1793 
	— запрещён в
	воз рабов в 
	Верхнюю Кана
	ду.XIX век1822 — 
	в США Чарль
	з Грэм запат
	ентовал искусст
	венную челюсть.18
	26 — А. С. Пушки
	н писал Вяземс
	кому «Я\, конеч
	но\, презираю о
	течество мое 
	с головы до но
	г — но мне доса
	дно\, если ин
	остранец ра
	зделяет со 
	мною это чувс
	тво»1850 — в
	о Франции з
	апрещены клу
	бы и публичные
	 митинги.1862 — 
	Гражданская в
	ойна в США: Сра
	жение при Порт-
	Репаблик.1863 — Г
	ражданская во
	йна в США: б
	итва у ста
	нции Бренди
	.1883 — тор
	жествен
	ное отк
	рытие Исто
	рического музе
	я в Москве\, е
	го строитель
	ство продолж
	алось 10 лет.
	1885 — Кита
	й призна
	л францу
	зский пр
	отектор
	ат над И
	ндокита
	ем.1889 — на
	 месте 
	сожжения
	 Джордано
	 Бруно в Р
	име ему от
	крыт памя
	тник.1896 — т
	оржествен
	ное открыт
	ие самой к
	рупной до
	революци
	онной XVI
	 Всеросс
	ийской про
	мышленной 
	и художеств
	енной выста
	вки в Нижн
	ем Новгороде
	.1898 — Англия 
	получила от Китая 
	территорию Гонко
	нга в аренду сроком 
	на 99 лет.XX век1923
	 — военный
	 переворот в
	 Болгарии.1
	941 — в Т
	ретьем 
	рейхе 
	создан штаб
	 «Восток» 
	для эксплу
	атации окк
	упированны
	х территорий
	 СССР.1945 — 
	учреждение 
	медалей ССС
	Р «За взятие 
	Берлина»\, «
	За взятие Буд
	апешта»\, «З
	а взятие Вен
	ы»\, «За вз
	ятие Кёни
	гсберга»\, 
	«За освобо
	ждение Белгра
	да»\, «За осв
	обождение В
	аршавы»\, «
	За освобожд
	ение Праги».1
	957 — Броуд-пи
	к покорён ав
	стрийской экспедиц
	ией (взошло 4 альпи
	ниста\, в том чис
	ле Герман Буль
	).1959 — на во
	ду спущен
	а первая
	 подводн
	ая лодка
	 с баллисти
	ческими р
	акетами н
	а борту 
	— америк
	анская «Д
	жордж Ва
	шингтон».196
	3 — Уинс
	тон Черч
	илль объ
	явлен по
	чётным г
	ражданином 
	США.1967 — Раз
	рыв СССР д
	ипломатичес
	ких отношен
	ий с Израил
	ем.1986 — в 
	ходе виз
	ита в Вен
	грию Мих
	аил Горбачёв 
	выдвинул лоз
	унг «Больше
	 демократии
	\, больше с
	оциализ
	ма».1995
	 — 
	в С
	очи
	 пре
	зиде
	нт Ук
	раины 
	Леонид
	 Кучма
	 и пр
	езиде
	нт России
	 Борис Ельц
	ин подписал
	и договор о 
	разделе Чер
	номорского ф
	лота.1997 — 
	на базе 
	каналов
	 МТК и ориг
	инального 2х2 с
	озданы каналы Т
	В Центр (сущест
	вует поныне ка
	к \"3-й канал\
	" московс
	кой сетки веща
	ния и Московия 
	(интегрирован в телеканал «ТВ 
	Центр» в 2012 году из-за убыточности)
DTSTART;VALUE=DATE:20150608
END:VEVENT
END:VCALENDAR
