BEGIN:VCALENDAR
VERSION:2.0
PRODID:-//IP.Board Calendar 4.0.13.1//EN
METHOD:PUBLISH
CALSCALE:GREGORIAN
X-WR-CALNAME:В этот день в прошлом
BEGIN:VTIMEZONE
TZID:Europe/London
TZURL:http://tzurl.org/zoneinfo/Europe/London
X-LIC-LOCATION:Europe/London
BEGIN:DAYLIGHT
TZOFFSETFROM:+0000
TZOFFSETTO:+0100
TZNAME:BST
DTSTART:20150329T020000Z
RRULE:FREQ=YEARLY;BYMONTH=3;BYDAY=-1SU
END:DAYLIGHT
BEGIN:STANDARD
TZOFFSETFROM:+0100
TZOFFSETTO:+0000
TZNAME:GMT
DTSTART:20151025T020000Z
RRULE:FREQ=YEARLY;BYMONTH=10;BYDAY=-1SU
END:STANDARD
END:VTIMEZONE
BEGIN:VEVENT
SUMMARY:Развилки Дня
DTSTAMP:20150615T083745Z
SEQUENCE:0
UID:47364b70c30c1dd982521ff0d895ee8c@172.17.0.3
ORGANIZER;CN="ясмин джакмич":fai@fai.org.ru
DESCRIPTION:\n8 июняДо XIX век
	а218 — Бит
	ва при А
	нтиохии\
	, между 
	войскам
	и импер
	атора М
	акрина 
	и сторонни
	ками прет
	ендента н
	а престо
	л\, чет
	ырнадца
	тилетнего
	 Гелиогаб
	ала\, зако
	нчившаяся
	 победой л
	егионов п
	оследних.1
	509 — кап
	итулир
	овала П
	иза\, о
	сажд
	ённая
	 войск
	ами Ф
	лорен
	тийской р
	еспублики
	. Пизанск
	ая респуб
	лика пре
	кратила с
	воё сущес
	твование.
	1648 — пис
	ьмо Богд
	ана Хмел
	ьницкого
	 русском
	у царю Ал
	ексею М
	ихайло
	вичу с 
	просьбой о
	 принятии
	 Войска З
	апорожск
	ого в подда
	нство Русск
	ого царства.1
	701 — Петр
	ом I прин
	имается 
	Указ\, по
	ложивший н
	ачало соз
	данию госу
	дарственно
	й системы с
	оциальной 
	защиты\, «
	Об определ
	ении в домо
	вых Святейше
	го Патриархат
	а богадельни н
	ищих\, больны
	х и престар
	елых». По у
	казу Петра
	 «для десяти
	 человек боль
	ных — в бога
	дельне должен 
	быть один здор
	овый\, который б
	ы за теми больн
	ыми ходил и в
	сякое им вс
	поможение ч
	инил».1735 — рус
	ский вспомога
	тельный корпу
	с выступил в 
	поход на Рейн
	.1776 — в ходе
	 Войны за н
	езависимо
	сть США п
	роизошла б
	итва при 
	Труа-Рив
	ьер1783 — 
	вулкан 
	Лаки в И
	сландии н
	ачал своё 
	восьмимес
	ячное извер
	жение\, кото
	рое оказалос
	ь самым крупным ла
	вовым извержением в и
	стории. Погибло около 
	10.000 тысяч человек 
	(20% населения
	 Исландии).
	 Период после
	довавший за
	 извержение
	м известен
	 как бедст
	вия в тума
	не. 1794 
	— в Па
	риже н
	а Марсо
	вом пол
	е состо
	ялся пу
	бличный 
	обществе
	нный пра
	здник в че
	сть Культа Вер
	ховного Сущес
	тва где с реч
	ью выступил Р
	обеспьер.XIX
	 век1815 
	— Ре
	шени
	ем В
	енск
	ого к
	онгр
	есса
	 бо?л
	ьшая
	 час
	ть 
	Герц
	огст
	ва Ва
	ршавског
	о переда
	на Росси
	йской им
	перии п
	од назв
	анием 
	Царство
	 Польское.18
	24 — Ной 
	Кашинг 
	из Квеб
	ека зап
	атентова
	л стираль
	ную машину
	.1843 — на
	чало стро
	ительств
	а Николае
	вской желе
	зной дороги (
	линия Петербур
	г-Москва\, ныне
	 Октябрьская 
	железная дор
	ога).1861 —
	 на рефе
	рендуме
	 две трети 
	избирателе
	й штата Тен
	несси прогол
	осовали за в
	ыход из США.
	1862 — в ходе 
	Гражданско
	й войны в С
	ША произошло С
	ражение при Кросс
	-Кейс\, закончив
	шееся победой южа
	н.XX век1912 — в Лос-Андж
	елесе учреждена ки
	ностудия «Universal»
	.1920 — обра
	зована Каре
	льская тру
	довая комм
	уна (авто
	номное о
	бластное об
	ъединение)\,
	 предшест
	венница ны
	нешней Рес
	публики Карелия
	.1922 — начало в
	 Москве проц
	есса по делу
	 правых эсеров.
	1928 - Совершён
	 первый ави
	аперелёт и
	з США в А
	встралию.1
	930 — в 
	результ
	ате дво
	рцового пе
	реворота в
	 Румынии м
	алолетний ко
	роль Михай I б
	ыл свергнут\, 
	а на освободи
	вишийся трон п
	од именем Кар
	оля II воссел
	 его непуте
	вый отец.1
	934 — в 
	СССР в
	водитс
	я уголов
	ная отв
	етственн
	ость род
	ственник
	ов подсу
	димых за
	 «недон
	есение» о
	 состоявш
	емся или
	 планиру
	емом «го
	сударств
	енном прес
	туплении».
	 В число госуд
	арственных пр
	еступлений в
	несён побег за гр
	аницу СССР.1940Об
	ъявлено об о
	ткрытии неп
	туния\, 93 э
	лемент
	а в таб
	лице 
	пери
	одич
	ески
	х элем
	ентов
	.В Нор
	вежско
	м море 
	германски
	е линейные 
	крейсеры «Ш
	арнхорст» и
	 «Гнейзена
	у» в ходе о
	перации \
	"Джуно\"
	 унич
	тожили
	 британс
	кий авиан
	осец«Глориес
	» и два сопро
	вождавших е
	го эсминца (Акас
	та и Ардент). В э
	том сражении 
	англичане потер
	яли 1519 человек уб
	итыми и пропавши
	ми без вести\, спа
	сено было толь
	ко 40 моряко
	в. Это бы
	л первы
	й в ис
	тории сл
	учай сто
	лкновени
	я линкора
	 с авианос
	цем и ставший 
	единственный\, 
	в котором пер
	вый одержал
	 уверенную
	 победу. 28
	3-мм снаряд с 
	«Шарнхорста
	» поразил ави
	аносец «Глориес
	» с дистанции 24 
	175 метров — самы
	й меткий выстр
	ел за всю историю
	 войны на море\,
	 это было дос
	тигнуто несмот
	ря на то\, что оба 
	корабля шли со скорос
	тью более 31 узла (
	примерно 57.5 км/ч
	).1948 — под 
	руководс
	твом Курч
	атова в Ч
	елябинске-
	40 (ныне 
	Озерск)
	 осуще
	ствляется 
	пуск перв
	ого отечес
	твенного про
	мышленного яде
	рного реактора.1949
	 — в Лондоне (а спу
	стя 5 дней и в Нью-Й
	орке) тиражом 25 500 
	экземпляров вышел в свет роман
	 Джорджа Оруэлла (George Orw
	ell) «1984».1967 — 
	в ходе
	 Шестид
	невной 
	войны и
	зраильск
	ими истр
	ебителями
	 и торпедн
	ыми катера
	ми в межд
	ународных в
	одах Средизе
	много моря а
	таковано су
	дно ВМС СШ
	А «Либерт
	и»1972 — на эк
	раны вышел
	 фильм Леон
	ида Гайдая «
	Двенадцать сту
	льев».1988 — п
	ринятие за
	кона «О к
	оопераци
	и в СССР
	» (начало ле
	гализаци
	и частной
	 деятель
	ности — 
	второй эт
	ап перес
	тройки).
	1990 — 
	росси
	йский
	 парл
	амент
	 проголо
	совал за приоритет росси
	йских законов над законодательством СС
	СР.
DTSTART;VALUE=DATE:20150607
END:VEVENT
END:VCALENDAR
