BEGIN:VCALENDAR
VERSION:2.0
PRODID:-//IP.Board Calendar 4.0.13.1//EN
METHOD:PUBLISH
CALSCALE:GREGORIAN
X-WR-CALNAME:В этот день в прошлом
BEGIN:VTIMEZONE
TZID:Europe/London
TZURL:http://tzurl.org/zoneinfo/Europe/London
X-LIC-LOCATION:Europe/London
BEGIN:DAYLIGHT
TZOFFSETFROM:+0000
TZOFFSETTO:+0100
TZNAME:BST
DTSTART:20150329T020000Z
RRULE:FREQ=YEARLY;BYMONTH=3;BYDAY=-1SU
END:DAYLIGHT
BEGIN:STANDARD
TZOFFSETFROM:+0100
TZOFFSETTO:+0000
TZNAME:GMT
DTSTART:20151025T020000Z
RRULE:FREQ=YEARLY;BYMONTH=10;BYDAY=-1SU
END:STANDARD
END:VTIMEZONE
BEGIN:VEVENT
SUMMARY:Развилки Дня
DTSTAMP:20150615T084928Z
SEQUENCE:0
UID:57a37ac4001847c055a0b19dd36e181a@172.17.0.3
ORGANIZER;CN="ясмин джакмич":fai@fai.org.ru
DESCRIPTION:\n7 июняДо XVIII в
	ека1099 — Пер
	вый крестов
	ый поход: 
	начало о
	сады Иерус
	алима.1420
	 — во
	йска 
	Венец
	ианско
	й респ
	ублики
	 взяли
	 Удине\
	, уничтожи
	в незави
	симость
	 Аквилей
	ского па
	триарха
	та как 
	госуда
	рства.
	1494 —
	 зак
	лючё
	н То
	рдес
	илья
	сский
	 дого
	вор ме
	жду Ис
	панией 
	и Португал
	ией о разде
	ле сфер кол
	ониальных
	 захватов в 
	Западном п
	олушарии.1498 
	— Христоф
	ор Колумб о
	тправился в
	 своё третье 
	путешествие.15
	20 — у Кале
	 встретились к
	ороль Англии Ге
	нрих VIII и кор
	оль Франции Фра
	нциск I\, которы
	е устроили трёхнед
	ельный пир с 10 т
	ысячами придво
	рных (этот пир н
	а 10 лет опустошил
	 французскую ка
	зну) — т. н. «
	Поле золотой
	 парчи».1585
	 — начало
	 первого п
	лавания Джон
	а Дэвиса с цел
	ью найти север
	ный путь из А
	нглии в Инд
	ию.1628 — 
	Петици
	я о пра
	ве один
	 из фунд
	аментальных
	 законов Ан
	глии одоб
	рен королё
	м Чарльзом 
	I и стал зак
	оном.1640 
	— В Ба
	рселоне
	 произош
	ло событ
	ие извест
	ное как Ко
	рпус де Са
	нгре — вос
	стание ката
	лонских кре
	стьян против
	 Короны. Уб
	ит вице-к
	ороль и не
	сколько ко
	ролевских 
	чиновников
	. Начало С
	егадорского восст
	ания.1654 — коронов
	ан французский ко
	роль Людовик XIV.1
	684 — в ходе меж
	ду Испанией и
	 Францией\,
	 взят Люк
	сембург. Вп
	оследствии
	 он отошёл
	 Франции п
	о Регенс
	бургскому
	 договору.16
	92 — прои
	зошло Зе
	млетрясен
	ие на Яма
	йке вызв
	авшее цуна
	ми\, кото
	рое уничт
	ожило гор
	од Порт-
	Ройал гл
	авную пи
	ратскую б
	азу в Карибско
	м море. Начался з
	акат эпохи пиратств
	а в Вест-Индии.XVIII век1775 — С
	оединённые Колонии (Unite
	d Colonies) меняют своё название на Со
	единённые Штаты (United Stat
	es).1776 — все англ
	ийские колони
	и Америки\, кроме Н
	ью-Йорка\, проголо
	совали за независи
	мость.XIX век1867 
	— издание в
	 России ос
	обых прав
	ил\, отд
	ающих с
	тудентов по
	д двойной к
	онтроль —
	 университе
	тского нача
	льства и пол
	иции.1880 
	— в хо
	де Тих
	оокеанск
	ой войны 
	произошла 
	битва за А
	рику закончи
	вшаяся взяти
	ем города и е
	го аннекси
	ей в пользу Чил
	и.1883 — освяще
	ние Храма Х
	риста Спаси
	теля в Моск
	ве.XX век190
	3 — в Б
	ерлине
	 францу
	зский у
	чёный П
	ьер Кюри об
	ъявил об о
	ткрытии н
	ового хи
	мического 
	элемента 
	— полония.
	1905 — рас
	торжени
	е Шведск
	о-Норвежс
	кой унии.
	 Удивител
	ьно цици
	вилизованный
	 и бескровный пр
	имер решения под
	обного рода конф
	ликтов в XX веке1
	917 — партия эсе
	ров в России ра
	скололась на 
	правых и лев
	ых.1921 — з
	аключён Д
	оговор о с
	отрудниче
	стве между
	 Румынией 
	и Королевством с
	ербов\, хорватов
	 и словенцев (
	будущая Юго
	славия).1929
	 — в с
	оответств
	ии с Латера
	нскими сог
	лашениями 
	образовано
	 государств
	о Ватикан.1
	938По амер
	иканском
	у телеви
	дению впе
	рвые показа
	на первая х
	удожествен
	ная постано
	вка с участи
	ем не студи
	йных\, а 
	професс
	иональных
	 театральных
	 актеров - б
	родвейский 
	спектакль «
	Сюзанна и Бог». 
	Возможно\, пер
	вый телеспект
	акль в истори
	и вещания. 1
	939 — на э
	краны стр
	аны выше
	л фильм Абр
	ама Матвее
	вича Роома 
	«Эскадрилья 
	№ 5» («Война
	 начинается»
	)\, повество
	вавший о гр
	ядущей вой
	не Советского Союз
	а с фашистской Гер
	манией (Киевская 
	киностудия\, 1939).
	 Фильм проде
	ржался на 
	экране не
	сколько дн
	ей\, так ка
	к советс
	ко-германс
	кие отношени
	я временно ул
	учшились. В филь
	ме играли актёры:
	 Николай Гарин\, Юр
	ий Шумский\, Ан
	дрей Апсоло
	н\, Сергей 
	Ценин.1946
	 — возо
	бновлени
	е в Велик
	обритании ре
	гулярного тел
	евещания Би-би-си
	. Передачи прин
	имают менее 12 
	тысяч телез
	рителей.19
	47 — осно
	вано Всес
	оюзное обще
	ство по ра
	спростран
	ению политичес
	ких и научных 
	знаний\, по
	зже став
	шее обще
	ством «З
	нание».1
	948 — 
	отст
	авка
	 презид
	ента Чех
	ословакии
	 Бенеша и
	 установле
	ние коммуни
	стического 
	режима.195
	0 — Совет
	ское прав
	ительство
	 выступил
	о с мемор
	андумом 
	об Антар
	ктике\, 
	направл
	енным пр
	отив пла
	нов США 
	решить про
	блему «Лед
	яного конт
	инента» в у
	зком кругу
	 западных 
	государств
	. В меморан
	думе говори
	лось о непри
	знании никак
	их решений в о
	тношении Анта
	рктиды\, прин
	ятых без уча
	стия СССР\, 
	и упомина
	лся приори
	тет русски
	х открыти
	й в Антарк
	тике. Межд
	ународный 
	договор об
	 использов
	ании Антарк
	тики только
	 в мирных це
	лях и свободе 
	научных исследован
	ий на шестом конт
	иненте был заклю
	чён в 1959 году.1
	962 — вступ
	ление Монголь
	ской Народной 
	Республики в С
	ЭВ.1965 — корпо
	рация «Sony» пред
	ставила первый домашн
	ий видеомагнитофон по 
	цене $995 — CV-2000.19
	67 — израильт
	яне взяли по
	д свой конт
	роль Стену 
	Плача в Ие
	русалиме.1
	981 — ВВС 
	Израиля н
	анесли бом
	бовый уда
	р по иракскому
	 ядерному реакто
	ру в Осираке и 
	полностью унич
	тожили его.1990
	На встрече
	 в Москве п
	редстави
	тели 7 го
	сударств
	 Варшавск
	ого договор
	а приняли ре
	шение перес
	мотреть хара
	ктер и функц
	ии союза\,
	 которому
	 из военн
	ого предс
	тоит стать
	 политически
	м. Венгрия заявила о с
	воём намерении выйти из союза до конца 19
	91 года.
DTSTART;VALUE=DATE:20150606
END:VEVENT
END:VCALENDAR
