BEGIN:VCALENDAR
VERSION:2.0
PRODID:-//IP.Board Calendar 4.0.13.1//EN
METHOD:PUBLISH
CALSCALE:GREGORIAN
X-WR-CALNAME:В этот день в прошлом
BEGIN:VTIMEZONE
TZID:Europe/London
TZURL:http://tzurl.org/zoneinfo/Europe/London
X-LIC-LOCATION:Europe/London
BEGIN:DAYLIGHT
TZOFFSETFROM:+0000
TZOFFSETTO:+0100
TZNAME:BST
DTSTART:20150329T020000Z
RRULE:FREQ=YEARLY;BYMONTH=3;BYDAY=-1SU
END:DAYLIGHT
BEGIN:STANDARD
TZOFFSETFROM:+0100
TZOFFSETTO:+0000
TZNAME:GMT
DTSTART:20151025T020000Z
RRULE:FREQ=YEARLY;BYMONTH=10;BYDAY=-1SU
END:STANDARD
END:VTIMEZONE
BEGIN:VEVENT
SUMMARY:Развилки Дня
DTSTAMP:20150615T085501Z
SEQUENCE:0
UID:f89a68a89191457decc0774d0d1b9cae@172.17.0.3
ORGANIZER;CN="ясмин джакмич":fai@fai.org.ru
DESCRIPTION:\n6 июняДо XX в
	ека105 — на
	чало очер
	едной дак
	ийской к
	ампании им
	ператора Тр
	аяна.1523 — Гу
	став Васа 
	избирается к
	оролём Швеции\, 
	которая в то же 
	время разрыв
	ает союз с Дан
	ией.1761 — М.
	 В. Ломонос
	ов\, наблюда
	я прохожден
	ие Венеры по со
	лнечному диску\
	, обнаружил на
	личие у неё атмо
	сферы.1808 — Жоз
	еф Бонапарт\, бра
	т Наполеона I
	\, коронован 
	в качестве
	 короля Испани
	и.1850 — Леви Страусс 
	сделал свои первы
	е голубые джинсы.1
	882Более 100 000 жит
	елей Бомбея 
	погибли от ог
	ромных волн\,
	 которые ц
	иклон при
	гнал в г
	авань с Ар
	авийского мо
	ря.Генри Сил
	и запатентов
	ал электричес
	кий утюг.XX в
	ек1912 — начало
	сь второе по 
	величине вулк
	аническое изверж
	ение XX века (вулкан Но
	варупта\, Аляска\,
	 извергнувший 1
	7 км? лавы).1
	919Прекр
	атила 
	сущес
	твова
	ние Р
	еспуб
	лика П
	рекмур
	ье (во
	сточная Сл
	овения).Со
	ветская в
	ласть объ
	явила Нес
	тора Махн
	о вне зак
	она.1922 
	— декр
	етом С
	овета н
	ародных
	 комисса
	ров созд
	ано Главное
	 управление п
	о делам лите
	ратуры и изд
	ательств (Г
	лавлит)\, от
	вечавшее з
	а политику
	 государства 
	в отношении 
	цензуры. Ли
	квидирован
	о в годы пере
	стройки.1923
	 — Солове
	цкий лагерь о
	собого назнач
	ения (СЛОН) 
	принял пе
	рвых закл
	ючённых.1
	932 — военн
	ой хунтой п
	ровозглашена
	 Социалистичес
	кая республика Ч
	или.1933 — в город
	е Кэмден\, шт. Нью-
	Джерси\, открыл
	ся первый кинот
	еатр \"драйв-ин\"
	\, в котором автом
	обилисты могли 
	смотреть кино\,
	 не выходя из
	 машины.1937 — н
	ачала работу 
	первая дрейфу
	ющая станция С
	еверный полюс-
	1.1944 — выса
	дка войск
	 союзнико
	в в Норманд
	ии\, начал
	о крупне
	йшей амфиб
	ийной опер
	ации в воен
	ной истори
	и\, открыт
	ие Второ
	го фронта. Н
	емецкая об
	орона на З
	ападном Т
	ВД потерял
	а устойчиво
	сть.1949 — 
	основание А
	кционерног
	о Общества 
	«Улан-Бато
	рская Желе
	зная Дорога
	».1956 — пос
	тановлени
	е Совета М
	инистров СС
	СР «Об отмене
	 платы за обуч
	ение в старши
	х классах ср
	едних школ\, в с
	редних спец
	иальных и вы
	сших учебны
	х заведениях 
	СССР».1957 — 
	в Москве о
	ткрыт магаз
	ин «Детский 
	мир». В посл
	едующие го
	ды магазины с 
	таким назва
	нием появилис
	ь во всех круп
	ных городах СС
	СР.1966 — пост
	ановление 
	ЦК КПСС и С
	овета Мин
	истров СС
	СР «Об общест
	венном призы
	ве молодёжи 
	на важнейши
	е стройки пя
	тилетки».1967
	 — презид
	ент Объеди
	нённой Ара
	бской Рес
	публики (
	Египет) о
	тдал распо
	ряжение зак
	рыть для с
	удоходства 
	Суэцкий канал 
	и заявил\, что б
	ританские и 
	американские во
	йска\, по его 
	мнению\, о
	казывают
	 содействие 
	Израилю.1971
	Запуск со
	ветского косми
	ческого корабля 
	«Союз-11» к ор
	битальной 
	станции «С
	алют-1».1979
	 — запус
	к советск
	ого беспил
	отного космическо
	го корабля «Союз
	-34» к орбитал
	ьной станц
	ии «Салют-6
	».1985 — запу
	ск советского
	 пилотируемог
	о космического
	 корабля «Союз
	 Т-13».1992Вы
	боры в 
	Чехосло
	вакии пр
	инесли п
	обеду в 
	Словакии
	 словацки
	м партиям
	\, выступающ
	им за пров
	озглашение 
	Словакии н
	езависимой 
	республикой
	\, и в Чехии 
	чешским па
	ртиям\, в
	ыступаю
	щим за 
	сохра
	нение
	 федер
	ации.У
	казом 
	прези
	дента
	 Росси
	и Бор
	иса Е
	льци
	на мэ
	ром М
	осквы взамен у
	шедшего в отставку Гавриила Попова н
	азначен Юрий Лужков.
DTSTART;VALUE=DATE:20150605
END:VEVENT
END:VCALENDAR
