BEGIN:VCALENDAR
VERSION:2.0
PRODID:-//IP.Board Calendar 4.0.13.1//EN
METHOD:PUBLISH
CALSCALE:GREGORIAN
X-WR-CALNAME:В этот день в прошлом
BEGIN:VTIMEZONE
TZID:Europe/London
TZURL:http://tzurl.org/zoneinfo/Europe/London
X-LIC-LOCATION:Europe/London
BEGIN:DAYLIGHT
TZOFFSETFROM:+0000
TZOFFSETTO:+0100
TZNAME:BST
DTSTART:20150329T020000Z
RRULE:FREQ=YEARLY;BYMONTH=3;BYDAY=-1SU
END:DAYLIGHT
BEGIN:STANDARD
TZOFFSETFROM:+0100
TZOFFSETTO:+0000
TZNAME:GMT
DTSTART:20151025T020000Z
RRULE:FREQ=YEARLY;BYMONTH=10;BYDAY=-1SU
END:STANDARD
END:VTIMEZONE
BEGIN:VEVENT
SUMMARY:Развилки Дня
DTSTAMP:20150615T090726Z
SEQUENCE:0
UID:092f477c8ba893b8c4000b33cd619b14@172.17.0.3
ORGANIZER;CN="ясмин джакмич":fai@fai.org.ru
DESCRIPTION:\n5 июняДо XVIII
	 век754 
	— толпо
	й немецки
	х язычни
	ков убит 
	английск
	ий христиан
	ский пропове
	дник\, один и
	з крестите
	лей Герман
	ии Бонифаций\,
	 ставший одн
	им из самых
	 почитаемы
	х христианс
	ких святых.1
	224 — осн
	ован Неаполита
	нский универси
	тет\, получивши
	й поздней имя
	 Фридриха II.1
	455 — поэт
	 Франсуа 
	Вийон при
	 попытке ог
	рабления ц
	еркви в стычк
	е смертельно
	 ранил свяще
	нника и был
	 изгнан из
	 Парижа.1
	650 — Еро
	фей Павл
	ович Ха
	баров в
	ернулся 
	в Якутск и
	з своего пер
	вого похода
	 на Амур с 
	чертежом Дау
	рской земли\
	, который бы
	л отправле
	н в Москв
	у и стал одним
	 из основных источнико
	в при создании карт Си
	бири в 1667 и 1672 году.X
	VIII век[править
	 | править 
	вики-текст]1
	727 — сос
	тоялась то
	ржественная ц
	еремония помо
	лвки 12-летнего 
	императора Пет
	ра II с 16-лет
	ней Марие
	й Меньши
	ковой\, доче
	рью светл
	ейшего к
	нязя Але
	ксандра Д
	анилович
	а Меньши
	кова.1744
	 — в П
	етербург
	е основан
	а Порцелино
	вая мануфак
	тура — пер
	вое в России и 
	одно из ста
	рейших в Ев
	ропе фарф
	оровых п
	роизводст
	в.1783 — брат
	ья Монгол
	ьфье в род
	ном городке Ан
	ноне запустили
	 на высоту 500
	 м первый 
	воздушный
	 шар.1799 —
	 немецк
	ий ест
	ествоис
	пытател
	ь Алекс
	андр фон
	 Гумболь
	дт вмест
	е с франц
	узским бо
	таником Э.
	 Бонпланом
	 начали пу
	тешествие по Ц
	ентральной и 
	Южной Америке
	. Материалы э
	кспедиции в
	ошли в 30-томно
	е «Путешествие в р
	авноденственные обл
	асти Нового Света в 1799—1804 гг.
	» (русский перевод\, тт. 1-3\,
	 1963—1969 гг.)\, в книгу «Карти
	ны природы» (1808\; русский пе
	ревод 1855 и 1959).XIX век
	[править |
	 править 
	вики-тек
	ст]1806 — Л
	уи Бона
	парт п
	ровозгл
	асил со
	здание 
	королев
	ства Голла
	ндии.1849 
	— Дани
	я прово
	зглашена к
	онституцио
	нной монархи
	ей\, учреждё
	н двухпалатн
	ый парламент
	\, формируемы
	й на основе в
	сеобщих выбор
	ов. Позже в Конститу
	цию будут внесены 
	поправки\, послед
	ние в 1953\, когд
	а будет упр
	азднена ве
	рхняя палат
	а парламент
	а и принят зако
	н о праве насле
	дования престо
	ла по женской 
	линии.1869 
	— залож
	ен первый
	 в мире 
	бруств
	ерно-баш
	енный к
	орабль 
	— броне
	носец «
	Пётр Велики
	й». Адмирал
	тейский зав
	од. Спроекти
	рован адмир
	алом Поповым
	 А. А. Оставал
	ся на службе в р
	азличных качеств
	ах как учебный ко
	рабль и блокшив д
	о 1959 года\, однако
	 как музейный 
	корабль сохр
	анен не был1873 
	— под нажимо
	м Англии закры
	т Занзибарский ры
	нок рабов\, на т
	от момент самы
	й большой в 
	мире.1881 — 
	психопато
	м проповед
	ником и юр
	истом-не
	доучкой
	 Шарлем 
	(Чарльзо
	м) Гито
	 совершен
	но покушени
	е на президента СШ
	А Джеймса Гарфилда (
	скончается 19 сентя
	бря 1881-го)1897
	 — на
	 верфи
	 «Нов
	ое Адми
	ралтейст
	во» в Пет
	ербурге н
	ачато стро
	ительство крей
	сера «Аврора».
	 XX век[прави
	ть | прави
	ть вики-т
	екст]19
	10во Ф
	ранц
	ию в
	озвр
	атили
	сь уч
	астни
	ки вто
	рой ан
	тарктич
	еской эк
	спедиции п
	од руковод
	ством Жана
	-Батиста Ш
	арко.первы
	й в Росси
	и полёт 
	на само
	лёте от
	ечеств
	енной 
	констр
	укции с
	овершил
	 в Киеве
	 его созд
	атель профес
	сор политехнич
	еского института
	 князьА. С. Кудаш
	ев. Через 11 дне
	й там же поднял в 
	воздух свой са
	молёт студент
	 И. И. Сикорски
	й\, а 19 июня в
	 Гатчине н
	а самолёте конс
	трукции инженер
	а Я. М. Гаккеля 
	взлетел В. Ф. 
	Булгаков.191
	6 — на сл
	едующий 
	день посл
	е начала 
	наступлени
	я на вспомо
	гательных на
	правлениях Т
	арнополь (со
	вр. Тернопол
	ь) и Черновиц
	ы (Черновц
	ы) команду
	ющий Юго-З
	ападным 
	фронтом
	 генерал А.
	 А. Брусило
	в нанёс гл
	авный удар 
	в направлении 
	Луцка силами 8
	-й армии под 
	командован
	иемА. М. Кал
	едина.1929 
	— Сове
	т труда 
	и обор
	оны пр
	инял по
	становлени
	е о повсемес
	тной органи
	зации маши
	нно-трактор
	ных станций
	 (МТС).1934 — 
	в Кремл
	е устрое
	н торжест
	венный при
	ем героям
	-челюскинца
	м1945 — во
	еначальн
	ики союз
	ных держ
	ав Жуко
	в\, Эйз
	енхауэр
	\, Монт
	гомер
	и и Ла
	тр де 
	Тасси
	ньи п
	одписа
	ли в Бе
	рлине Д
	екларац
	ию о по
	ражении
	 Германии
	и приняти
	и верхов
	ной влас
	ти там п
	равите
	льствам
	и СССР\
	, США\,
	 Великоб
	ритании и
	 Франции.
	 Разделен
	ие Берлин
	а на окку
	пационные
	 зоны.1947
	 — г
	оссекре
	тарь США
	 Джордж М
	аршалл пр
	оизнёс реч
	ь в Гарвар
	дском унив
	ерситете\, в 
	которой из
	ложил про
	грамму по
	мощи послевое
	нной Европе\
	, позже по
	лучившей
	 название 
	«план Маршалл
	а».1950 — Презид
	ент США Трумэн 
	подписал закон 
	о выделении 3\,
	121 миллиард
	а долларов
	 на американ
	скую помощь ин
	остранным госу
	дарствам (включа
	я план Маршалла).195
	3 — сенат США
	 отверг членс
	тво Китая в 
	ООН.1957Ато
	мные ве
	домств
	а Велик
	обритан
	ии и США
	 договор
	ились об
	 обмене 
	информа
	цией.Ис
	следова
	тель нар
	котиков до
	ктор Гербер
	т Бергер пред
	ложил АМА пр
	оверять атле
	тов на допин
	г.1968 — пос
	ле побед
	ы на пер
	вичных
	 презид
	ентских 
	выборах 
	в Калифо
	рнии был 
	смертельно 
	ранен сенат
	ор Роберт Ке
	ннеди\, сконч
	авшийся на 
	следующий 
	день. Пост
	радали ещё
	 пятеро челов
	ек. Убийца С
	ерхан Бишар
	а Серхан был с
	разу же схвач
	ен.1975 — Суэцкий
	 канал вновь от
	крыт после 8-
	летнего зак
	рытия.1977 — в продаж
	е появился первы
	й персональный 
	компьютер Appl
	e II.1983 — 
	катастро
	фа теплохода 
	«Александр Сув
	оров» в Ульянов
	ске. Погибло 176 
	человек.1984
	 — индий
	ская арми
	я начала 
	операци
	ю «Голуб
	ая звезда» 
	против сик
	хских экс
	тремистов
	 в Золотом
	 храме Ам
	ритсара.1
	988 — в Ру
	сской п
	равосл
	авной ц
	еркви 
	началис
	ь праздни
	чные богослу
	жения\, пос
	вящённые 
	тысячелети
	ю христианства 
	на Руси.1993В Москве открылось констит
	уционное совещание.
DTSTART;VALUE=DATE:20150604
END:VEVENT
END:VCALENDAR
