BEGIN:VCALENDAR
VERSION:2.0
PRODID:-//IP.Board Calendar 4.0.13.1//EN
METHOD:PUBLISH
CALSCALE:GREGORIAN
X-WR-CALNAME:В этот день в прошлом
BEGIN:VTIMEZONE
TZID:Europe/London
TZURL:http://tzurl.org/zoneinfo/Europe/London
X-LIC-LOCATION:Europe/London
BEGIN:DAYLIGHT
TZOFFSETFROM:+0000
TZOFFSETTO:+0100
TZNAME:BST
DTSTART:20150329T020000Z
RRULE:FREQ=YEARLY;BYMONTH=3;BYDAY=-1SU
END:DAYLIGHT
BEGIN:STANDARD
TZOFFSETFROM:+0100
TZOFFSETTO:+0000
TZNAME:GMT
DTSTART:20151025T020000Z
RRULE:FREQ=YEARLY;BYMONTH=10;BYDAY=-1SU
END:STANDARD
END:VTIMEZONE
BEGIN:VEVENT
SUMMARY:Развилки Дня
DTSTAMP:20150615T091629Z
SEQUENCE:0
UID:fd1284609e6299a4d31a7e3216d80e82@172.17.0.3
ORGANIZER;CN="ясмин джакмич":fai@fai.org.ru
DESCRIPTION:\n4 июняДо XIX ве
	ка1039 — Генрих
	 III коронован 
	королём Герма
	нии.1094 — Педро I
	 стал королём
	 Арагона и Н
	аварры пос
	ле смерти С
	анчо I.1286
	 — к
	оролев
	ство Иерусал
	имское было
	 объединено 
	под властью ко
	роля Кипра Генр
	иха II.1391 — еврейс
	кий погром в Севи
	лье (4000 человек
	 погибших)17
	03 — заложе
	н Домик Пет
	ра I (счита
	ется стар
	ейшим зд
	ание Сан
	кт-Петерб
	урга)1741
	 — р
	усская
	 экспедиц
	ия Витуса
	 Беринга о
	тправилась
	 с Камчатк
	и в сторон
	у Аляски.1
	745 — в 
	ходе 
	Второй
	 Силезс
	кой вой
	ны про
	изошла
	 Битва
	 при Го
	генфри
	дберге
	 между 
	прусской
	 армией п
	од коман
	дованием
	 Фридрих
	а Великог
	о и австрий
	ской армией\
	, которой 
	командов
	ал Карл 
	Александ
	р Лотарин
	гский.1800
	 — в 
	Вашинг
	тоне з
	авершен
	о строи
	тельство
	 Белого д
	ома (тогда
	 еще именов
	авшимся Пр
	езидентским 
	особняком и бывш
	им Красным из-за
	 цвета не краше
	нного кирпича
	)\, и в него в
	ъехали первые об
	итатели: прези
	дент Джон Ада
	мс с женой Э
	бигейль.XIX 
	век1817 
	— правите
	льственны
	м указом О
	дессе предос
	тавлен статус в
	ольного города.
	1830 — убит Ан
	тонио Хосе 
	Сукре\, оди
	н из лидер
	ов войны за
	 независимо
	сть испански
	х колоний в Ла
	тинской Амери
	ке.1856 — Гра
	жданская во
	йна в Уругв
	ае: в ходе
	 Войны 
	на Пара
	не про
	изошло
	 сражен
	ие при Кебр
	ачо в котор
	ом силы Арг
	ентинской ко
	нфедерации унич
	тожили 6 из 12 
	судов англо-фр
	анцузской э
	скадры.1856 
	— основа
	на Треть
	яковская 
	галерея.1
	859 — ф
	ранцузы 
	разгромили
	 60-тысячную
	 австрийск
	ую армию у мест
	ечка Маджента
	\, внеся свой
	 вклад в 
	объеди
	нение И
	талии.
	1878 —
	 Османс
	кая имп
	ерия п
	ередала
	 Великоб
	ритании у
	правление
	 островом
	 Кипр.1896В 
	Москве п
	одписан с
	екретный 
	договор ме
	жду Россие
	й и Китаем
	\, по котор
	ому Росси
	я обещала
	 защиту от
	 возможн
	ой агре
	ссии Яп
	онии и п
	олучила 
	право на 
	строител
	ьство в 
	Маньчжур
	ии Китай
	ско-Восто
	чной желе
	зной доро
	ги. Заклю
	чение д
	оговора
	 стало в
	озможн
	ым благо
	даря усп
	ешному 
	руковод
	ству пе
	реговор
	ами мини
	стра ино
	странны
	х дел Ро
	ссии кн
	язя Алек
	сея Борис
	овича Ло
	банова-Рос
	товского.И
	спытание пер
	вого автомобиля
	\, построенного Фо
	рдом\, было задержа
	но на час\, так как о
	казалось\, что ав
	томобиль шире\, чем
	 двери цеха\, в кот
	ором его созд
	авали.XX век191
	6 — Перва
	я мировая 
	война: На
	чало Брусило
	вского проры
	ва\, наступа
	тельной опера
	ции русской ар
	мии.1917 — в 
	Колумбийс
	ком университе
	те (г. Нью-Йо
	рк) впервы
	е вручили
	 Пулитцеров
	скую премию.1
	918 — немцы 
	провозгла
	сили Литву
	 королевств
	ом\, посадив на
	 трон герцог
	а Вюртембер
	гского Виль
	гельма фон Урах
	а.1925 — основа
	н автомобиль
	ный концерн 
	«Крайслер»
	.1940Втора
	я миров
	ая вой
	на: З
	аве
	рше
	ние
	 оп
	ерац
	ии «Д
	инам
	о» —
	 эваку
	ации 
	брита
	нских\
	, фран
	цузски
	х и бел
	ьгийски
	х войск и
	з француз
	ского гор
	одаДюнкер
	ка.Ирония судь
	бы или совпаде
	ние? Открытие 
	стадиона «Дин
	амо» в Москве.1
	942Вторая миро
	вая война: на
	чало сражен
	ия у атолла Мидуэй
	.В этот день Гленну Уоллич
	су из фирмы грамзаписи «C
	apitol Records» пришла в
	 голову ид
	ея разосла
	ть новые плас
	тинки на все 
	влиятельные 
	радиостанции с
	траны в надежде\
	, что те будут 
	передавать эт
	у музыку в эф
	ир. Вскоре это 
	стало обычно
	й практикой 
	для всех фи
	рм грамзапи
	си.1950Влас
	ти США 
	обвинил
	и в посо
	бничес
	тве ком
	мунист
	ам одно
	го из р
	азраб
	отчико
	в раке
	тостро
	ительн
	ых прог
	рамм Ця
	нь Сюэсэ
	ня (буду
	щего рук
	оводите
	ля китай
	ского ра
	кетостро
	ения).В 
	Южной А
	фрике 
	с прин
	ятием н
	ескольки
	х законов
	 сложилас
	ь госуда
	рственная сис
	тема апартеида
	. Поправка к за
	кону о безнра
	вственности 1
	949 года запре
	тила половы
	е отношения
	 между евро
	пейцами и 
	цветными
	. Закон о 
	регист
	рации на
	селения 
	потребовал
	 обязательно
	й регистрации
	 по принадлежн
	ости к группе 
	белых\, цвет
	ных или аф
	риканцев.
	 Закон о 
	районах пр
	оживания у
	становил м
	еханизм об
	разования 
	изолированн
	ых зон\, в ко
	торых разр
	ешалось пр
	оживание л
	ицам одной
	 расовой 
	группы. 
	Закон о
	 подавл
	ении ко
	ммунист
	ического
	 движени
	я предост
	авил мин
	истру юс
	тиции ш
	ирокие пол
	номочия д
	ля пресле
	дования 
	любой оп
	позицион
	ной орга
	низации.1
	956 — го
	сдепарта
	мент США 
	опубликова
	л «секретный
	» доклад Н. 
	С. Хрущёва на
	 XX съезде КП
	СС «О культе 
	личности и е
	го последств
	иях»\; содерж
	ание доклад
	а в тот же день
	 прозвучало в
	 передачах Р
	адио «Свобод
	ная Европа».
	1959 — при
	надлежа
	щие США сах
	арные фабри
	ки и планта
	ции на Куб
	е были эк
	спроприиро
	ваны.1965 
	— в Мо
	скве 
	у Кр
	асны
	х во
	рот 
	откры
	т памя
	тник 
	Михаи
	лу Лер
	монтов
	у работы
	 скульпто
	ра Исаака Б
	родского. Это
	т памятник — 
	тот самый «муж
	ик в пиджаке»
	\, о котором идё
	т речь в изв
	естном филь
	ме «Джентл
	ьмены удачи»
	.1972 — поэт 
	Иосиф Бро
	дский был в
	ынужден эми
	грировать. В
	 письме на имя Б
	режнева он писал
	: «Мне горько уез
	жать из России
	. Я верю\, что 
	вернусь. Поэты 
	всегда возвращ
	аются — во плот
	и или на бумаге»
	.1975 - «Роллинг 
	Стоунз» стал
	и первой запа
	дной рок-группо
	й\, которая полу
	чила гонорар 
	за выпуск св
	оих песен в
	 СССР.1977
	 — опубли
	кован про
	ект Конс
	титуции С
	ССР для в
	сенародно
	го обсужде
	ния.1989Под
	авление
	 студен
	ческой д
	емонстра
	ции на пло
	щади Тяньа
	ньмэнь в 
	Пекине.П
	роизошла 
	крупнейшая
	 в истории Р
	оссии и ССС
	Р железнодор
	ожная катастр
	офа. На перег
	оне между с
	танциями 
	Аша и Улу
	-Теляк в
	 момент п
	рохождени
	я двух па
	ссажирск
	их поезд
	ов взорвал
	ось облако газа\
	, вытекшее из повреждён
	ного продуктопровода. 
	Погибли 575\, ранены 623.1999Впервые 
	выявлен вирус «Worm.ExploreZip»\, 
	поразивший тысячи компьютеров мира.
DTSTART;VALUE=DATE:20150603
END:VEVENT
END:VCALENDAR
