BEGIN:VCALENDAR
VERSION:2.0
PRODID:-//IP.Board Calendar 4.0.13.1//EN
METHOD:PUBLISH
CALSCALE:GREGORIAN
X-WR-CALNAME:В этот день в прошлом
BEGIN:VTIMEZONE
TZID:Europe/London
TZURL:http://tzurl.org/zoneinfo/Europe/London
X-LIC-LOCATION:Europe/London
BEGIN:DAYLIGHT
TZOFFSETFROM:+0000
TZOFFSETTO:+0100
TZNAME:BST
DTSTART:20150329T020000Z
RRULE:FREQ=YEARLY;BYMONTH=3;BYDAY=-1SU
END:DAYLIGHT
BEGIN:STANDARD
TZOFFSETFROM:+0100
TZOFFSETTO:+0000
TZNAME:GMT
DTSTART:20151025T020000Z
RRULE:FREQ=YEARLY;BYMONTH=10;BYDAY=-1SU
END:STANDARD
END:VTIMEZONE
BEGIN:VEVENT
SUMMARY:Развилки Дня
DTSTAMP:20150615T092217Z
SEQUENCE:0
UID:b2cf2650191bbd9ee172f24656254964@172.17.0.3
ORGANIZER;CN="ясмин джакмич":fai@fai.org.ru
DESCRIPTION:\n3 июняДо XIX века
	1098 — взят
	ие кресто
	носцами А
	нтиохии.
	1326 — 
	меж
	ду 
	Нов
	горо
	дско
	й ре
	спу
	бли
	кой
	 и 
	кор
	олё
	м М
	агн
	ус Э
	рик
	ссо
	ном
	 подп
	исан 
	Новго
	родск
	ий дог
	овор р
	азгран
	ичивающий п
	риграничн
	ые террит
	ории и у
	станавл
	ивающий своб
	оду торговли
	.1539 — Флор
	ида объявле
	на территор
	ией Испании.157
	1 — войско к
	рымского ха
	на Девлета 
	I Гирея со
	жгло Моск
	ву.1615 — 
	в ход
	е Оса
	кской
	 камп
	ании
	 меж
	ду во
	йскам
	и Сёгу
	ната Току
	гава и во
	йсками к
	лана Тоёт
	оми произо
	шла битва пр
	и Домиоджи.16
	21 — основ
	ана Голлан
	дская Вест-
	Индская ком
	пания\, полу
	чившая монопольно
	е право на освоени
	е Северной и Южной А
	мерики.XIX век1830 
	— чумной бун
	т в Севастопо
	ле.1837 — под
	 Лондоном от
	крыт первы
	й в мире и
	пподром 
	для гонок 
	с препятств
	иями.1846 —
	 США отво
	евали у Мек
	сики посел
	ение Йерба-Б
	уэна. В январе 
	следующего г
	ода оно было
	 переименовано
	 в Сан-Франци
	ско.1896 — по
	дписан с
	екретный
	 договор\
	, по кот
	орому Кит
	ай позволил 
	России строит
	ь Китайско-Вос
	точную железную
	 дорогу.XX век
	1910 — совер
	шил свой п
	ервый пол
	ёт английск
	ий военный д
	ирижабль. «Б
	ета 1» — пер
	вый мягкий д
	ирижабль\, п
	ричаливши
	й к причал
	ьной мачте
	 и первый бри
	танский дириж
	абль с беспро
	волочным теле
	графом на борт
	у.1917 — откр
	ыт I Всеросси
	йский съезд
	 Советов ра
	бочих и со
	лдатских 
	депутато
	в.1927В Мо
	скве сне
	сены Кра
	сные вор
	ота.В Г
	реции пр
	инята но
	вая конс
	титуция.1
	931 — в 
	Велико
	британи
	и телеви
	дение Би-
	би-си провел
	о прямую тр
	ансляцию 
	финальных
	 заездов с
	о скачек «
	Дерби».1
	938 — Р
	ейхст
	аг Гер
	мании 
	принял п
	останов
	ление и
	зъять все
	 произве
	дения «де
	генеративного и
	скусства» (абс
	тракционистов
	\, импрессионист
	ов и т. д.).194
	6 — в Вен
	грии вып
	ущены банкноты
	 на сумму мил
	лиард милпен
	ге (миллиард 
	миллиардов 
	пенгё).1950 
	— француз
	ская гимал
	айская экс
	педиция\, 
	возглавл
	яемая Морисом
	 Эрцогом\, вперв
	ые покорила го
	рную вершину вы
	сотой более 8000 м
	етров. На Ан
	напурну I вз
	ошли Эрцог
	 и Луи Лаш
	еналь.195
	4 — в С
	ахаре обна
	ружена гробниц
	а древнеегипетского 
	фараона Санхета (пр
	имерно 2570 год до 
	н. э.).1959 — Син
	гапур прин
	ял конститу
	цию и стал 
	самоуправл
	яющимся.19
	61 — начал
	о двухдневн
	ых перегов
	оров в Вен
	е Н. С. Хр
	ущёва и Дж
	она Кеннеди
	.1966 — в ки
	тайском ру
	ководстве на
	чата чистка 
	с целью выя
	вления «прав
	ых уклонистов
	».1970 — синт
	езирован 
	первый и
	скусств
	енный ген.
	1971 — на Б
	алтийском
	 заводе з
	аложен атом
	ный ледокол 
	«Арктика».198
	0 — вследс
	твие сбоя комп
	ьютера\, сооб
	щившего о со
	ветском ядер
	ном нападении
	\, в США объяв
	лена ядерна
	я тревога. В теч
	ение десяти м
	инут мир наход
	ился на краю я
	дерной войны.
	1981 — папа 
	римский Иоа
	нн Павел II вы
	писался из 
	госпиталя
	 после сов
	ершенного 
	на него покуш
	ения.1985 — 
	Ватикан и
	 Италия под
	писали дого
	вор о том\, 
	что католичес
	кая религия л
	ишена статус
	а государственной в Ит
	алии.1992 — в России создан Совет безопас
	ности.
DTSTART;VALUE=DATE:20150602
END:VEVENT
END:VCALENDAR
