BEGIN:VCALENDAR
VERSION:2.0
PRODID:-//IP.Board Calendar 4.0.13.1//EN
METHOD:PUBLISH
CALSCALE:GREGORIAN
X-WR-CALNAME:В этот день в прошлом
BEGIN:VTIMEZONE
TZID:Europe/London
TZURL:http://tzurl.org/zoneinfo/Europe/London
X-LIC-LOCATION:Europe/London
BEGIN:DAYLIGHT
TZOFFSETFROM:+0000
TZOFFSETTO:+0100
TZNAME:BST
DTSTART:20150329T020000Z
RRULE:FREQ=YEARLY;BYMONTH=3;BYDAY=-1SU
END:DAYLIGHT
BEGIN:STANDARD
TZOFFSETFROM:+0100
TZOFFSETTO:+0000
TZNAME:GMT
DTSTART:20151025T020000Z
RRULE:FREQ=YEARLY;BYMONTH=10;BYDAY=-1SU
END:STANDARD
END:VTIMEZONE
BEGIN:VEVENT
SUMMARY:Развилки Дня
DTSTAMP:20150615T094215Z
SEQUENCE:0
UID:3cc6cfd210d2bd11490e22110bfddc61@172.17.0.3
ORGANIZER;CN="ясмин джакмич":fai@fai.org.ru
DESCRIPTION:\n30 мая До X
	IX века
	1416 
	— инк
	визици
	ей сож
	жён че
	шский 
	религи
	озный рефор
	матор Иеро
	ним Пражский.
	1431 — в Ру
	ане сожжена 
	Жанна д’Арк.14
	34 — Гуситск
	ие войны: п
	роизошла 
	Битва у Липан.
	1498 — начал
	о третьей 
	экспедици
	и Христофора 
	Колумба.1527 — 
	в Марбурге (
	Германия) уч
	реждён универси
	тет.1574 — Генри
	х III станови
	тся королём 
	Франции.1594
	 — впервые
	 в Персию по
	слано русское 
	посольство во главе 
	с князем А. Звенигоро
	дским.1631 — первый вы
	ход La Gazette — пе
	рвой франц
	узской газет
	ы.1635 — Три
	дцатилетня
	я война: подпис
	ан Пражский мир\
	, завершивший шв
	едский период во
	йны.XIX век180
	5 — войс
	ковым на
	казным а
	таманом
	 графом 
	М. И. Пл
	атовым 
	основан 
	г. Новочерк
	асск как но
	вый админи
	стративный 
	центр Земли войс
	ка Донского.1814 —
	 подписан Париж
	ский мирный договор
	 (1814)\, завершив
	ший Войну
	 шестой коалиц
	ии.1858 — На
	 Дальнем 
	Востоке осно
	ван город Хаб
	аровск.1871 — 
	падение П
	арижской ко
	ммуны.1879 
	— амери
	канский 
	магнат У
	ильям В
	андерби
	льт объя
	вил о пла
	не созда
	ния крупнейш
	его в Нью-Й
	орке спорт
	ивного цен
	тра «Мэдис
	он-Сквер-Гарде
	н».1886 — в Р
	оссийской Имп
	ерии принят за
	кон об отмене с 
	1887 года подушной 
	подати.XX век[п
	равить | п
	равить вик
	и-текст]1
	908 — с
	осто
	ялись 
	первые
	 в Вели
	кобрит
	ании ме
	ждународ
	ные состя
	зания возду
	хоплавателе
	й. С площадок 
	Харлингэм-клу
	ба в Фулхэме 
	(Лондон) в неб
	о поднялось 30 
	аэростатов\,
	 представл
	явших пять ев
	ропейских ст
	ран.1917 — пе
	рвый удачн
	ый дирижаб
	ль ВМС США 
	В-1 фирмы «Гу
	диер» соверш
	ил свой перв
	ый полёт из
	 Чикаго (шт
	ат Иллинойс) в
	 Уингфут\, рас
	положенный
	 неподалёк
	у от Акрон
	а (штат Огайо
	).1941 — за
	хват и
	 оккупа
	ция верм
	ахтом ос
	трова Кр
	ит.1942Бом
	барди
	ровка 
	Кёльна
	 английск
	ой авиацией.
	Создан Цен
	тральный шта
	б партизанск
	ого движения
	.1948 — Акт 
	о гражданст
	ве дал статус 
	британцев все
	м гражданам С
	одружества.1949 
	— в Германии\
	, в советско
	й оккупацио
	нной зоне\,
	 Народный
	 конгресс
	 принял но
	вую консти
	туцию (предусм
	атривает созда
	ние народной 
	палаты и пала
	ты земель).1953
	СССР отказал
	ся от территор
	иальных претензий 
	к Турции\, в част
	ности\, на гор
	од Карс.В ж
	урнале Nature
	 опублико
	вана стать
	я Джеймса 
	Уотсона и 
	Френсиса К
	рика\, в кот
	орой они пр
	едложили ст
	руктурную мо
	дель ДНК — дв
	ойную спирал
	ь.1959 — на о
	строве Уайт 
	(Англия) прош
	ло первое ис
	пытание судна н
	а воздушной под
	ушке.1962 — Бенни
	 Гудмен в своё 
	53-летие со св
	оим ансам
	блем дал 
	первый из ш
	ести концер
	тов в СССР. 
	Впервые д
	жазмены СШ
	А выступают
	 в СССР.196
	5 — отк
	рыто прямое
	 железнодо
	рожное со
	общение Мо
	сква-Стокгольм и Моск
	ва-Осло.1971 — запуск АМС «Маринер-9
	» к Марсу. \n
DTSTART;VALUE=DATE:20150529
END:VEVENT
END:VCALENDAR
