BEGIN:VCALENDAR
VERSION:2.0
PRODID:-//IP.Board Calendar 4.0.13.1//EN
METHOD:PUBLISH
CALSCALE:GREGORIAN
X-WR-CALNAME:В этот день в прошлом
BEGIN:VTIMEZONE
TZID:Europe/London
TZURL:http://tzurl.org/zoneinfo/Europe/London
X-LIC-LOCATION:Europe/London
BEGIN:DAYLIGHT
TZOFFSETFROM:+0000
TZOFFSETTO:+0100
TZNAME:BST
DTSTART:20150329T020000Z
RRULE:FREQ=YEARLY;BYMONTH=3;BYDAY=-1SU
END:DAYLIGHT
BEGIN:STANDARD
TZOFFSETFROM:+0100
TZOFFSETTO:+0000
TZNAME:GMT
DTSTART:20151025T020000Z
RRULE:FREQ=YEARLY;BYMONTH=10;BYDAY=-1SU
END:STANDARD
END:VTIMEZONE
BEGIN:VEVENT
SUMMARY:Развилки Дня
DTSTAMP:20150615T094804Z
SEQUENCE:0
UID:03cf3185480860a365eccf896c5d71fc@172.17.0.3
ORGANIZER;CN="ясмин джакмич":fai@fai.org.ru
DESCRIPTION:\n29 маяДо XIX ве
	ка1108 
	— сост
	оялась б
	итва при
	 Уклесе 
	между во
	йсками кас
	тильцев и 
	альморавида
	ми.1176 — п
	роизошла
	 битва п
	ри Лень
	яно\, о
	полче
	ние Л
	омбар
	дской
	 лиги 
	разгр
	омило войс
	ка импер
	атора Св
	ященной Р
	имской и
	мперии 
	Фридриха
	 Барбаросс
	ы.1453 — т
	урецка
	я армия по
	д начальств
	ом султана
	 Мехмеда II
	 захватыв
	ает Констант
	инополь.1486
	 — в ход
	е Гранад
	ской войн
	ы христиа
	нские вой
	ска\, кото
	рые возглавл
	ял Эрнан Пере
	с дель Пульга
	р взяли горо
	д Салар (Гра
	нада).1590 
	— в ц
	арст
	вован
	ие Фё
	дора И
	оаннови
	ча по ц
	арскому
	 наказу из
	 Сольвыче
	годска отп
	равлены в Си
	бирь 30 хле
	бопашенных се
	мей. Тем сам
	ым было по
	ложено на
	чало засе
	ления Сибири
	.1660 — произо
	шла Реставр
	ация Стюарто
	в в Англии. Ч
	арльз II в ден
	ь своего три
	дцатилетия\, тр
	иумфально вер
	нулся в Лондон
	 и был провоз
	глашён коро
	лём.1780 — 
	в ходе 
	Войны з
	а незав
	исимость
	 США произ
	ошла Битва при В
	эксхоус извест
	ная также как б
	ойня при Вэк
	схоус.XIX в
	ек1802 
	— фи
	зик и
	 осно
	вопо
	ложн
	ик эл
	ектром
	еталлурги
	и академи
	к В. В. Пе
	тров отк
	рыл явлен
	ие электри
	ческой дуг
	и.1825 — в
	 кафед
	ральном
	 соборе 
	Реймса в п
	оследний раз
	 прошла церем
	ония коронац
	ии короля Фр
	анции - Кар
	ла X1860 
	— ку
	пец\,
	 мецен
	ат и ко
	ллекционе
	р Павел М
	ихайлови
	ч Третьяк
	ов состав
	ил завещание\, 
	по которому 
	он оставлял
	 Москве св
	ою коллекци
	ю картин и 1
	50 тысяч р
	ублей с
	еребром для ус
	тройства картин
	ной галереи. Оста
	ток своего капит
	ала в 8 186 рубл
	ей просил упо
	требить «на 
	выдачу в замуже
	ство бедных не
	вест\, но за д
	обропорядо
	чных людей».
	1897 — опубли
	ковано поло
	жение о сел
	ьских реме
	сленных уче
	бных мастер
	ских\, сост
	оящих в ве
	дении Мин
	истерства
	 финансов и 
	«имеющих цел
	ью готовить 
	для сельско
	го хозяйства
	 рабочих\, опыт
	ных в уходе 
	за землед
	ельческим
	и машинами
	 и орудиям
	и».1900 — 
	компани
	я «Отис»
	 зарегист
	рировала 
	торговую мар
	ку «Эскалатор» (
	позднее так ста
	нут называть в
	се эскалатор
	ы).XX век1910 —
	 состяза
	ние в ско
	рости ме
	жду аэр
	опланом
	 и поез
	дом. Пер
	вым расст
	ояние меж
	ду Олбани
	 и Нью-Йо
	рком преод
	олел летате
	льный аппарат\, кото
	рым управлял Гленн К
	ертисс\, получивший
	 приз в 10 000 дол
	ларов.191
	1 — вер
	ховный с
	уд США п
	останови
	л искусст
	венно раз
	делить кру
	пнейшую в 
	Америке табач
	ную компанию
	 «Американ То
	бакко»\, при
	знанную м
	онополией
	.1913 — в
	 Пари
	же со
	 сканда
	лом пр
	ошла
	 прем
	ьера
	 бал
	ета Игор
	я Стравин
	ского «Ве
	сна священн
	ая» (хореог
	раф — Вацла
	в Нижинский).1
	918 — ВЦИК 
	принял Де
	крет о таможе
	нных сборах 
	и учрежден
	иях. Создана
	 советская 
	таможня.191
	9 — наблю
	дения пол
	ного затм
	ения Солн
	ца\, пров
	едённы
	е Арту
	ром Эдд
	ингтон
	ом\, полнос
	тью подтв
	ердили те
	орию отно
	сительнос
	ти Альберт
	а Эйнштейна
	.1923Англи
	йские 
	власти 
	распор
	ядилис
	ь отлож
	ить пр
	инятие
	 конст
	итуции
	 Палест
	ины в с
	вязи с 
	отказом
	 арабов
	 от сотр
	удничес
	тва.Образова
	н Союз Общес
	тв Красного
	 Креста и Кр
	асного По
	лумесяца
	 СССР.193
	9 — вве
	дена в д
	ействи
	е телег
	рафно-те
	лефонна
	я магист
	раль Моск
	ва-Хабаров
	ск.1944 —
	 Совна
	рком СС
	СР приня
	л постановл
	ение о вос
	становлен
	ии индивидуаль
	ного жилого ф
	онда в район
	ах\, освобо
	жденных 
	от фашис
	тов.1945 — 
	в Норве
	гии за 
	сотрудн
	ичество с
	 фашистами 
	арестован пи
	сатель\, Ноб
	елевский л
	ауреат Кн
	ут Гамсун
	.1947 — ин
	дийское 
	учредите
	льное соб
	рание за
	претило
	 касту 
	«неприк
	асаемых»
	.1953 — 
	пер
	вое 
	вос
	хожде
	ние на 
	Эверес
	т шерп
	а Тенси
	нга Нор
	гея и но
	возелан
	дца Эдм
	унда Хил
	лари.19
	64 — 
	Пале
	стин
	ский 
	наци
	онал
	ьный к
	онгресс пр
	овозгласил с
	оздание Орг
	анизации ос
	вобождения
	 Палестины (
	ООП).1969В арг
	ентинск
	ой Корд
	ове вспы
	хивает вос
	стание проти
	в диктатуры.1
	970 — компани
	я Гудзонова 
	залива (одна
	 из самых стар
	ейших в мире 
	фирм из ныне 
	действующих) п
	еренесла свою
	 штаб-квартир
	у из Англии 
	в Канаду.1
	975 — на 
	Белору
	сском 
	автозаводе
	 начато произво
	дство крупнейше
	го в СССР грузо
	вика — «БелАЗ
	-7520».1988 — нач
	ало визит
	а президе
	нта США Р
	ональда 
	Рейгана в
	 СССР.1990 — Б. 
	Н. Ельцин избран Председателем Вер
	ховного Совета РСФСР.
DTSTART;VALUE=DATE:20150528
END:VEVENT
END:VCALENDAR
