BEGIN:VCALENDAR
VERSION:2.0
PRODID:-//IP.Board Calendar 4.0.13.1//EN
METHOD:PUBLISH
CALSCALE:GREGORIAN
X-WR-CALNAME:В этот день в прошлом
BEGIN:VTIMEZONE
TZID:Europe/London
TZURL:http://tzurl.org/zoneinfo/Europe/London
X-LIC-LOCATION:Europe/London
BEGIN:DAYLIGHT
TZOFFSETFROM:+0000
TZOFFSETTO:+0100
TZNAME:BST
DTSTART:20150329T020000Z
RRULE:FREQ=YEARLY;BYMONTH=3;BYDAY=-1SU
END:DAYLIGHT
BEGIN:STANDARD
TZOFFSETFROM:+0100
TZOFFSETTO:+0000
TZNAME:GMT
DTSTART:20151025T020000Z
RRULE:FREQ=YEARLY;BYMONTH=10;BYDAY=-1SU
END:STANDARD
END:VTIMEZONE
BEGIN:VEVENT
SUMMARY:Развилки Дня
DTSTAMP:20150615T100025Z
SEQUENCE:0
UID:2650eee0b31e9403292193c6d4b4e5f4@172.17.0.3
ORGANIZER;CN="ясмин джакмич":fai@fai.org.ru
DESCRIPTION:\n28 маяДо XIX 
	века153
	9 — ис
	панский
	 конкиста
	дор и куб
	инский губ
	ернатор Эр
	нандо де Со
	то вошёл в 
	залив Тамп
	а у берег
	ов Флори
	ды. Его 
	шеститы
	сячный отря
	д пересек 
	территори
	ю современного
	 штата Джордж
	ия и к маю 15
	42 года до
	стиг Мисси
	сипи.1644 
	— в хо
	де Анг
	лийской гр
	ажданской в
	ойны роялис
	ты под кома
	ндованием Дж
	еймса Стэнли\,
	 7-го графа Д
	ерби штурмом
	 взяли Болтон\, 
	произошла так
	 называемая \"
	Болтонская р
	езня\".1722 
	— принят
	о иниции
	рованное 
	Петром I 
	постановл
	ение Святе
	йшего Синод
	а\, предпис
	ывавшее 
	прямое н
	арушение тай
	ны церковно
	й исповеди 
	в интереса
	х государс
	твенной в
	ласти.1742 — 
	в Лондон
	е сооруж
	ён первый
	 крытый пла
	вательный 
	бассейн.175
	4 — прои
	зошёл Жу
	монвильский и
	нцидент\, послуж
	ивший прологом
	 к Франко-инд
	ейской войне.
	XIX век1812 — М
	. И. Кутуз
	ов заклю
	чил Бухар
	естский м
	ир с турками
	\, по которо
	му Россия 
	получила Б
	ессарабию и
	 устье Дуная
	\, а также 
	освободи
	ла южные
	 войска 
	для пре
	дстоящей 
	кампании 
	против Напол
	еона. Закончилась
	 русско-турецкая
	 война\, дливша
	яся с 1806 го
	да.1830 —
	 президе
	нт США Э
	ндрю Джек
	сон подпи
	сал Закон о
	 переселении 
	индейцев\, ко
	торый разреш
	ал изгнание 
	индейцев с их
	 земель и от
	казывал им
	 во всех гр
	ажданских
	 правах и с
	вободах на терр
	итории восточне
	е Миссисипи. Изг
	нание началось в 
	1831 году\; неко
	торые инд
	ейские пле
	мена восст
	али\, некот
	орые пыта
	лись протест
	овать законным
	 путём и обратил
	ись в высший федера
	льный суд\, котор
	ый\, однако\, подт
	вердил\, что 
	они не являютс
	я гражданами С
	ША и потому 
	не защищен
	ы конституцие
	й.1858 — зак
	лючён ру
	сско-кита
	йский Ай
	гунский дог
	овор\, по к
	оторому
	 Амурска
	я область
	 вошла в
	 состав Росс
	ии\, а Уссу
	рийский к
	рай призна
	н совместной
	 собственность
	ю.1863 — в Бос
	тоне созда
	н первый в Аме
	рике полк\, с
	остоящий то
	лько из че
	рнокожих с
	олдат.1871 — 
	после недел
	и кровавых 
	боёв разгромле
	на Парижская ком
	муна. В ходе боёв и 
	казней погибли 25 
	тысяч коммунаров
	\, около 40 тысяч
	 были броше
	ны в тюрьмы и
	ли высланы на 
	каторжные ра
	боты в Новую
	 Каледонию и
	 Алжир.XX ве
	к1904 — П
	осле 
	катаст
	рофичес
	кого пр
	овала в
	 Париж
	е Джако
	мо Пуччи
	ни вперв
	ые предс
	тавил в Бр
	ешии карди
	нально пере
	работанную 
	оперу «Мадам Ба
	ттерфляй»\, кот
	орая имела на 
	этот раз пот
	рясающий успех.
	1905 — разгром
	 русского 
	флота в Ц
	усимском 
	сражении
	.1918Про
	воз
	гла
	шени
	е не
	зав
	иси
	мос
	ти 
	Арм
	ени
	и.Пр
	ово
	згл
	аше
	ние
	 нез
	ави
	сим
	ост
	и Азе
	рбайдж
	ана и 
	образ
	ования
	 Азербай
	джанской
	 Демокра
	тической
	 Республик
	и.В. И. Лен
	ин подпис
	ал декрет 
	о создани
	и погранич
	ной охраны. Пер
	вым был создан
	 Северо-Западный
	 пограничный ок
	руг. 28 мая от
	мечалось 
	вСССР.1919 — 
	в РСФСР созд
	аны войска внут
	ренней охраны рес
	публики (ВОХР).19
	21 — X конферен
	ция РКП(б) принял
	а курс на «Но
	вую экономи
	ческую поли
	тику» (НЭП)
	.1928Из И
	талии
	 в Мо
	скву ве
	рнулся М
	аксим Горьки
	й.Слияние ав
	томобильных 
	концернов «К
	райслер» и 
	«Додж».19
	35 — состоялс
	я первый полёт опытного 
	образца немецкого истр
	ебителя Messerschmitt B
	f.109 — самого
	 массового 
	истребител
	я Второй мир
	овой войны.
	1943 — решени
	ем СНК СС
	СР была вв
	едена особ
	ая форма д
	ля диплома
	тов.1956 — 
	Франция
	 уступила
	 свои прежние
	 колонии Пон
	дишери и Я
	наон в Инд
	ии Индийс
	кому Союзу.1
	957 — в США
	 основана
	 Националь
	ная академия
	 грамзаписи
	\, которая 
	вручает самые
	 престижные н
	аграды в мир
	е музыки — 
	призы «Грэмми».1958ЦК
	 КПСС отменил собст
	венное постановление 
	от 10.02.1948\, в кото
	ром Шоста
	кович\, Пр
	окофьев\, Хач
	атурян\, Шеб
	алин и друг
	ие композит
	оры были о
	бвинены в
	 том\, что
	 разрабатыв
	али «антина
	родное форма
	листическое 
	направление 
	в музыке». 
	1961Последний
	 рейс поезд
	а «Восточный 
	экспресс» из Пар
	ижа в Бухарест\
	; он действовал 
	в течение 78 лет
	.1964 — основа
	на Организа
	ция освобож
	дения Палес
	тины.1970 
	— в З
	ападн
	ой Герман
	ии впервы
	е осуществ
	лена успеш
	ная трансп
	лантация н
	ервной ткан
	и.1976 — п
	одписан
	ие в Мо
	скве д
	оговор
	а межд
	у Сове
	тским Со
	юзом и С
	оединёнными 
	Штатами Амери
	ки о подземных я
	дерных взрывах в
	 мирных целях.19
	82Иоанн Паве
	л II стал 
	первым 
	папой ри
	мским\,
	 посет
	ившим В
	еликобрит
	анию с виз
	итом.Возоб
	новил свои
	 рейсы «Вост
	очный эксп
	ресс». Для 
	первого ре
	йса использ
	овались ваго
	ны\, реконст
	руированные
	 для съемок в 
	фильме Сидни 
	Люмета по мотив
	ам романа Агаты Кристи
	 \"Убийство в Восточ
	ном экспрессе\" 
	(1974)1987 — 
	на Кра
	сной площ
	ади в Мо
	скве при
	землился с
	портивный 
	самолёт Мат
	иаса Руста.1
	995Произо
	шло зем
	летрясен
	ие в Нефт
	егорске\, С
	ахалинск
	ий посёл
	ок Нефт
	егорск б
	ыл полнос
	тью уничт
	ожен.1997
	 — в
	 Кие
	ве Ро
	ссия и У
	краина по
	дписали п
	акет доку
	ментов о 
	разделе 
	Черноморско
	го флота.199
	8 — Пакист
	ан провёл на
	земные испытан
	ия сразу 5 яде
	рных зарядов мощностью 18 кил
	отонн каждый в провинции Балухистан.
DTSTART;VALUE=DATE:20150527
END:VEVENT
END:VCALENDAR
