BEGIN:VCALENDAR
VERSION:2.0
PRODID:-//IP.Board Calendar 4.0.13.1//EN
METHOD:PUBLISH
CALSCALE:GREGORIAN
X-WR-CALNAME:В этот день в прошлом
BEGIN:VTIMEZONE
TZID:Europe/London
TZURL:http://tzurl.org/zoneinfo/Europe/London
X-LIC-LOCATION:Europe/London
BEGIN:DAYLIGHT
TZOFFSETFROM:+0000
TZOFFSETTO:+0100
TZNAME:BST
DTSTART:20150329T020000Z
RRULE:FREQ=YEARLY;BYMONTH=3;BYDAY=-1SU
END:DAYLIGHT
BEGIN:STANDARD
TZOFFSETFROM:+0100
TZOFFSETTO:+0000
TZNAME:GMT
DTSTART:20151025T020000Z
RRULE:FREQ=YEARLY;BYMONTH=10;BYDAY=-1SU
END:STANDARD
END:VTIMEZONE
BEGIN:VEVENT
SUMMARY:Развилки Дня
DTSTAMP:20150615T100726Z
SEQUENCE:0
UID:206cbb0f9456d16735cee779a56a08b2@172.17.0.3
ORGANIZER;CN="ясмин джакмич":fai@fai.org.ru
DESCRIPTION:\n27 маяДо XVIII 
	века119
	9 — 
	римск
	ий папа И
	ннокентий
	 обложил п
	ервым прям
	ым папским 
	налогом Духо
	венство.1328 — 
	после смерти 
	младшего сына
	 Филиппа IV К
	расивого —
	 Карла IV К
	расивого\, 
	который 
	стал пос
	ледним п
	редстави
	телем дин
	астии Кап
	етингов\, н
	а французс
	кий престол
	 вступил д
	воюродный брат
	 Карла Филипп
	 VI — первый к
	ороль из дин
	астии Валу
	а.1647 — в 
	штате М
	ассачусе
	тс казнен
	а (повеше
	на) перв
	ая вед
	ьма — Э
	лси Янг 
	1657 — С
	вященн
	ая Рим
	ская импе
	рия обяза
	лась помо
	чь Польше в бор
	ьбе с украинским казачес
	твом.1679 — в Англии приня
	т Habeas Corpus Act — акт о га
	рантиях прав лично
	сти.XVIII век[пр
	авить | прав
	ить вики-тек
	ст]1703 — з
	аложена 
	Петропавлов
	ская крепос
	ть. День ос
	нования 
	города 
	Санкт-П
	етербу
	рга.17
	94 
	—
	 и
	м
	п
	е
	р
	а
	т
	р
	и
	ца
	 Е
	ка
	те
	ри
	на
	 І
	І 
	изда
	ла ре
	скрипт
	 об утв
	ерждении
	 первого
	 генераль
	ного план
	а города О
	дессы.1795
	 — ос
	нован
	а пер
	вая г
	осуд
	арств
	енная
	 общедо
	ступна
	я библи
	отека 
	в Росс
	ии — И
	мператорска
	я публичная б
	иблиотека (Ро
	ссийская национа
	льная библиотека
	).XIX век[правит
	ь | правит
	ь вики-текст]
	1821 — основ
	ана Нико
	лаевская 
	астрономи
	ческая обсерв
	атория.1844 — 
	послана первая
	 депеша в форме а
	збуки Морзе - \"
	Чудны дела Тв
	ои\, Господи
	\"1895 — англ
	ийский из
	обретател
	ь Бирт Акр
	ес запатентова
	л кинопроектор
	.XX век[править | 
	править вики-
	текст]1905 — н
	ачало Цуси
	мского сраж
	ения.1913 —
	 в Петер
	бурге пе
	рвый в м
	ире тяж
	ёлый м
	ногом
	оторны
	й самол
	ёт «Рус
	ский ви
	тязь» ко
	нструкции 
	Игоря Сикор
	ского успешн
	о прошёл испы
	тания в полёте
	. Через два с
	 половиной мес
	яца он установил ми
	ровой рекорд\, прод
	ержавшись в воздух
	е 1 час 54 мин. с
	 семью пасс
	ажирами.1
	916 — през
	идент США
	 Вудро Ви
	льсон при
	звал после
	 войны соз
	дать Лигу Н
	аций.1921 
	— Афган
	истан ста
	л независи
	мым госуда
	рством.192
	2 — Ват
	икан выст
	упил с ре
	зкой кр
	итикой план
	ов создания
	 еврейског
	о государс
	тва на тер
	ритории П
	алестины.1
	930 — Р
	ичард 
	Дрю за
	патент
	овал «п
	розрачн
	ую целло
	фановую 
	липкую л
	енту» — 
	скотч. Новинку
	 использовали 
	для защиты сте
	кла автомашин
	ы при покрас
	ке.1931 — 
	первы
	й в мир
	е полёт
	 челове
	ка на стра
	тостате со
	вершили шв
	ейцарские у
	чёные О. Пик
	ар и П.Кипфе
	р.1937 — в
	 Сан-Фр
	анциско
	 торжеств
	енно открыл
	ся мост «Золотые
	 ворота» — один и
	з красивейших в ми
	ре. Мост длиной 1
	280 метров с 
	шестью ряд
	ами движен
	ия и двумя
	 пешеходными д
	орожками подв
	ешен на двух г
	лавных канатах 
	толщиной 93 см\, зак
	реплённых на ста
	льных опорах высо
	той 227 м.1940пер
	вое поку
	шение н
	а Льва 
	Троцко
	го\, ок
	ончи
	вшее
	ся не
	удач
	ей.Ко
	роль
	 Бель
	гии п
	одпис
	ал ак
	т о к
	апиту
	ляции
	.нача
	лась 
	операц
	ия «Динам
	о» (эваку
	ация из Д
	юнкерка 
	английски
	х экспедици
	онных часте
	й). Это соб
	ытие оказа
	ло колоссальное
	 влияние на даль
	нейший ход Втор
	ой мировой войн
	ы.1941 — в 400
	 милях 
	к запад
	у от ф
	ранц
	узск
	ого по
	бережья б
	ританским фл
	отом был потоплен
	 германский линкор
	 «Бисмарк». Из 2221 ч
	лена команды 2106 не
	мецких моряков по
	гибли\, спасено б
	ыло всего лишь 
	115 человек.
	 После э
	того боя
	 команду
	ющий бри
	танским
	 Хоум-фл
	итом ад
	мирал Дж
	он Товинап
	исал в сво
	их мемуар
	ах: «Бисмар
	к» дал самы
	й героически
	й бой при са
	мых невозм
	ожных условиях
	\, достойный ста
	рых дней Импер
	ского немецкого 
	Флота\, и он у
	шёл под вод
	у с подня
	тым флаг
	ом\". Ги
	бель 
	линко
	ра «Б
	исмарк
	» положи
	ла конец 
	наступат
	ельной ак
	тивности
	 немецко
	го надво
	дного фл
	ота\,гер
	манский вое
	нно-морско
	й флот ско
	нцентриров
	ал усилия н
	а подводн
	ой войне.1
	949 — в Мо
	скве закр
	ыт Камерный
	 театр режи
	ссёра Алек
	сандра Таи
	рова\, «кот
	орый на 
	деле яв
	лялся н
	осителем
	 буржуазн
	о-космопол
	итических 
	и формалис
	тических тен
	денций»\, кол
	лектив «не об
	рёл нового 
	творческог
	о лица и не сум
	ел твердо в
	стать на п
	уть социа
	листического и
	скусства».1950 
	— теледебют
	 Фрэнка Синат
	ры на канале 
	NBC. На первы
	х порах он в
	ыступал вме
	сте с легенд
	арным комик
	ом Бобом Хоупо
	м.1956 — откры
	та советск
	ая полярна
	я станция «Пио
	нерская».1960 —
	 в Турции совершён
	 военный переворот.1
	971 — в присутстви
	и 103000 зрителей\,
	 состоялся 
	прощальный
	 матч Льва 
	Яшина. В это
	м матче сб
	орная клу
	бов всесою
	зного спорто
	бщества «Динам
	о» (в матче участ
	вовали мастера и
	з Москвы\, Киева и
	 Тбилиси)\, игра
	ла против сбо
	рной звёзд Ми
	ра\, за котор
	ую играли Эй
	себио\, Бобб
	и Чарльтон\, Герд М
	юллер и многие
	 другие. Игра о
	кончилась счё
	том 2:2.1973 
	— СССР при
	соединился 
	к Женевско
	й конвенции 
	об охране авт
	орских прав.
	 1977утверж
	дён Государст
	венный гимн СССР
	\, просущество
	вавший до рас
	пада СССР в 
	1991.1989 — Юр
	ий Афана
	сьев на 
	съезде на
	родных д
	епутатов ССС
	Р выступил 
	с речью об 
	«агрессив
	но-послушно
	м большинст
	ве».1992 — 
	страны Б
	ольшой С
	емёрки п
	риняли р
	ешение 
	о создан
	ии специаль
	ного фонда д
	ля поддерж
	ания падаю
	щего росс
	ийского р
	убля.1993 — 
	отмена в
	 России 
	уголовн
	ого пре
	следовани
	я за мужел
	ожство.199
	7 — в Па
	риже под
	писан Ос
	новопола
	гающий акт о взаимных
	 отношениях между Российской Феде
	рацией и НАТО.
DTSTART;VALUE=DATE:20150526
END:VEVENT
END:VCALENDAR
