BEGIN:VCALENDAR
VERSION:2.0
PRODID:-//IP.Board Calendar 4.0.13.1//EN
METHOD:PUBLISH
CALSCALE:GREGORIAN
X-WR-CALNAME:В этот день в прошлом
BEGIN:VTIMEZONE
TZID:Europe/London
TZURL:http://tzurl.org/zoneinfo/Europe/London
X-LIC-LOCATION:Europe/London
BEGIN:DAYLIGHT
TZOFFSETFROM:+0000
TZOFFSETTO:+0100
TZNAME:BST
DTSTART:20150329T020000Z
RRULE:FREQ=YEARLY;BYMONTH=3;BYDAY=-1SU
END:DAYLIGHT
BEGIN:STANDARD
TZOFFSETFROM:+0100
TZOFFSETTO:+0000
TZNAME:GMT
DTSTART:20151025T020000Z
RRULE:FREQ=YEARLY;BYMONTH=10;BYDAY=-1SU
END:STANDARD
END:VTIMEZONE
BEGIN:VEVENT
SUMMARY:Развилки Дня
DTSTAMP:20150615T101215Z
SEQUENCE:0
UID:59cbaf39982017b38298465be25398e6@172.17.0.3
ORGANIZER;CN="ясмин джакмич":fai@fai.org.ru
DESCRIPTION:\n26 маяДо XIX
	 века17 — 
	Германик п
	олучает вт
	орой триумф
	 после поход
	а против ма
	рсов.451 — 
	битва на Ав
	арайрской
	 равнине\,
	 закончивш
	аяся побе
	дой сасан
	идской армии 
	и гибелью Вар
	дана Мамиконя
	на\, предводит
	еля восставших
	[4]. Несмотря н
	а военное пор
	ажение армян
	ского войска
	\, армянские
	 авторы ут
	верждают\, 
	что сражен
	ие завершил
	ось моральн
	ой победой
	 восставших\,
	 защитивших 
	своё право 
	на исповед
	ование хри
	стианства.1093
	 — битва н
	а Стугне м
	ежду русскими
	 князьями и п
	оловцами.113
	5 — в Леон
	ском соборе 
	Альфонсо VII к
	ороновался к
	ак Императо
	р всей Испа
	нии.1232 — Па
	па Григорий 
	IX послал пер
	вых инквизит
	оров в Арагон\,
	 положив начал
	о тому\, что 
	через два век
	а войдёт в 
	историю по
	д названи
	ем Испанска
	я инквизиция
	.1521 — импер
	атор Карл
	 V подпис
	ал Ворм
	сский эд
	икт\, предпи
	сывавший а
	рест рели
	гиозного 
	реформат
	ора Марти
	на Лютера
	.1573 — в
	 Нижн
	их Зе
	млях Исп
	анский ф
	лот разг
	ромил морс
	ких гёзов 
	в сражении 
	в Харлеммер
	мере.1637 —
	 Пекотск
	ая война:
	 совмест
	ный отряд
	 англича
	н и мох
	еганов 
	под кома
	ндование
	м Джона М
	ейсона на
	пали на дер
	евню Пекото
	в перебив вс
	ех жителей числ
	ом шесть или се
	мь сотен\, в осно
	вном составлявш
	их женщин\, де
	тей и старик
	ов.1642 — и
	спански
	е войска
	 под ком
	андованием 
	Франсиско де
	 Мело разгро
	мили французо
	в в битве пр
	и Онкуре.1
	644 — в х
	оде Португ
	альской во
	йны за не
	зависимо
	сть произ
	ошла Битва
	 при Монтихо.1
	648 — Богда
	н Хмельни
	цкий раз
	бил поляк
	ов под Кор
	сунем.1679
	 — ан
	глийск
	им парл
	аментом п
	ринят закон Хабеас
	 Корпус (Закон о неприкосновен
	ности личности\, Habeas Corpu
	s Act)\, один из осно
	вных консти
	туционных а
	ктов.1707 — 
	в ходе 
	Войны за ис
	панское 
	наследство
	 силы бурбон
	ской коалици
	и взяли Сараг
	осу.1768 — Е
	катерина 
	II дала у
	стное 
	повелен
	ие своему л
	ичному се
	кретарю 
	Бецкому о
	 постанов
	ке монуме
	нта Петра I 
	1799 — взятие Т
	урина русск
	ими войсками
	 Александра
	 Суворова.XI
	X век1805 
	— пр
	авитель 
	Карабаха И
	брагим-хан 
	торжественно
	 присягнул на
	 верность Росси
	и.1829 — бой б
	рига «Мерк
	урий» с ту
	рецкими к
	ораблями
	.1831 — пол
	ьские во
	йска\, разби
	тые русской 
	гвардией по
	д Остроленко
	й\, отступают
	 к Варшаве
	.1865 — сда
	ча ост
	атков
	 арми
	и Юга 
	под ко
	мандова
	нием генера
	ла Кэрби См
	ита в ходе
	 окончани
	я Гражданской
	 войны в США.186
	8 — послед
	няя публич
	ная казнь 
	в Англии.1
	887 — отк
	рыта дл
	я пассажир
	ов основная л
	иния Канадс
	кой Тихоокеанс
	кой железной дор
	оги.XX век1905 
	— в Каннах
	 покончил с
	 собой один из 
	самых богат
	ых людей Ро
	ссии\, меце
	нат Сав
	ва Мороз
	ов.1908 
	— в 
	Перс
	ии ан
	глийс
	кий б
	изнесмен 
	Уильям Д
	’Арси начал
	 добывать первую
	 на Ближнем Вос
	токе нефть.190
	9 — дирижабль
	 LZ-6\, впервые
	 использованн
	ый гражданско
	й авиакомпани
	ей\, совершил 
	свой первый 
	полёт.1918 
	— Закавка
	зская Фед
	ерация р
	аспалась на
	 три незави
	симые респ
	ублики: Гр
	узию\, Армен
	ию и Азербайд
	жан.1923 — во Фран
	ции прошла перва
	я автогонка «24 
	часа Ле Мана
	».1924 — п
	ервый полёт 
	первого сов
	етского це
	льнометалл
	ического са
	молёта АНТ-2.
	1928 — на з
	аседании
	 ФИФА при
	нято решение 
	проводить ра
	з в четыре г
	ода чемпио
	наты мира 
	по футбол
	у.1931 
	— 
	в Х
	арб
	ине
	 со
	здан
	а кр
	упнейша
	я организ
	ация рус
	ского за
	рубежья 
	— Россий
	ская фашис
	тская парт
	ия.1938 — в
	 городе
	 Вольфс
	бург А
	дольф Г
	итлер 
	лично зал
	ожил перв
	ый камень 
	под завод
	скую новост
	ройку — «Фоль
	ксваген». К конц
	у войны на заводе 
	трудились 9 тысяч
	 человек\, с кон
	вейера сходило 63
	0 автомобилей. Н
	о главной продук
	цией тогда были 
	70 тысяч различн
	ых судов\, ло
	док\, ковш
	овых экск
	аваторов.1947 
	— в СССР отмен
	ена смертная ка
	знь (восстановл
	ена в 1950 году).1
	948 — в ЮА
	Р объявл
	ено начало
	 политики 
	апартеида
	.1955 — Ч
	арльзом Э
	вансом поко
	рена третья по 
	высоте вершина
	 мира — Канче
	нджанга (8585 
	метров). С н
	им вместе 
	совершили
	 восхожден
	ие Нормэн
	 Харди и Т
	они Стритер.
	1972В Москве 
	подписаны 
	«Основы вз
	аимоотнош
	ений между
	 СССР и СШ
	А». Нача
	ло пол
	итик
	и «ра
	зрядк
	и».В 
	Берл
	ине 
	подпи
	сан тр
	анспор
	тный до
	говор 
	между ГДР 
	и ФРГ — пе
	рвый государств
	енный договор межд
	у этими странами
	.1980 — запущен
	 Союз-36\, c пер
	вым космо
	навтом Венг
	рии Бертала
	ном Фаркашем.
	1987 — приня
	т Закон о 
	кооперати
	вах\, пред
	оставля
	ющий ещё бол
	ьше возмож
	ностей для
	 индивиду
	альной т
	рудовой 
	деятельн
	ости.1990 —
	 учредите
	льная конф
	еренция Де
	мократическ
	ой партии Рос
	сии (ДПР)\; осн
	ователем и п
	ервым предс
	едателем пар
	тии был Н. И
	. Травкин.
	1995 — со
	стоялось
	 торжест
	венное с
	нятие гр
	аниц меж
	ду Росс
	ией и Бел
	оруссией.1
	999 — индий
	ская арми
	я начинает
	 операцию «Виджа
	й» в штате Джамму и Кашмир. Начало
	 Каргильской войны. \n
DTSTART;VALUE=DATE:20150525
END:VEVENT
END:VCALENDAR
