BEGIN:VCALENDAR
VERSION:2.0
PRODID:-//IP.Board Calendar 4.0.13.1//EN
METHOD:PUBLISH
CALSCALE:GREGORIAN
X-WR-CALNAME:В этот день в прошлом
BEGIN:VTIMEZONE
TZID:Europe/London
TZURL:http://tzurl.org/zoneinfo/Europe/London
X-LIC-LOCATION:Europe/London
BEGIN:DAYLIGHT
TZOFFSETFROM:+0000
TZOFFSETTO:+0100
TZNAME:BST
DTSTART:20150329T020000Z
RRULE:FREQ=YEARLY;BYMONTH=3;BYDAY=-1SU
END:DAYLIGHT
BEGIN:STANDARD
TZOFFSETFROM:+0100
TZOFFSETTO:+0000
TZNAME:GMT
DTSTART:20151025T020000Z
RRULE:FREQ=YEARLY;BYMONTH=10;BYDAY=-1SU
END:STANDARD
END:VTIMEZONE
BEGIN:VEVENT
SUMMARY:Развилки Дня
DTSTAMP:20150615T101710Z
SEQUENCE:0
UID:94ffe20047ff65281d80984d85549457@172.17.0.3
ORGANIZER;CN="ясмин джакмич":fai@fai.org.ru
DESCRIPTION:\n25 маяДо XIX века549
	3 до н. э. — ус
	ловная дат
	а сотворе
	ния мира\, от 
	которой вела 
	летосчислени
	е александрий
	ская хронология.1
	468 до н. э. — поб
	еда египетско
	го фараона Тут
	моса III в битв
	е при Мегиддо
	.996 — в Киев
	е освящена
	 первая на Ру
	си каменна
	я церковь 
	во имя Успен
	ия Пресвятой 
	Богородицы\,
	 знаменита
	я Десятинн
	ая церковь.108
	5 — Альфон
	со VI Храб
	рый отво
	евал Тол
	едо у мус
	ульман.142
	0 — Энр
	ике Мореп
	лаватель 
	стал велики
	м магистром Ор
	дена Христа. Эт
	у должность о
	н занимал до ко
	нца своих дне
	й.1521 — зак
	ончился В
	ормсский 
	рейхстаг\
	, на кот
	ором и
	зданн
	ый Ворм
	сский э
	дикт\, 
	объявив
	ший Мар
	тина Лю
	тера ере
	тиком и пре
	ступником и 
	запретивши
	й издание и
	 распростра
	нение его тр
	удов.1579 — 
	Иван Грозн
	ый отправи
	л грамоту д
	онским казака
	м (этот день счи
	тается Днём 
	основания Д
	онского каз
	ачества).15
	92 — в х
	оде н
	ачавшейс
	я Имджин
	ской войн
	ы японск
	ая армия вз
	яла крепости
	 Пусан и Тон
	нэ.1659 — Л
	орд-проте
	ктор Англии\
	, Шотландии 
	и Ирланди
	и Ричард К
	ромвель под
	ал в отставку
	.1666 — прот
	опоп Авва
	кум Петро
	в вместе с 
	дьяконом 
	Фёдором и 
	суздальск
	им священн
	иком Никитой 
	закованы и о
	тправлены в 
	Николо-Угре
	шский монастырь.
	 1731 — открыто 
	судоходство по
	 Ладожскому ка
	налу.1734 — в
	 ходе войн
	ы за Войн
	ы за пол
	ьское н
	аследст
	во на ит
	альянско
	м театре 
	боевых дей
	ствий про
	изошла Б
	итва при 
	Битонто
	 в котор
	ой испан
	ские во
	йска\, возг
	лавляемые
	 графом Мон
	темар полн
	остью разг
	ромили авс
	трийцев.1
	787 — в
	 Фил
	аде
	льфи
	и по
	д пред
	седате
	льство
	м Джорд
	жа Ваши
	нгтона
	 собрался К
	онституционный К
	онвент\, чтобы вы
	работать Констит
	уцию США.XIX век18
	09 — в город
	е Чукисака
	 (ныне Су
	кре\, Бо
	ливия
	) на 
	тер
	рит
	ории
	 Королев
	ской ауди
	енсии Чар
	кас начал
	ось восстан
	ие — Револю
	ция Чукисаки.
	1810 — в ви
	це-корол
	евстве 
	Рио-де-л
	а-Плат
	а (пр
	едшес
	твенн
	ик со
	време
	нной 
	Аргент
	ины) пр
	оизошла
	 Майска
	я револ
	юция — 
	группа 
	революц
	ионеров
	 смести
	ла вице
	-корол
	я и с
	фор
	миро
	вала
	 Пер
	вую х
	унту 
	— пер
	вое самост
	оятельное
	 правител
	ьство Сое
	динённых п
	ровинций Юж
	ной Америки
	.1895 — Оска
	р Уайльд о
	суждён лондо
	нским судом з
	а «аморальное
	 поведение» (св
	язь с мужчиной) и 
	приговорён к двум 
	годам каторжных р
	абот.XX век1917 — отк
	рылся III съезд п
	артии эсеров в
	 Москве.1919 —
	 на Красной
	 площади 
	в Москве со
	стоялся пе
	рвый парад
	 физкульт
	урников и 
	отрядов 
	Всевобуча.
	1926 — в Па
	риже евр
	ейским те
	ррористо
	м Шаломом
	 Шварцбар
	дом в от
	местку з
	а еврейс
	кие пог
	ромы на
	 Украине уб
	ит украинс
	кий полит
	ический и 
	военный д
	еятель Си
	мон Петлю
	ра.1928 —
	 дирижа
	бль «Ита
	лия» (руко
	водитель
	 экспедиции
	 генерал Ум
	берто Нобил
	е) потерпел
	 аварию в
	о льдах 
	Арктики. До
	 этого экс
	педиция б
	лагополу
	чно дости
	гла Северног
	о полюса\, на 
	который сброс
	ила флаги Италии
	 и Милана.1935Дже
	сси Оуэнс в т
	ечение 45 минут
	 установил 4 мир
	овых рекорда п
	о лёгкой атлети
	ке. В прыжках в дл
	ину\, где Оуэнс вп
	ервые преодоле
	л рубеж 8 м\, е
	го рекорд про
	держался 25 ле
	т.Упразднено
	 Общество ст
	арых большев
	иков.1939 — п
	ервые в с
	тране ис
	пытания систе
	мы автоматичес
	кого взлёта и 
	посадки тяж
	ёлого самол
	ёта ТБ-1.1946 —
	 провозгл
	ашена нез
	ависимос
	ть Иордании от
	 Англии.1953Первы
	й полёт истребит
	еля-бомбардиров
	щика F-100 «Супер Сейбр»
	.1955 — британские альпинисты Дж
	ордж Бэнд (George Band) и Джо Брау
	н (Joe Brown) совершили
	 первое успешное 
	восхождение на 
	Канченджангу (85
	86 м).1956 — указ
	 Президиума 
	Верховного Со
	вета СССР об ус
	тановлении с 1 
	июля 6-часового ра
	бочего дня для рабоч
	их и служащих в возр
	асте 16—18 лет.19
	63 — на I ко
	нференци
	и госуда
	рств и 
	правит
	ельств
	 африка
	нских с
	тран в Ад
	дис-Абебе
	 была со
	здана Орг
	анизация а
	фриканског
	о единства
	 (ОАЕ). По реш
	ению ООН эт
	от день объя
	влен Днём ос
	вобождения 
	Африки.1977 — в
	 кинотеатрах н
	ачался показ фил
	ьма «Звёздные вой
	ны. Эпизод IV: Н
	овая надежд
	а».1982 — Фо
	лклендская во
	йна: потоплен кон
	тейнеровоз «Атлан
	тик Конвейор»\, по
	гибли 20 человек.1
	983 — на экраны С
	ША вышел фильм «Звёз
	дные войны. Эпизод VI. 
	Возвращение джедая
	».1987 — в 15 часо
	в 59 минут 
	атомный
	 ледоко
	л «Сибир
	ь» дости
	г Северно
	го полюса 
	планеты. Ру
	ководитель э
	кспедиции А. 
	Чилингаров\,
	 капитан ле
	докола — З.
	 Вибах. Во 
	время пл
	авания был
	а эвакуирован
	а дрейфующая н
	аучная станция
	 «Северный по
	люс — 27»\, а 
	позже в мор
	е Лаптевых 
	высажена н
	овая — «Се
	верный полю
	с — 29». Дес
	ятью годами 
	ранее полюс п
	окорился ато
	мному ледоколу
	 «Арктика».198
	9 — открыт
	 I Съезд на
	родных деп
	утатов СССР.
	 Председателе
	м Верховного
	 Совета СССР
	 избран М. 
	С. Горбачёв
	.1990 — Н. 
	И. Рыжк
	овым пр
	едставлена программ
	а перехода к «регулируемой рыночной эк
	ономике». \n
DTSTART;VALUE=DATE:20150524
END:VEVENT
END:VCALENDAR
