BEGIN:VCALENDAR
VERSION:2.0
PRODID:-//IP.Board Calendar 4.0.13.1//EN
METHOD:PUBLISH
CALSCALE:GREGORIAN
X-WR-CALNAME:В этот день в прошлом
BEGIN:VTIMEZONE
TZID:Europe/London
TZURL:http://tzurl.org/zoneinfo/Europe/London
X-LIC-LOCATION:Europe/London
BEGIN:DAYLIGHT
TZOFFSETFROM:+0000
TZOFFSETTO:+0100
TZNAME:BST
DTSTART:20150329T020000Z
RRULE:FREQ=YEARLY;BYMONTH=3;BYDAY=-1SU
END:DAYLIGHT
BEGIN:STANDARD
TZOFFSETFROM:+0100
TZOFFSETTO:+0000
TZNAME:GMT
DTSTART:20151025T020000Z
RRULE:FREQ=YEARLY;BYMONTH=10;BYDAY=-1SU
END:STANDARD
END:VTIMEZONE
BEGIN:VEVENT
SUMMARY:Развилки Дня
DTSTAMP:20150615T102155Z
SEQUENCE:0
UID:00b8e51016cadd2fceb435b193e224e1@172.17.0.3
ORGANIZER;CN="ясмин джакмич":fai@fai.org.ru
DESCRIPTION:\n24 маяДо XX 
	века1032 — 
	Авиценна н
	аблюдал и опи
	сал прохожде
	ние Венеры по 
	диску Солнца
	.1276 — Магн
	ус I Ладулос 
	коронован к
	ак король Ш
	веции в К
	афедральн
	ом соборе 
	Уппсалы.1
	487 — са
	мозван
	ец Ламбе
	рт Симнел 
	коронован 
	в Дублинск
	ом соборе 
	в качестве
	 короля Анг
	лии.1571 — Крым
	ский хан Де
	влет-Гирей 
	захватывает
	 Москву и сж
	игает её.16
	26 — ди
	ректо
	р Новы
	х Нидер
	ландов П
	етер Минёй
	т купил у инд
	ейцев остро
	в Манхэтте
	н за вещи с
	тоимостью
	 60 гульде
	нов.1667 
	— Фран
	ция развя
	зала Девол
	юционную в
	ойну проти
	в Испании.1
	705 — Пёт
	р I изда
	л указ 
	о разр
	ешени
	и Ники
	те Демид
	ову строит
	ь металлур
	гические з
	аводы в Кунг
	урском районе 
	на Урале.1798
	 — начал
	ось Ирлан
	дское восс
	тание 1798 го
	да подго
	товленное
	 Обществом
	 Объединённ
	ых Ирландцев.
	1819 — америка
	нский колёс
	ный пароход «
	Саванна» отпр
	авился в 5 ут
	ра из одноимён
	ного города в
	 первый рейс че
	рез Атлантич
	еский океан.1
	822 — после
	 Битвы пр
	и Пичинч
	а\, выи
	гранн
	ой Ан
	тонио 
	Хосе Су
	кре фа
	ктическ
	и перес
	таёт с
	ущест
	вовать
	 Корол
	евская
	 аудиен
	сия Ки
	то. Те
	ррито
	рия н
	ынеш
	него Эк
	вадора по
	лучила не
	зависимост
	ь от Испани
	и и стала ча
	стью Колум
	бии.1826 — 
	импера
	тор Ни
	колай I
	 издал ман
	ифест о н
	езыблем
	ости крепо
	стного прав
	а в Российс
	кой Империи.1
	829 — император
	 Николай I в В
	аршаве корон
	овался на П
	ольский пр
	естол.1830н
	ачала работ
	у старейша
	я в США ж
	елезнодо
	рожная вет
	ка «Балти
	мор и Огайо
	».1844 — те
	леграфом Мо
	рзе отправлен
	а первая телегра
	мма из Вашингтона в Б
	алтимор - \"Чудны дел
	а Твои\, Господи\
	".1856 — Резня в 
	Потаватоми\,
	 организова
	нная Джоном
	 Брауном.1866 —
	 цензурой пр
	иостановлено
	 издание журн
	ала «Современ
	ник».1900 — в С
	анкт-Пете
	рбурге в
	 Новом А
	дмиралт
	ействе сп
	ущен на во
	ду при участ
	ии Николая Второ
	го крейсер «Аврора»\,
	 вступивший в строй
	 в 1903 году. XX 
	век1910 
	— пе
	рвый 
	офиц
	иально з
	арегистри
	рованный п
	олёт аэроплана
	 русской конструкци
	и «Гаккель-III» на ра
	сстояние около 200
	 метров.1911 —
	 в России б
	ыл осущес
	твлён перв
	ый в мире п
	оиск подл
	одки с аэроплан
	а. Лейтенант Даб
	овский на аэроп
	лане с высоты б
	олее 1000 мет
	ров про
	извёл 
	обслед
	ование 
	бухт и м
	орского
	 побережья
	 от Севасто
	поля до Х
	ерсонесског
	о маяка и от него
	 до реки Качи.1914 —
	 перелёт Киев — Г
	атчина (1277 км за 
	7 часов 45 мину
	т лётного в
	ремени) П. Н. Не
	стерова с механ
	иком Г. М. Нелид
	овым на «Ньюпор
	е-IV».1932 — о
	ткрыто
	 регул
	ярное поч
	тово-груз
	овое воз
	душное с
	ообщение
	 между Л
	енинградом 
	и Москвой.193
	5 — первая
	 дозаправк
	а самолёта-буксир
	овщика П-5 топливо
	м с буксируемог
	о им планера 
	Г-14.1941 —
	 рано
	 утро
	м в 
	Датс
	ком 
	про
	лив
	е ге
	рман
	ский
	 лин
	кор «Би
	смарк» п
	отопил го
	рдость бри
	танского фло
	та линейный 
	крейсер «Худ»
	.1945 — Сражени
	е при Лясе 
	Стоцком\
	, крупн
	ое бо
	естол
	кнове
	ние\,
	 в к
	от
	ор
	ом
	 п
	ол
	ьс
	ки
	е а
	нти
	ком
	мун
	ист
	иче
	ские
	 пар
	тиза
	ны Ар
	мии К
	райо
	вой 
	под 
	кома
	ндование
	м Мариана
	 Бернацяка
	 нанесли 
	поражени
	е войскам
	 госбезопасн
	ости.1949 — п
	уск первой
	 советско
	й геофизи
	ческой рак
	еты В-1А. Н
	ачало регу
	лярных на
	учных ис
	следован
	ий верхних
	 слоёв ат
	мосферы.19
	56 — в 
	швейцарско
	м Лугано п
	рошёл первый
	 в истории 
	Конкурс пе
	сни Евровиде
	ния.1960 — с
	остоялся 
	первый по
	лёт пассажи
	рского самолё
	та Ту-124 констру
	кции ОКБ А. Н. 
	Туполева\, экипаж 
	А. Д. Калины.197
	5 — полёт космиче
	ского корабля Со
	юз-18. Вторая эк
	спедиция на
	 Салют-4.197
	7 — пл
	енум 
	ЦК КПС
	С одо
	брил п
	роект 
	новой 
	Консти
	туции С
	ССР и р
	екоменд
	овал Пр
	езидиуму
	 Верховного С
	овета СССР вы
	нести его на 
	всенародное
	 обсуждение
	 в СССР.198
	2Пленум
	 ЦК КПС
	С прин
	ял Про
	доволь
	ственну
	ю програм
	му для пр
	еодолени
	я товарно
	го дефици
	та.Ирано-
	иракская
	 война: ир
	анская арми
	я освободи
	ла город Хо
	рремшехр от
	 иракской окк
	упации.1989 
	— на экраны
	 США вышел ф
	ильм «Индиан
	а Джонс и по
	следний кр
	естовый п
	оход».19
	92 — в
	 праз
	дник 
	славя
	нской 
	письме
	нности 
	в центр
	е Москв
	ы на Сла
	вянской п
	лощади (
	бывшая пл
	ощадь Ног
	ина) тор
	жествен
	но открыт 
	памятник
	 братьям 
	Кириллу 
	и Мефоди
	ю (скул
	ьптор В
	ячеслав
	 Клыков
	). В У
	спенс
	ком соб
	оре Мо
	сковск
	ого Кре
	мля со
	стоялос
	ь торже
	ственное б
	огослужени
	е.1993 — Эр
	итрея по
	лучила не
	зависимость
	 от Эфиопии.
	2000 — Гос
	ударств
	енная ду
	ма РФ при
	няла поп
	равку\, запр
	ещающую пропаганду наркотиков и с
	пособов их приготовления. \n
DTSTART;VALUE=DATE:20150523
END:VEVENT
END:VCALENDAR
