BEGIN:VCALENDAR
VERSION:2.0
PRODID:-//IP.Board Calendar 4.0.13.1//EN
METHOD:PUBLISH
CALSCALE:GREGORIAN
X-WR-CALNAME:В этот день в прошлом
BEGIN:VTIMEZONE
TZID:Europe/London
TZURL:http://tzurl.org/zoneinfo/Europe/London
X-LIC-LOCATION:Europe/London
BEGIN:DAYLIGHT
TZOFFSETFROM:+0000
TZOFFSETTO:+0100
TZNAME:BST
DTSTART:20150329T020000Z
RRULE:FREQ=YEARLY;BYMONTH=3;BYDAY=-1SU
END:DAYLIGHT
BEGIN:STANDARD
TZOFFSETFROM:+0100
TZOFFSETTO:+0000
TZNAME:GMT
DTSTART:20151025T020000Z
RRULE:FREQ=YEARLY;BYMONTH=10;BYDAY=-1SU
END:STANDARD
END:VTIMEZONE
BEGIN:VEVENT
SUMMARY:Развилки Дня
DTSTAMP:20150615T102554Z
SEQUENCE:0
UID:26933c82cac26f0241f6053055511b9e@172.17.0.3
ORGANIZER;CN="ясмин джакмич":fai@fai.org.ru
DESCRIPTION:\n23 маяДо XX
	 века1
	592 — 
	в Ве
	неци
	и инк
	визиц
	ией аресто
	ван италья
	нский филос
	оф Джордано Бр
	уно\, обвинённы
	й в ереси.16
	18 — Праж
	ская Дефенес
	трация - Офиц
	иальная дат
	а начала Тр
	идцатилетне
	й войны.1666 —
	 по решени
	ю Собора 
	правосл
	авной це
	ркви расс
	трижен и 
	предан ц
	ерковному
	 проклятию про
	топоп Авваку
	м Петров. Нача
	ло церковного ра
	скола на Руси.18
	62 — Сражен
	ие при Фрон
	т Роял.18
	77 — про
	возглашение
	 полной нез
	ависимости
	 Румынского
	 княжества от
	 Турции.XX ве
	к1904 — в В
	ене открыл
	ся первый чем
	пионат мира 
	по греко-р
	имской (кл
	ассической
	) борьбе.19
	15 — Ит
	алия объяви
	ла войну Авст
	ро-Венгрии и вст
	упила в Первую мирову
	ю войну.1924 — в Моск
	ве открылся XIII 
	съезд РКП(б)
	.1928 — стар
	т экспедиц
	ии на дириж
	абле «Ита
	лия» к Се
	верному по
	люсу Земли.1
	934 — первы
	й полёт э
	ксперимен
	тальной к
	рылатой рак
	еты\, спрое
	ктированной 
	под руководств
	ом С. П. Корол
	ева в ГИРД\, о
	снащённой ГРД.
	1949 — вступил в 
	силу Основно
	й закон ФРГ 
	(конституци
	я)\, таким об
	разом\, была
	 провозглашена
	 Федеративная
	 республика Гер
	мания.1953 — в т
	ечение 48 час
	ов в Литве а
	рестованы и 
	депортирова
	ны почти 37 т
	ысяч крестьян\
	, отказывавши
	хся вступить 
	в колхозы (о
	перация «Ве
	сна»).1980 — 
	в США на 
	экраны в
	ышел фил
	ьм Стэнл
	и Кубрика
	 «Сияние»
	\, поставл
	енный по рома
	ну Стивена К
	инга и с Джек
	ом Николсоном 
	в главной роли
	.1984В америка
	нский про
	кат вышел
	 второй фил
	ьм о прикл
	ючениях отчая
	нного археоло
	га Джонса «Инд
	иана Джонс и хр
	ам судьбы».1985
	 — в США же
	нщина\, проход
	ившая лечение
	 от бесплодия
	\, родила семь б
	лизнецов. Лишь
	 трое из ново
	рожденных ост
	ались в живых\,
	 но все имели 
	медицинские 
	отклонения о
	т нормы. Это 
	была одна из п
	ервых крупн
	ых неудач м
	етодики «р
	ебёнок из 
	пробирки
	».1992 — 
	подпи
	сан Л
	иссаб
	онский
	 протоко
	л о сокраще
	нии страте
	гических н
	аступател
	ьных воору
	жений стра
	н СНГ.1994
	 — фи
	льм Кв
	ентина 
	Тарант
	ино «Кримин
	альное чтиво
	» завоевал «Зол
	отую пальмовую
	 ветвь» в Каннах.1995 
	— компания «Sun» официальн
	о представила «Java» и «HotJava» на 
	выставке SunWorld '95.1
	997 — на экра
	ны США выше
	л фильм С
	тивена Сп
	илберга «
	Парк Юрско
	го периода 2: Затерянн
	ый мир» — продолжение «Парка Юрског
	о периода».
DTSTART;VALUE=DATE:20150522
END:VEVENT
END:VCALENDAR
