BEGIN:VCALENDAR
VERSION:2.0
PRODID:-//IP.Board Calendar 4.0.13.1//EN
METHOD:PUBLISH
CALSCALE:GREGORIAN
X-WR-CALNAME:В этот день в прошлом
BEGIN:VTIMEZONE
TZID:Europe/London
TZURL:http://tzurl.org/zoneinfo/Europe/London
X-LIC-LOCATION:Europe/London
BEGIN:DAYLIGHT
TZOFFSETFROM:+0000
TZOFFSETTO:+0100
TZNAME:BST
DTSTART:20150329T020000Z
RRULE:FREQ=YEARLY;BYMONTH=3;BYDAY=-1SU
END:DAYLIGHT
BEGIN:STANDARD
TZOFFSETFROM:+0100
TZOFFSETTO:+0000
TZNAME:GMT
DTSTART:20151025T020000Z
RRULE:FREQ=YEARLY;BYMONTH=10;BYDAY=-1SU
END:STANDARD
END:VTIMEZONE
BEGIN:VEVENT
SUMMARY:Развилки Дня
DTSTAMP:20150616T083245Z
SEQUENCE:0
UID:bdfc4020a6d9d66c6a227f88e2db6b12@172.17.0.3
ORGANIZER;CN="ясмин джакмич":fai@fai.org.ru
DESCRIPTION:\n16 июняДо XIX век
	а1633 — суд
	 инквизиции 
	вынес решен
	ие о наказан
	ии Галилео 
	Галилея за е
	ресь.1783 — н
	а западном
	 берегу Южн
	ой бухты зало
	жены первые к
	аменные пост
	ройки города
	 Ахтиар (Белый
	 утёс): дом для к
	омандующего Ч
	ерноморской эс
	кадрой Ф. Мекен
	зи\, часовня\
	, кузница и
	 деревянн
	ая приста
	нь. Руково
	дил строите
	льством нач
	альник штаб
	а-эскадры ф
	лаг-капитан 
	Д. Н. Сеняви
	н\, ставший 
	потом знам
	енитым фло
	товодцем. В
	 феврале
	 следующе
	го года городу
	-крепости буде
	т присвоено н
	овое имя — Се
	вастополь.XIX 
	век1815 — Н
	аполеон I Б
	онапарт о
	держал в б
	итве при Л
	иньи свою
	 последнюю 
	победу (над 
	прусско-сакс
	онской армией
	 генерал-фельдма
	ршалаГ. Л. Блюхе
	ра).1815 — сраже
	ние у Катр
	-Бра\, меж
	ду англ
	о-голл
	андско
	й арми
	ей под ко
	мандован
	ием Велл
	ингтона и ф
	ранцузскими в
	ойсками маршал
	а Нея\, в ходе 
	Ста дней Напол
	еона.1816 — пос
	ле вечера с 
	рассказами 
	о призраках
	\, проведё
	нного на 
	берегу Женев
	ского озера 
	в компании 
	Гордона Бай
	рона и Перси Б
	иши Шелли\, 19-л
	етней Мэри 
	Шелли приснил
	ся кошмар\, ко
	торый лёг в осн
	ову её романа
	 «Франкенште
	йн\, или Совр
	еменный Проме
	тей».1865 — вз
	ятие Ташкен
	та войсками
	 генерала Че
	рняева.187
	4 — отк
	рыта К
	авенди
	шская ф
	изическ
	ая лабор
	атория 
	при Кем
	бриджск
	ом универ
	ситете — о
	дин из миро
	вых центро
	в экспери
	ментальной
	 физики\, биолог
	ии и других фу
	ндаментальны
	х исследований.
	 Основана в 1871 г
	оду. Руководители
	 — Дж. Максвелл\, 
	Рэлей\, Дж. Томсон
	\, Э. Резерфорд\, У. Брэ
	гг и др. Здесь отк
	рыты электрон (1897 го
	д)\, искусственное расщеп
	ление атомного ядра (1919 
	год)\, нейтрон (1932 год)\,
	 построена модель стру
	ктуры ДНК(1953 год)\, со
	зданы камера Вильсона (191
	2 год)\, масс-спектрограф (1913 
	год)\, линейный ускор
	итель (1932 год).
	1894 — по ин
	ициативе 
	Пьера де 
	Кубертен
	а собирае
	тся конгр
	есс по вопро
	су об учрежд
	ении (возобн
	овлении провед
	ения) Олимпийских 
	игр.XX век[править | править вики-
	текст]1903Основана «The Ford M
	otor Company».В США
	 зарегис
	трирован
	а торгов
	ая марка
	 «Пепси-кола
	».Началас
	ь первая 
	арктиче
	ская экс
	педиция 
	Руаля Амун
	дсена.1907 —
	 Третьеию
	ньский государ
	ственный переворо
	т в России.1911 — 
	Основана корп
	орация IBM.191
	8 — в Советско
	й России офици
	ально восста
	новлена смер
	тная казнь.1
	919 — в г. Пре
	шове пров
	озглашен
	а Словацк
	ая Советск
	ая Республика
	.1920 — в Гааг
	е открылся м
	еждународны
	й трибунал Л
	иги Наций.1925 
	— в Гурзу
	фе (Крым) о
	ткрылся п
	ионерский 
	лагерь «Арт
	ек».1930 — 
	постано
	вление С
	овета На
	родных Ко
	миссаров СС
	СР о введени
	и декретног
	о времени (п
	оясное врем
	я плюс один 
	час) с целью
	 более рацио
	нального исп
	ользования с
	ветлой части с
	уток. Таким о
	бразом\, вре
	мя на терри
	тории часов
	ых поясов в
	 России отлич
	алось от всеми
	рного времени на номе
	р часового пояса (в ч
	асах) плюс один час 
	(с 1981 г. в летний 
	период — на два часа)
	 (постановление было
	 отменено в 1991 год
	у).1932 — в Г
	ермании
	 поднят в
	опрос о запр
	ещении нацистских
	 штурмовых отрядо
	в (действующих с а
	преля 1932 г.).
	1940 — со
	ветско
	е правитель
	ство заявило п
	равительства
	м Латвии и Эсто
	нии (а ещё ранее\
	, 14 июня\, и пр
	авительств
	у Литвы) о 
	грубых на
	рушениях 
	ими догов
	оров о вз
	аимопомощ
	и и потреб
	овало изме
	нения сос
	тава прав
	ительств 
	и допуска на
	 территори
	ю этих ст
	ран дополни
	тельных сов
	етских войск
	.1944 — Исландия
	 приняла конс
	титуцию.1959 — о
	ткрытие в Мос
	кве ВДНХ.1963 
	— стартова
	л «Восток-6» с 
	Валентиной Т
	ерешковой\, п
	ервой женщин
	ой-космонавт
	ом.1980 — пр
	и рассмот
	рении дела
	 «Даймонд» пр
	отив «Чакраба
	рти» Верховный 
	суд США принял р
	ешение о том\, ч
	то все микробы
	\, создаваемые пр
	и помощи генн
	ой инженерии\
	, могут быть
	 запатентова
	ны.1983 — Папа
	 Римский при
	был с офици
	альным ви
	зитом в П
	ольшу\, где 
	вёл перего
	воры с ген
	ералом Я
	рузельски
	м и Лехом 
	Валенсой.1
	983 — Ю. 
	В. Андропов
	 стал предс
	едателем Пре
	зидиума Верх
	овного Совет
	а СССР.1992 — в
	 России при
	нят закон «
	О реабилит
	ации казаче
	ства».1994 
	— Швец
	ия приня
	ла решение о стр
	оительстве моста и туннеля в Дани
	ю через пролив Эрсунн
DTSTART;VALUE=DATE:20150615
END:VEVENT
END:VCALENDAR
