BEGIN:VCALENDAR
VERSION:2.0
PRODID:-//IP.Board Calendar 4.0.13.1//EN
METHOD:PUBLISH
CALSCALE:GREGORIAN
X-WR-CALNAME:В этот день в прошлом
BEGIN:VTIMEZONE
TZID:Europe/London
TZURL:http://tzurl.org/zoneinfo/Europe/London
X-LIC-LOCATION:Europe/London
BEGIN:DAYLIGHT
TZOFFSETFROM:+0000
TZOFFSETTO:+0100
TZNAME:BST
DTSTART:20150329T020000Z
RRULE:FREQ=YEARLY;BYMONTH=3;BYDAY=-1SU
END:DAYLIGHT
BEGIN:STANDARD
TZOFFSETFROM:+0100
TZOFFSETTO:+0000
TZNAME:GMT
DTSTART:20151025T020000Z
RRULE:FREQ=YEARLY;BYMONTH=10;BYDAY=-1SU
END:STANDARD
END:VTIMEZONE
BEGIN:VEVENT
SUMMARY:Развилки Дня
DTSTAMP:20150617T074508Z
SEQUENCE:0
UID:868c23d80a2500f9406c3f4a993e0cb0@172.17.0.3
ORGANIZER;CN="ясмин джакмич":fai@fai.org.ru
DESCRIPTION:\n17 июняДо XIX 
	века1579 —
	 английс
	кий пира
	т Фрэнси
	с Дрейк 
	во время
	 кругосве
	тного пла
	вания выс
	адился в р
	айоне Сан
	-Франциско и о
	бъявил этот б
	ерег английс
	ким владение
	м («Новый Ал
	ьбион»).1789 
	— во Фра
	нции депу
	таты треть
	его сослов
	ия Генерал
	ьных штатов\
	, поддержан
	ные низшим
	и слоями д
	уховенства
	 и дворянст
	ва\, прово
	згласили
	 себя Нац
	иональны
	м собрани
	ем. После
	довавшая
	 попытка ра
	згона Национал
	ьного собрани
	я привела к н
	ародному во
	сстанию 13—14 и
	юля\, взятию Б
	астилиии по
	беде Француз
	ской революц
	ии.XIX век18
	56 — в Фи
	ладельф
	ии открыл
	ся первый съе
	зд республик
	анской партии
	 США.1863 — Сраже
	ние при Элди.186
	6 — началас
	ь Австро-пру
	сская война.1885 
	— в Нью-Йорк
	 на борту фр
	анцузского 
	парохода «I
	sere» при
	был дар
	 францу
	зского н
	арода С
	оединённы
	м Штатам 
	Америки —
	 статуя Свобо
	ды.1898 — Сенат
	 США согласи
	лся на аннексию
	 Гавайев.1899 — 
	спуск на во
	ду ледоко
	ла-парома 
	«Байкал».
	XX век1918 — 
	Саксони
	я предло
	жила Литве
	 создать е
	диное госу
	дарство.192
	5 — в Жене
	ве подписа
	н Протокол о 
	запрещении 
	применения н
	а войне ядовитых
	\, удушливых и 
	других подо
	бных газов 
	и биосредс
	тв.1930 — 
	с конвейе
	ра Сталинг
	радского т
	ракторного 
	завода сошё
	л первый тракт
	ор.1934 — перв
	ый испытатель
	ный полёт круп
	нейшего в то время
	 в мире самолёта
	 АНТ-20 («Макс
	им Горький»
	).1935 — после пер
	еформирования создана ам
	ериканская кинокомпания 
	«Paramount Pictures» (Парама
	унт Пикчерз
	 Корпорэйшен
	)1939 — во Фр
	анции в по
	следний ра
	з произошл
	а публичная к
	азнь на гильот
	ине (казнят сер
	ийного убийц
	у Эжена Вейдм
	ана).1940Любо
	пытный фе
	номен: У с
	ела Меще
	ры Горьковск
	ой (Нижегородской)
	 области выпал дож
	дь из серебряных м
	онет XVI—XVII вв
	. (всего окол
	о тысячи шту
	к).В Латвию
	 и Эстонию
	 введены с
	оветские в
	ойска.1941
	 — от
	дан пр
	иказ 
	верх
	овног
	о гла
	внок
	оман
	дова
	ния в
	ооружён
	ных сил Ге
	рмании начат
	ь осуществле
	ние плана «
	Барбаросса»
	 с утра 22 и
	юня.1944 — 
	в резу
	льтат
	е реф
	еренд
	ума р
	асторгнут
	а датско-и
	сландская
	 уния\, Исл
	андия провозг
	лашена республикой.1950 — 
	чикагский хирург Ричард Лоу
	лер (Richard Lawler) за 45 
	минут выпо
	лнил первую опе
	рацию по пересадке п
	очки человеку.1953 — с
	обытия 17 июня 1953 
	года в ГДР.1
	955 — состоялся 
	первый полёт пас
	сажирского реактивного самолёт
	а Ту-104.1970 - Эдвин Лэнд (Edwin Herbe
	rt Land) запатентовал каме
	ру «Polaroid».1972 
	— америка
	нская поли
	ция прове
	ла арест 
	пяти зло
	умышлен
	ников\, к
	оторые 
	устана
	вливали
	 электрон
	ные подс
	лушивающ
	ие устрой
	ства в штаб
	е Демокра
	тической 
	партии в го
	стиничном 
	комплексе «
	Уотергейт»\, «
	Вашингтон». 
	Скандал\, кото
	рый разразилс
	я вслед за эт
	им\,  получивш
	ий название в 
	честь отеля и
	 подаривший ан
	глийскому язы
	ку \"скандальн
	ое\" окончан
	ие (Иранге
	йт\, Клин
	тонгейт) п
	оложил кон
	ец политиче
	ской карьер
	е президент
	а Ричарда Никсо
	на.1976 — прошли 
	первые испытан
	ия водородной б
	омбы в КНР.198
	2В выступл
	ении на Генерально
	й Ассамблее ООН президе
	нт США Рональд Рейган (
	Ronald Reagan) назвал СССР им
	перией зла.Пер
	вый полёт вертолёта Ка-
	50.1985 — появилась кабел
	ьная телесеть «Discov
	ery».1991В Южно
	й Африке от
	менён Закон
	 о регистра
	ции новоро
	ждённых п
	о расовом
	у признаку
	\, что фак
	тически
	 означал
	о упразд
	нение ап
	артеида в 
	этой стра
	не.На зак
	рытом за
	седании В
	ерховного
	 Совета СС
	СР глава 
	КГБ Крючков 
	заявил о существовании в стране масс
	ы «агентов влияния» ЦРУ.
DTSTART;VALUE=DATE:20150616
END:VEVENT
END:VCALENDAR
