BEGIN:VCALENDAR
VERSION:2.0
PRODID:-//IP.Board Calendar 4.0.13.1//EN
METHOD:PUBLISH
CALSCALE:GREGORIAN
X-WR-CALNAME:В этот день в прошлом
BEGIN:VTIMEZONE
TZID:Europe/London
TZURL:http://tzurl.org/zoneinfo/Europe/London
X-LIC-LOCATION:Europe/London
BEGIN:DAYLIGHT
TZOFFSETFROM:+0000
TZOFFSETTO:+0100
TZNAME:BST
DTSTART:20150329T020000Z
RRULE:FREQ=YEARLY;BYMONTH=3;BYDAY=-1SU
END:DAYLIGHT
BEGIN:STANDARD
TZOFFSETFROM:+0100
TZOFFSETTO:+0000
TZNAME:GMT
DTSTART:20151025T020000Z
RRULE:FREQ=YEARLY;BYMONTH=10;BYDAY=-1SU
END:STANDARD
END:VTIMEZONE
BEGIN:VEVENT
SUMMARY:Развилки Дня
DTSTAMP:20150618T100206Z
SEQUENCE:0
UID:3ab5154818ed76eae87b192ae19ef2f7@172.17.0.3
ORGANIZER;CN="ясмин джакмич":fai@fai.org.ru
DESCRIPTION:\n18 июняДо XIX век
	а1429 — битва пр
	и Пате\, пере
	ломный моме
	нт Столетне
	й войны.1583
	 — перво
	е страхов
	ание жизни
	. В Лондоне Ри
	чард Мартин застр
	аховал жизнь Уил
	ьяма Гиббсона н
	а сумму 383 фун
	та.1761 — в Ро
	ссийской и
	мперии учр
	еждаются пенс
	ии за службу.
	1799 — русск
	ая армия А
	лександра 
	Суворова\
	, соверша
	я неожид
	анный пе
	реход че
	рез Альпы\
	, разбивает ф
	ранцузскую а
	рмию на реке 
	Треббия(Северная 
	Италия).XIX век
	[править |
	 править в
	ики-текст
	]1807 — 
	Сост
	ояло
	сь А
	рпача
	йское
	 сраж
	ение 
	между в
	ойском т
	урецког
	о визиря
	 Юсуфа-па
	ши и Рус
	ской имп
	ераторс
	кой арми
	ей.1812 — С
	оединённ
	ые штаты
	 Америки 
	объявили 
	войну Вели
	кобритании.181
	5 — пораже
	ние армии Н
	аполеона I в
	 битве при Ва
	терлоо.1837 
	— Испания
	 приняла нов
	ую Конституц
	ию.1881 — возо
	бновление «
	Союза трёх и
	мператоров»
	. Императоры Ге
	рмании\, Австр
	ии и России 
	подписали т
	айное согла
	шение\, по к
	оторому ч
	лены союза
	 обязывали
	сь не оказы
	вать поддер
	жки ни одному г
	осударству при ег
	о нападении на о
	дного из членов 
	союза.XX век19
	03 — в Сан-
	Франциско
	 был дан ст
	арт первому
	 автопробе
	гу через ко
	нтинент. Его у
	частники спу
	стя три месяца
	 финишировал
	и в Нью-Йорк
	е.1918 — в
	 Новор
	оссий
	ской 
	бухт
	е по
	д ру
	ковод
	ством 
	Фёдора 
	Расколь
	никова з
	атоплены 
	корабли Ч
	ерноморского ф
	лота\, чтобы 
	не отдават
	ь их по ус
	ловиям Бр
	естского 
	мира.193
	2 — Социа
	листическа
	я республик
	а Чили прекрати
	ла своё существов
	ание.1937 — экипаж
	 самолёта «АНТ-
	25» (Валерий Ч
	калов\, Гео
	ргий Байду
	ков\, Алек
	сандр Бел
	яков) на
	чал беспо
	садочный 
	перелёт по 
	маршруту Мос
	ква — Северны
	й полюс — США\
	, успешно заве
	ршив его 20 и
	юня призе
	млением н
	а аэродром
	е города Ва
	нкувер.1940 — Во
	ззвание Генерала 
	де Голля из Лонд
	она (на волнах BB
	C) к Сопротивл
	ению.1945в Л
	енинград
	е вышел 
	на марш
	рут пер
	вый по
	сле бл
	окады
	 трол
	лейб
	ус.фр
	анцу
	зский
	 авиа
	полк 
	«Норм
	андия
	-Неман
	» выл
	етел из
	 СССР во 
	Францию н
	а подарен
	ных сове
	тским прав
	ительством с
	амолётах.194
	6 — провозг
	лашение Ит
	алии Респуб
	ликой.1956 —
	 в совет
	ских ву
	зах в 
	качес
	тве о
	бязател
	ьных дисц
	иплин вве
	дены диал
	ектический
	 материализ
	м и история К
	ПСС.1959впервы
	е передана
	 телевизио
	нная перед
	ача из Анг
	лии в США
	.запуск
	 ракеты-н
	осителя «В
	осток-Л» с
	 советской
	 автоматиче
	ской станц
	ией «Луна-
	2А».1979 —
	 СССР
	 и США под
	писали догово
	р об ограниче
	нии стратегич
	еских вооружени
	й ОСВ-2.1995 — 
	В програ
	мме Перв
	ого кана
	ла «Один
	 на один
	» с Ал
	ександ
	ром Лю
	бимов
	ым Вл
	адимир
	 Жириновский 
	во время дебатов облил Бориса Немцова 
	апельсиновым соком. 
DTSTART;VALUE=DATE:20150617
END:VEVENT
END:VCALENDAR
